BEGIN:VCALENDAR
VERSION:2.0
PRODID:-//Reena Senior Living - ECPv6.11.2.1//NONSGML v1.0//EN
CALSCALE:GREGORIAN
METHOD:PUBLISH
X-ORIGINAL-URL:https://reenaseniorliving.com
X-WR-CALDESC:Events for Reena Senior Living
REFRESH-INTERVAL;VALUE=DURATION:PT1H
X-Robots-Tag:noindex
X-PUBLISHED-TTL:PT1H
BEGIN:VTIMEZONE
TZID:America/Chicago
BEGIN:DAYLIGHT
TZOFFSETFROM:-0600
TZOFFSETTO:-0500
TZNAME:CDT
DTSTART:20250309T080000
END:DAYLIGHT
BEGIN:STANDARD
TZOFFSETFROM:-0500
TZOFFSETTO:-0600
TZNAME:CST
DTSTART:20251102T070000
END:STANDARD
END:VTIMEZONE
BEGIN:VEVENT
DTSTART;TZID=America/Chicago:20251201T091500
DTEND;TZID=America/Chicago:20251201T094500
DTSTAMP:20260421T074554
CREATED:20251102T090410Z
LAST-MODIFIED:20251201T030402Z
UID:10002945-1764580500-1764582300@reenaseniorliving.com
SUMMARY:Movement with Kayla
DESCRIPTION:
URL:https://reenaseniorliving.com/event-calendar/movement-with-kayla-13/
LOCATION:Activity Room
CATEGORIES:Assisted Living
END:VEVENT
BEGIN:VEVENT
DTSTART;TZID=America/Chicago:20251201T100000
DTEND;TZID=America/Chicago:20251201T110000
DTSTAMP:20260421T074554
CREATED:20251113T091905Z
LAST-MODIFIED:20251201T030402Z
UID:10003190-1764583200-1764586800@reenaseniorliving.com
SUMMARY:Ornament Dipping for Memorial Service
DESCRIPTION:
URL:https://reenaseniorliving.com/event-calendar/ornament-dipping-for-memorial-service/
LOCATION:Activity Room
CATEGORIES:Assisted Living
END:VEVENT
BEGIN:VEVENT
DTSTART;TZID=America/Chicago:20251201T124500
DTEND;TZID=America/Chicago:20251201T143000
DTSTAMP:20260421T074554
CREATED:20251119T091902Z
LAST-MODIFIED:20251201T030402Z
UID:10003260-1764593100-1764599400@reenaseniorliving.com
SUMMARY:Dollar Tree Shopping - Sign-up
DESCRIPTION:
URL:https://reenaseniorliving.com/event-calendar/dollar-tree-shopping-sign-up/
LOCATION:Bus Trip
CATEGORIES:Assisted Living
END:VEVENT
BEGIN:VEVENT
DTSTART;TZID=America/Chicago:20251201T130000
DTEND;TZID=America/Chicago:20251201T140000
DTSTAMP:20260421T074554
CREATED:20251102T090410Z
LAST-MODIFIED:20251118T091924Z
UID:10002946-1764594000-1764597600@reenaseniorliving.com
SUMMARY:Bingo
DESCRIPTION:
URL:https://reenaseniorliving.com/event-calendar/bingo-58/
LOCATION:Activity Room
CATEGORIES:Assisted Living
END:VEVENT
BEGIN:VEVENT
DTSTART;TZID=America/Chicago:20251201T173000
DTEND;TZID=America/Chicago:20251201T193000
DTSTAMP:20260421T074554
CREATED:20251102T090410Z
LAST-MODIFIED:20251202T010407Z
UID:10002947-1764610200-1764617400@reenaseniorliving.com
SUMMARY:Resident Run Social Time - Balcony\, Activity Room or Pub.
DESCRIPTION:
URL:https://reenaseniorliving.com/event-calendar/resident-run-social-time-balcony-activity-room-or-pub-43/
LOCATION:Library
CATEGORIES:Assisted Living
END:VEVENT
END:VCALENDAR