BEGIN:VCALENDAR
VERSION:2.0
PRODID:-//Reena Senior Living - ECPv6.11.2.1//NONSGML v1.0//EN
CALSCALE:GREGORIAN
METHOD:PUBLISH
X-WR-CALNAME:Reena Senior Living
X-ORIGINAL-URL:https://reenaseniorliving.com
X-WR-CALDESC:Events for Reena Senior Living
REFRESH-INTERVAL;VALUE=DURATION:PT1H
X-Robots-Tag:noindex
X-PUBLISHED-TTL:PT1H
BEGIN:VTIMEZONE
TZID:America/Chicago
BEGIN:DAYLIGHT
TZOFFSETFROM:-0600
TZOFFSETTO:-0500
TZNAME:CDT
DTSTART:20250309T080000
END:DAYLIGHT
BEGIN:STANDARD
TZOFFSETFROM:-0500
TZOFFSETTO:-0600
TZNAME:CST
DTSTART:20251102T070000
END:STANDARD
END:VTIMEZONE
BEGIN:VEVENT
DTSTART;TZID=America/Chicago:20251202T091500
DTEND;TZID=America/Chicago:20251202T094500
DTSTAMP:20260421T074351
CREATED:20251103T090407Z
LAST-MODIFIED:20251202T023534Z
UID:10003025-1764666900-1764668700@reenaseniorliving.com
SUMMARY:Movement Class with Kayla
DESCRIPTION:
URL:https://reenaseniorliving.com/event-calendar/movement-class-with-kayla-95/
LOCATION:Activity Room
CATEGORIES:Assisted Living
END:VEVENT
BEGIN:VEVENT
DTSTART;TZID=America/Chicago:20251202T095000
DTEND;TZID=America/Chicago:20251202T100500
DTSTAMP:20260421T074351
CREATED:20251104T091910Z
LAST-MODIFIED:20251202T023534Z
UID:10003059-1764669000-1764669900@reenaseniorliving.com
SUMMARY:Balance Training on Main Floor - Hallway
DESCRIPTION:
URL:https://reenaseniorliving.com/event-calendar/balance-training-on-main-floor-hallway-2/
CATEGORIES:Assisted Living
END:VEVENT
BEGIN:VEVENT
DTSTART;TZID=America/Chicago:20251202T121500
DTEND;TZID=America/Chicago:20251202T130000
DTSTAMP:20260421T074351
CREATED:20251103T090407Z
LAST-MODIFIED:20251202T023534Z
UID:10003026-1764677700-1764680400@reenaseniorliving.com
SUMMARY:Librarian Visit with Deb (Second Floor - Library)
DESCRIPTION:
URL:https://reenaseniorliving.com/event-calendar/librarian-visit-with-deb-second-floor-library-3/
LOCATION:Library
CATEGORIES:Assisted Living
END:VEVENT
BEGIN:VEVENT
DTSTART;TZID=America/Chicago:20251202T130000
DTEND;TZID=America/Chicago:20251202T134000
DTSTAMP:20260421T074351
CREATED:20251103T090407Z
LAST-MODIFIED:20251112T091903Z
UID:10003027-1764680400-1764682800@reenaseniorliving.com
SUMMARY:Deep Dive with Dr. Bill: Mastering the 3D's
DESCRIPTION:
URL:https://reenaseniorliving.com/event-calendar/deep-dive-with-dr-bill-mastering-the-3ds/
LOCATION:Activity Room
CATEGORIES:Assisted Living
END:VEVENT
BEGIN:VEVENT
DTSTART;TZID=America/Chicago:20251202T173000
DTEND;TZID=America/Chicago:20251202T193000
DTSTAMP:20260421T074351
CREATED:20251103T090407Z
LAST-MODIFIED:20251203T004955Z
UID:10003028-1764696600-1764703800@reenaseniorliving.com
SUMMARY:Resident Run Social Time - Balcony\, Activity Room or Pub.
DESCRIPTION:
URL:https://reenaseniorliving.com/event-calendar/resident-run-social-time-balcony-activity-room-or-pub-44/
LOCATION:Library
CATEGORIES:Assisted Living
END:VEVENT
END:VCALENDAR