BEGIN:VCALENDAR
VERSION:2.0
PRODID:-//Reena Senior Living - ECPv6.11.2.1//NONSGML v1.0//EN
CALSCALE:GREGORIAN
METHOD:PUBLISH
X-WR-CALNAME:Reena Senior Living
X-ORIGINAL-URL:https://reenaseniorliving.com
X-WR-CALDESC:Events for Reena Senior Living
REFRESH-INTERVAL;VALUE=DURATION:PT1H
X-Robots-Tag:noindex
X-PUBLISHED-TTL:PT1H
BEGIN:VTIMEZONE
TZID:America/Chicago
BEGIN:DAYLIGHT
TZOFFSETFROM:-0600
TZOFFSETTO:-0500
TZNAME:CDT
DTSTART:20250309T080000
END:DAYLIGHT
BEGIN:STANDARD
TZOFFSETFROM:-0500
TZOFFSETTO:-0600
TZNAME:CST
DTSTART:20251102T070000
END:STANDARD
END:VTIMEZONE
BEGIN:VEVENT
DTSTART;TZID=America/Chicago:20251203T091500
DTEND;TZID=America/Chicago:20251203T094500
DTSTAMP:20260421T074420
CREATED:20251104T091910Z
LAST-MODIFIED:20251203T031909Z
UID:10003060-1764753300-1764755100@reenaseniorliving.com
SUMMARY:Movement Class with Kayla
DESCRIPTION:
URL:https://reenaseniorliving.com/event-calendar/movement-class-with-kayla-96/
LOCATION:Activity Room
CATEGORIES:Assisted Living
END:VEVENT
BEGIN:VEVENT
DTSTART;TZID=America/Chicago:20251203T100000
DTEND;TZID=America/Chicago:20251203T101500
DTSTAMP:20260421T074420
CREATED:20251104T071915Z
LAST-MODIFIED:20251126T093409Z
UID:10003036-1764756000-1764756900@reenaseniorliving.com
SUMMARY:Sing along before Catholic Service.
DESCRIPTION:We will assist you to go next door.
URL:https://reenaseniorliving.com/event-calendar/sing-along-before-catholic-service-27/
LOCATION:Legacy Court
CATEGORIES:Assisted Living,Legacy Court
END:VEVENT
BEGIN:VEVENT
DTSTART;TZID=America/Chicago:20251203T101500
DTEND;TZID=America/Chicago:20251203T111500
DTSTAMP:20260421T074420
CREATED:20251104T071915Z
LAST-MODIFIED:20251203T031909Z
UID:10003037-1764756900-1764760500@reenaseniorliving.com
SUMMARY:Catholic Service at Legacy Court
DESCRIPTION:
URL:https://reenaseniorliving.com/event-calendar/catholic-service-at-legacy-court-4/
LOCATION:Legacy Court
CATEGORIES:Assisted Living,Legacy Court
END:VEVENT
BEGIN:VEVENT
DTSTART;TZID=America/Chicago:20251203T121500
DTEND;TZID=America/Chicago:20251203T130000
DTSTAMP:20260421T074420
CREATED:20251104T091911Z
LAST-MODIFIED:20251112T091903Z
UID:10003061-1764764100-1764766800@reenaseniorliving.com
SUMMARY:Resident Council
DESCRIPTION:
URL:https://reenaseniorliving.com/event-calendar/resident-council-7/
LOCATION:Activity Room
CATEGORIES:Assisted Living
END:VEVENT
BEGIN:VEVENT
DTSTART;TZID=America/Chicago:20251203T125000
DTEND;TZID=America/Chicago:20251203T135000
DTSTAMP:20260421T074420
CREATED:20251104T091911Z
LAST-MODIFIED:20251203T031909Z
UID:10003062-1764766200-1764769800@reenaseniorliving.com
SUMMARY:Spark Challenge Day - Arm Bike - Last Match of Regular Season
DESCRIPTION:
URL:https://reenaseniorliving.com/event-calendar/spark-challenge-day-2/
LOCATION:Activity Room
CATEGORIES:Assisted Living
END:VEVENT
BEGIN:VEVENT
DTSTART;TZID=America/Chicago:20251203T173000
DTEND;TZID=America/Chicago:20251203T193000
DTSTAMP:20260421T074420
CREATED:20251104T091911Z
LAST-MODIFIED:20251204T011953Z
UID:10003063-1764783000-1764790200@reenaseniorliving.com
SUMMARY:Resident Run Social Time - Balcony\, Activity Room or Pub.
DESCRIPTION:
URL:https://reenaseniorliving.com/event-calendar/resident-run-social-time-balcony-activity-room-or-pub-45/
LOCATION:Library
CATEGORIES:Assisted Living
END:VEVENT
END:VCALENDAR