BEGIN:VCALENDAR
VERSION:2.0
PRODID:-//Reena Senior Living - ECPv6.11.2.1//NONSGML v1.0//EN
CALSCALE:GREGORIAN
METHOD:PUBLISH
X-ORIGINAL-URL:https://reenaseniorliving.com
X-WR-CALDESC:Events for Reena Senior Living
REFRESH-INTERVAL;VALUE=DURATION:PT1H
X-Robots-Tag:noindex
X-PUBLISHED-TTL:PT1H
BEGIN:VTIMEZONE
TZID:America/Chicago
BEGIN:DAYLIGHT
TZOFFSETFROM:-0600
TZOFFSETTO:-0500
TZNAME:CDT
DTSTART:20250309T080000
END:DAYLIGHT
BEGIN:STANDARD
TZOFFSETFROM:-0500
TZOFFSETTO:-0600
TZNAME:CST
DTSTART:20251102T070000
END:STANDARD
END:VTIMEZONE
BEGIN:VEVENT
DTSTART;TZID=America/Chicago:20251229T091500
DTEND;TZID=America/Chicago:20251229T094500
DTSTAMP:20260421T063127
CREATED:20251130T000624Z
LAST-MODIFIED:20251229T011901Z
UID:10003391-1766999700-1767001500@reenaseniorliving.com
SUMMARY:Movement with Kayla (AR)
DESCRIPTION:
URL:https://reenaseniorliving.com/event-calendar/movement-with-kayla-18/
LOCATION:Activity Room
CATEGORIES:Assisted Living
END:VEVENT
BEGIN:VEVENT
DTSTART;TZID=America/Chicago:20251229T095000
DTEND;TZID=America/Chicago:20251229T102500
DTSTAMP:20260421T063127
CREATED:20251215T003413Z
LAST-MODIFIED:20251229T011901Z
UID:10003576-1767001800-1767003900@reenaseniorliving.com
SUMMARY:Biking Class - Introduction & Interval Training - Leave feeling refreshed and invigorated!
DESCRIPTION:
URL:https://reenaseniorliving.com/event-calendar/biking-class-introduction-interval-training-leave-feeling-refreshed-and-invigorated-2/
LOCATION:Exercise Room Basement
CATEGORIES:Assisted Living
END:VEVENT
BEGIN:VEVENT
DTSTART;TZID=America/Chicago:20251229T100000
DTEND;TZID=America/Chicago:20251229T111500
DTSTAMP:20260421T063127
CREATED:20251130T000625Z
LAST-MODIFIED:20251229T011901Z
UID:10003392-1767002400-1767006900@reenaseniorliving.com
SUMMARY:Travelogue - Antarctica with Ken & Pat - Let's explore the bottom of the world together.
DESCRIPTION:
URL:https://reenaseniorliving.com/event-calendar/travelogue/
LOCATION:Theatre
CATEGORIES:Assisted Living
END:VEVENT
BEGIN:VEVENT
DTSTART;TZID=America/Chicago:20251229T130000
DTEND;TZID=America/Chicago:20251229T140000
DTSTAMP:20260421T063128
CREATED:20251130T000625Z
LAST-MODIFIED:20251210T003412Z
UID:10003393-1767013200-1767016800@reenaseniorliving.com
SUMMARY:Bingo
DESCRIPTION:
URL:https://reenaseniorliving.com/event-calendar/bingo-67/
LOCATION:Activity Room
CATEGORIES:Assisted Living
END:VEVENT
BEGIN:VEVENT
DTSTART;TZID=America/Chicago:20251229T130000
DTEND;TZID=America/Chicago:20251229T141500
DTSTAMP:20260421T063128
CREATED:20251213T003403Z
LAST-MODIFIED:20251229T011901Z
UID:10003548-1767013200-1767017700@reenaseniorliving.com
SUMMARY:Men's Social Hour. Beverage & Snack with The Blue Angels 2024- Action Documentary
DESCRIPTION:
URL:https://reenaseniorliving.com/event-calendar/mens-social-hour-beverage-and-then-nature/
LOCATION:Theatre
CATEGORIES:Assisted Living
END:VEVENT
BEGIN:VEVENT
DTSTART;TZID=America/Chicago:20251229T173000
DTEND;TZID=America/Chicago:20251229T193000
DTSTAMP:20260421T063128
CREATED:20251130T000625Z
LAST-MODIFIED:20251230T011901Z
UID:10003394-1767029400-1767036600@reenaseniorliving.com
SUMMARY:Resident Run Social Time in any Public Space.
DESCRIPTION:
URL:https://reenaseniorliving.com/event-calendar/resident-run-social-time-balcony-activity-room-or-pub-70/
LOCATION:Library
CATEGORIES:Assisted Living
END:VEVENT
END:VCALENDAR