BEGIN:VCALENDAR
VERSION:2.0
PRODID:-//Reena Senior Living - ECPv6.11.2.1//NONSGML v1.0//EN
CALSCALE:GREGORIAN
METHOD:PUBLISH
X-ORIGINAL-URL:https://reenaseniorliving.com
X-WR-CALDESC:Events for Reena Senior Living
REFRESH-INTERVAL;VALUE=DURATION:PT1H
X-Robots-Tag:noindex
X-PUBLISHED-TTL:PT1H
BEGIN:VTIMEZONE
TZID:America/Chicago
BEGIN:DAYLIGHT
TZOFFSETFROM:-0600
TZOFFSETTO:-0500
TZNAME:CDT
DTSTART:20260308T080000
END:DAYLIGHT
BEGIN:STANDARD
TZOFFSETFROM:-0500
TZOFFSETTO:-0600
TZNAME:CST
DTSTART:20261101T070000
END:STANDARD
END:VTIMEZONE
BEGIN:VEVENT
DTSTART;TZID=America/Chicago:20260107T091500
DTEND;TZID=America/Chicago:20260107T094500
DTSTAMP:20260421T063013
CREATED:20251209T003409Z
LAST-MODIFIED:20260107T014932Z
UID:10003501-1767777300-1767779100@reenaseniorliving.com
SUMMARY:Movement Class with Kayla
DESCRIPTION:
URL:https://reenaseniorliving.com/event-calendar/movement-class-with-kayla-117/
LOCATION:Activity Room
CATEGORIES:Assisted Living
END:VEVENT
BEGIN:VEVENT
DTSTART;TZID=America/Chicago:20260107T094500
DTEND;TZID=America/Chicago:20260107T100500
DTSTAMP:20260421T063013
CREATED:20251215T003414Z
LAST-MODIFIED:20260107T014933Z
UID:10003579-1767779100-1767780300@reenaseniorliving.com
SUMMARY:Wellness Walking Group - Self-Paced - Guided by Community Life & Wellness Team
DESCRIPTION:
URL:https://reenaseniorliving.com/event-calendar/winter-walking-group-self-paced-yet-guided-by-community-life-wellness-team-3/
LOCATION:Activity Room
CATEGORIES:Assisted Living
END:VEVENT
BEGIN:VEVENT
DTSTART;TZID=America/Chicago:20260107T100000
DTEND;TZID=America/Chicago:20260107T101500
DTSTAMP:20260421T063013
CREATED:20251209T003409Z
LAST-MODIFIED:20251224T020409Z
UID:10003502-1767780000-1767780900@reenaseniorliving.com
SUMMARY:Sing along before Catholic Service.
DESCRIPTION:We will assist you to go next door.
URL:https://reenaseniorliving.com/event-calendar/sing-along-before-catholic-service-32/
LOCATION:Legacy Court
CATEGORIES:Assisted Living,Legacy Court
END:VEVENT
BEGIN:VEVENT
DTSTART;TZID=America/Chicago:20260107T101500
DTEND;TZID=America/Chicago:20260107T111500
DTSTAMP:20260421T063013
CREATED:20251209T003409Z
LAST-MODIFIED:20260107T030402Z
UID:10003503-1767780900-1767784500@reenaseniorliving.com
SUMMARY:Catholic Service at Legacy Court
DESCRIPTION:
URL:https://reenaseniorliving.com/event-calendar/catholic-service-at-legacy-court-9/
LOCATION:Legacy Court
CATEGORIES:Assisted Living,Legacy Court
END:VEVENT
BEGIN:VEVENT
DTSTART;TZID=America/Chicago:20260107T121500
DTEND;TZID=America/Chicago:20260107T130000
DTSTAMP:20260421T063013
CREATED:20251209T003409Z
LAST-MODIFIED:20260107T014933Z
UID:10003504-1767788100-1767790800@reenaseniorliving.com
SUMMARY:Resident Council
DESCRIPTION:
URL:https://reenaseniorliving.com/event-calendar/resident-council-9/
LOCATION:Activity Room
CATEGORIES:Assisted Living
END:VEVENT
BEGIN:VEVENT
DTSTART;TZID=America/Chicago:20260107T143000
DTEND;TZID=America/Chicago:20260107T151500
DTSTAMP:20260421T063014
CREATED:20260101T013407Z
LAST-MODIFIED:20260107T014933Z
UID:10003850-1767796200-1767798900@reenaseniorliving.com
SUMMARY:Annual Memorial Service - For Those We've Lost This Year.
DESCRIPTION:
URL:https://reenaseniorliving.com/event-calendar/annual-memorial-service-for-those-weve-lost-this-year/
LOCATION:Activity Room
CATEGORIES:Assisted Living
END:VEVENT
BEGIN:VEVENT
DTSTART;TZID=America/Chicago:20260107T173000
DTEND;TZID=America/Chicago:20260107T193000
DTSTAMP:20260421T063014
CREATED:20251209T003409Z
LAST-MODIFIED:20260107T014933Z
UID:10003505-1767807000-1767814200@reenaseniorliving.com
SUMMARY:Resident Run Social Time in any Public Space.
DESCRIPTION:
URL:https://reenaseniorliving.com/event-calendar/resident-run-social-time-balcony-activity-room-or-pub-79/
LOCATION:Library
CATEGORIES:Assisted Living
END:VEVENT
END:VCALENDAR