BEGIN:VCALENDAR
VERSION:2.0
PRODID:-//Reena Senior Living - ECPv6.11.2.1//NONSGML v1.0//EN
CALSCALE:GREGORIAN
METHOD:PUBLISH
X-WR-CALNAME:Reena Senior Living
X-ORIGINAL-URL:https://reenaseniorliving.com
X-WR-CALDESC:Events for Reena Senior Living
REFRESH-INTERVAL;VALUE=DURATION:PT1H
X-Robots-Tag:noindex
X-PUBLISHED-TTL:PT1H
BEGIN:VTIMEZONE
TZID:America/Chicago
BEGIN:DAYLIGHT
TZOFFSETFROM:-0600
TZOFFSETTO:-0500
TZNAME:CDT
DTSTART:20260308T080000
END:DAYLIGHT
BEGIN:STANDARD
TZOFFSETFROM:-0500
TZOFFSETTO:-0600
TZNAME:CST
DTSTART:20261101T070000
END:STANDARD
END:VTIMEZONE
BEGIN:VEVENT
DTSTART;TZID=America/Chicago:20260108T091500
DTEND;TZID=America/Chicago:20260108T094500
DTSTAMP:20260421T062829
CREATED:20251210T003414Z
LAST-MODIFIED:20260108T014932Z
UID:10003520-1767863700-1767865500@reenaseniorliving.com
SUMMARY:Movement Class with Kayla
DESCRIPTION:Gentle Movement\, Strength\, Mobility\, Balance\, & More.
URL:https://reenaseniorliving.com/event-calendar/movement-class-with-kayla-118/
LOCATION:Activity Room
CATEGORIES:Assisted Living
END:VEVENT
BEGIN:VEVENT
DTSTART;TZID=America/Chicago:20260108T095000
DTEND;TZID=America/Chicago:20260108T100000
DTSTAMP:20260421T062829
CREATED:20251210T003414Z
LAST-MODIFIED:20251226T010409Z
UID:10003521-1767865800-1767866400@reenaseniorliving.com
SUMMARY:Balance Training - Fall Prevention & Building Strength - Main Floor Hallway
DESCRIPTION:
URL:https://reenaseniorliving.com/event-calendar/balance-training-fall-prevention-building-strength-main-floor-hallway-6/
CATEGORIES:Assisted Living
END:VEVENT
BEGIN:VEVENT
DTSTART;TZID=America/Chicago:20260108T095000
DTEND;TZID=America/Chicago:20260108T102500
DTSTAMP:20260421T062829
CREATED:20251227T010408Z
LAST-MODIFIED:20260108T014932Z
UID:10003742-1767865800-1767867900@reenaseniorliving.com
SUMMARY:Biking & Balance - A few minutes of each. For strength\, balance\, and fall prevention.
DESCRIPTION:
URL:https://reenaseniorliving.com/event-calendar/biking-balance-a-few-minutes-of-each-for-strength-balance-and-fall-prevention/
LOCATION:Exercise Room Basement
CATEGORIES:Assisted Living
END:VEVENT
BEGIN:VEVENT
DTSTART;TZID=America/Chicago:20260108T123000
DTEND;TZID=America/Chicago:20260108T133000
DTSTAMP:20260421T062829
CREATED:20260103T013417Z
LAST-MODIFIED:20260108T014932Z
UID:10003863-1767875400-1767879000@reenaseniorliving.com
SUMMARY:Vocational Project: Let's paint a game to enhance contrast for all people.
DESCRIPTION:
URL:https://reenaseniorliving.com/event-calendar/vocational-project-lets-paint-a-game-to-enhance-contrast-for-all-people/
LOCATION:Activity Room
CATEGORIES:Assisted Living
END:VEVENT
BEGIN:VEVENT
DTSTART;TZID=America/Chicago:20260108T130000
DTEND;TZID=America/Chicago:20260108T140000
DTSTAMP:20260421T062829
CREATED:20251227T010408Z
LAST-MODIFIED:20260108T014932Z
UID:10003743-1767877200-1767880800@reenaseniorliving.com
SUMMARY:Winter TRYathlon Meeting via Zoom
DESCRIPTION:
URL:https://reenaseniorliving.com/event-calendar/winter-tryathlon-meeting-via-zoom/
LOCATION:Activity Room
CATEGORIES:Assisted Living
END:VEVENT
BEGIN:VEVENT
DTSTART;TZID=America/Chicago:20260108T171500
DTEND;TZID=America/Chicago:20260108T190000
DTSTAMP:20260421T062829
CREATED:20251210T003414Z
LAST-MODIFIED:20251226T010409Z
UID:10003522-1767892500-1767898800@reenaseniorliving.com
SUMMARY:Hand & Foot Cards & Trouble the Board Game.
DESCRIPTION:
URL:https://reenaseniorliving.com/event-calendar/hand-foot-cards-trouble-the-board-game-8/
LOCATION:Activity Room
CATEGORIES:Assisted Living
END:VEVENT
BEGIN:VEVENT
DTSTART;TZID=America/Chicago:20260108T173000
DTEND;TZID=America/Chicago:20260108T193000
DTSTAMP:20260421T062829
CREATED:20251210T003414Z
LAST-MODIFIED:20251226T010409Z
UID:10003523-1767893400-1767900600@reenaseniorliving.com
SUMMARY:Resident Run Social Time in any Public Space.
DESCRIPTION:
URL:https://reenaseniorliving.com/event-calendar/resident-run-social-time-balcony-activity-room-or-pub-80/
LOCATION:Library
CATEGORIES:Assisted Living
END:VEVENT
BEGIN:VEVENT
DTSTART;TZID=America/Chicago:20260108T174500
DTEND;TZID=America/Chicago:20260108T183000
DTSTAMP:20260421T062829
CREATED:20251227T010408Z
LAST-MODIFIED:20260108T014932Z
UID:10003744-1767894300-1767897000@reenaseniorliving.com
SUMMARY:Nails with Kayla
DESCRIPTION:
URL:https://reenaseniorliving.com/event-calendar/bingo-with-kayla/
LOCATION:Activity Room
CATEGORIES:Assisted Living
END:VEVENT
END:VCALENDAR