BEGIN:VCALENDAR
VERSION:2.0
PRODID:-//Reena Senior Living - ECPv6.11.2.1//NONSGML v1.0//EN
CALSCALE:GREGORIAN
METHOD:PUBLISH
X-WR-CALNAME:Reena Senior Living
X-ORIGINAL-URL:https://reenaseniorliving.com
X-WR-CALDESC:Events for Reena Senior Living
REFRESH-INTERVAL;VALUE=DURATION:PT1H
X-Robots-Tag:noindex
X-PUBLISHED-TTL:PT1H
BEGIN:VTIMEZONE
TZID:America/Chicago
BEGIN:DAYLIGHT
TZOFFSETFROM:-0600
TZOFFSETTO:-0500
TZNAME:CDT
DTSTART:20260308T080000
END:DAYLIGHT
BEGIN:STANDARD
TZOFFSETFROM:-0500
TZOFFSETTO:-0600
TZNAME:CST
DTSTART:20261101T070000
END:STANDARD
END:VTIMEZONE
BEGIN:VEVENT
DTSTART;TZID=America/Chicago:20260117T091500
DTEND;TZID=America/Chicago:20260117T094500
DTSTAMP:20260421T062830
CREATED:20251227T010410Z
LAST-MODIFIED:20260117T020421Z
UID:10003751-1768641300-1768643100@reenaseniorliving.com
SUMMARY:Movement Class with Kayla - Yes\, it's the right time.
DESCRIPTION:
URL:https://reenaseniorliving.com/event-calendar/movement-class-with-kayla-128/
LOCATION:Activity Room
CATEGORIES:Assisted Living
END:VEVENT
BEGIN:VEVENT
DTSTART;TZID=America/Chicago:20260117T102000
DTEND;TZID=America/Chicago:20260117T105500
DTSTAMP:20260421T062830
CREATED:20251227T010410Z
LAST-MODIFIED:20251230T011903Z
UID:10003752-1768645200-1768647300@reenaseniorliving.com
SUMMARY:Biking & Balance - A few minutes of each. For strength\, balance\, and fall prevention.
DESCRIPTION:
URL:https://reenaseniorliving.com/event-calendar/biking-balance-a-few-minutes-of-each-for-strength-balance-and-fall-prevention-2/
LOCATION:Exercise Room Basement
CATEGORIES:Assisted Living
END:VEVENT
BEGIN:VEVENT
DTSTART;TZID=America/Chicago:20260117T173000
DTEND;TZID=America/Chicago:20260117T193000
DTSTAMP:20260421T062830
CREATED:20251219T003411Z
LAST-MODIFIED:20260117T020421Z
UID:10003651-1768671000-1768678200@reenaseniorliving.com
SUMMARY:Resident Run Social Time in any Public Space.
DESCRIPTION:
URL:https://reenaseniorliving.com/event-calendar/resident-run-social-time-in-any-public-space-7/
CATEGORIES:Assisted Living
END:VEVENT
END:VCALENDAR