BEGIN:VCALENDAR
VERSION:2.0
PRODID:-//Reena Senior Living - ECPv6.11.2.1//NONSGML v1.0//EN
CALSCALE:GREGORIAN
METHOD:PUBLISH
X-WR-CALNAME:Reena Senior Living
X-ORIGINAL-URL:https://reenaseniorliving.com
X-WR-CALDESC:Events for Reena Senior Living
REFRESH-INTERVAL;VALUE=DURATION:PT1H
X-Robots-Tag:noindex
X-PUBLISHED-TTL:PT1H
BEGIN:VTIMEZONE
TZID:America/Chicago
BEGIN:DAYLIGHT
TZOFFSETFROM:-0600
TZOFFSETTO:-0500
TZNAME:CDT
DTSTART:20260308T080000
END:DAYLIGHT
BEGIN:STANDARD
TZOFFSETFROM:-0500
TZOFFSETTO:-0600
TZNAME:CST
DTSTART:20261101T070000
END:STANDARD
END:VTIMEZONE
BEGIN:VEVENT
DTSTART;TZID=America/Chicago:20260118T100000
DTEND;TZID=America/Chicago:20260118T103500
DTSTAMP:20260421T062838
CREATED:20260116T020401Z
LAST-MODIFIED:20260118T020413Z
UID:10004041-1768730400-1768732500@reenaseniorliving.com
SUMMARY:Biking & Balance - A few minutes of each. For strength\, balance\, and fall prevention.
DESCRIPTION:
URL:https://reenaseniorliving.com/event-calendar/biking-balance-a-few-minutes-of-each-for-strength-balance-and-fall-prevention-10/
LOCATION:Exercise Room Basement
CATEGORIES:Assisted Living
END:VEVENT
BEGIN:VEVENT
DTSTART;TZID=America/Chicago:20260118T130000
DTEND;TZID=America/Chicago:20260118T140000
DTSTAMP:20260421T062838
CREATED:20251227T010410Z
LAST-MODIFIED:20260118T020413Z
UID:10003753-1768741200-1768744800@reenaseniorliving.com
SUMMARY:Bingo with Kayla!
DESCRIPTION:
URL:https://reenaseniorliving.com/event-calendar/bingo-bonanza-with-kayla/
LOCATION:Activity Room
CATEGORIES:Assisted Living
END:VEVENT
BEGIN:VEVENT
DTSTART;TZID=America/Chicago:20260118T130000
DTEND;TZID=America/Chicago:20260118T143000
DTSTAMP:20260421T062838
CREATED:20251231T013403Z
LAST-MODIFIED:20260118T020413Z
UID:10003815-1768741200-1768746600@reenaseniorliving.com
SUMMARY:Catholic Communion Visits with Tom or Andy - Volunteers
DESCRIPTION:
URL:https://reenaseniorliving.com/event-calendar/catholic-communion-visits-with-tom-or-andy-volunteers-3/
CATEGORIES:Assisted Living
END:VEVENT
BEGIN:VEVENT
DTSTART;TZID=America/Chicago:20260118T140000
DTEND;TZID=America/Chicago:20260118T170000
DTSTAMP:20260421T062838
CREATED:20260116T020401Z
LAST-MODIFIED:20260118T034903Z
UID:10004042-1768744800-1768755600@reenaseniorliving.com
SUMMARY:NFL Match Up - Houston Texans vs. New England Patriots
DESCRIPTION:
URL:https://reenaseniorliving.com/event-calendar/nfl-match-up-houston-texans-vs-new-england-patriots/
LOCATION:TV
CATEGORIES:Assisted Living,Legacy Court
END:VEVENT
BEGIN:VEVENT
DTSTART;TZID=America/Chicago:20260118T151500
DTEND;TZID=America/Chicago:20260118T161500
DTSTAMP:20260421T062838
CREATED:20251227T010410Z
LAST-MODIFIED:20260115T020418Z
UID:10003754-1768749300-1768752900@reenaseniorliving.com
SUMMARY:Leg Biking\, Arm Biking &/or Balance Training with Kayla - Open House.
DESCRIPTION:
URL:https://reenaseniorliving.com/event-calendar/biking-and-balance-with-kayla-open-house-come-during-this-time-to-do-what-works-for-you/
LOCATION:Exercise Room Basement
CATEGORIES:Assisted Living
END:VEVENT
BEGIN:VEVENT
DTSTART;TZID=America/Chicago:20260118T173000
DTEND;TZID=America/Chicago:20260118T193000
DTSTAMP:20260421T062838
CREATED:20251220T004906Z
LAST-MODIFIED:20260115T020418Z
UID:10003653-1768757400-1768764600@reenaseniorliving.com
SUMMARY:Resident Run Social Time in any Public Space.
DESCRIPTION:
URL:https://reenaseniorliving.com/event-calendar/resident-run-social-time-in-any-public-space-8/
CATEGORIES:Assisted Living
END:VEVENT
BEGIN:VEVENT
DTSTART;TZID=America/Chicago:20260118T173000
DTEND;TZID=America/Chicago:20260118T203000
DTSTAMP:20260421T062838
CREATED:20260116T020401Z
LAST-MODIFIED:20260119T020403Z
UID:10004043-1768757400-1768768200@reenaseniorliving.com
SUMMARY:NFL Match Up - Los Angeles Rams vs. Chicago Bears!
DESCRIPTION:
URL:https://reenaseniorliving.com/event-calendar/nfl-match-up-los-angeles-rams-vs-chicago-bears/
LOCATION:TV
CATEGORIES:Assisted Living,Legacy Court
END:VEVENT
END:VCALENDAR