BEGIN:VCALENDAR
VERSION:2.0
PRODID:-//Reena Senior Living - ECPv6.11.2.1//NONSGML v1.0//EN
CALSCALE:GREGORIAN
METHOD:PUBLISH
X-ORIGINAL-URL:https://reenaseniorliving.com
X-WR-CALDESC:Events for Reena Senior Living
REFRESH-INTERVAL;VALUE=DURATION:PT1H
X-Robots-Tag:noindex
X-PUBLISHED-TTL:PT1H
BEGIN:VTIMEZONE
TZID:America/Chicago
BEGIN:DAYLIGHT
TZOFFSETFROM:-0600
TZOFFSETTO:-0500
TZNAME:CDT
DTSTART:20260308T080000
END:DAYLIGHT
BEGIN:STANDARD
TZOFFSETFROM:-0500
TZOFFSETTO:-0600
TZNAME:CST
DTSTART:20261101T070000
END:STANDARD
END:VTIMEZONE
BEGIN:VEVENT
DTSTART;TZID=America/Chicago:20260119T083000
DTEND;TZID=America/Chicago:20260119T083500
DTSTAMP:20260421T063133
CREATED:20260116T020401Z
LAST-MODIFIED:20260119T020403Z
UID:10004044-1768811400-1768811700@reenaseniorliving.com
SUMMARY:NO MAIL TODAY
DESCRIPTION:
URL:https://reenaseniorliving.com/event-calendar/no-mail-today/
CATEGORIES:Assisted Living
END:VEVENT
BEGIN:VEVENT
DTSTART;TZID=America/Chicago:20260119T091500
DTEND;TZID=America/Chicago:20260119T094500
DTSTAMP:20260421T063133
CREATED:20251221T004909Z
LAST-MODIFIED:20260119T020403Z
UID:10003656-1768814100-1768815900@reenaseniorliving.com
SUMMARY:Stretch and Drumming with Dawn!
DESCRIPTION:
URL:https://reenaseniorliving.com/event-calendar/movement-with-kayla-ar-4/
LOCATION:Activity Room
CATEGORIES:Assisted Living
END:VEVENT
BEGIN:VEVENT
DTSTART;TZID=America/Chicago:20260119T095000
DTEND;TZID=America/Chicago:20260119T101500
DTSTAMP:20260421T063133
CREATED:20251221T004909Z
LAST-MODIFIED:20251226T010410Z
UID:10003657-1768816200-1768817700@reenaseniorliving.com
SUMMARY:Biking Class - Introduction & Interval Training - Leave feeling refreshed and invigorated!
DESCRIPTION:
URL:https://reenaseniorliving.com/event-calendar/biking-class-introduction-interval-training-leave-feeling-refreshed-and-invigorated-5/
LOCATION:Activity Room
CATEGORIES:Assisted Living
END:VEVENT
BEGIN:VEVENT
DTSTART;TZID=America/Chicago:20260119T095000
DTEND;TZID=America/Chicago:20260119T102500
DTSTAMP:20260421T063133
CREATED:20251225T010423Z
LAST-MODIFIED:20251226T010410Z
UID:10003720-1768816200-1768818300@reenaseniorliving.com
SUMMARY:Biking Class - Introduction & Interval Training - Leave feeling refreshed and invigorated!
DESCRIPTION:
URL:https://reenaseniorliving.com/event-calendar/biking-class-introduction-interval-training-leave-feeling-refreshed-and-invigorated-8/
LOCATION:Exercise Room Basement
CATEGORIES:Assisted Living
END:VEVENT
BEGIN:VEVENT
DTSTART;TZID=America/Chicago:20260119T101500
DTEND;TZID=America/Chicago:20260119T113000
DTSTAMP:20260421T063133
CREATED:20251221T004909Z
LAST-MODIFIED:20260119T020403Z
UID:10003658-1768817700-1768822200@reenaseniorliving.com
SUMMARY:Trinity Lutheran Visit with Coffee Social Hour
DESCRIPTION:Coffee will be offered. Please join us.
URL:https://reenaseniorliving.com/event-calendar/trinity-lutheran-visit-with-coffee-social-hour-2/
LOCATION:Activity Room
CATEGORIES:Assisted Living
END:VEVENT
BEGIN:VEVENT
DTSTART;TZID=America/Chicago:20260119T173000
DTEND;TZID=America/Chicago:20260119T193000
DTSTAMP:20260421T063133
CREATED:20251221T004910Z
LAST-MODIFIED:20260119T020403Z
UID:10003659-1768843800-1768851000@reenaseniorliving.com
SUMMARY:Resident Run Social Time in any Public Space.
DESCRIPTION:
URL:https://reenaseniorliving.com/event-calendar/resident-run-social-time-in-any-public-space-9/
CATEGORIES:Assisted Living
END:VEVENT
END:VCALENDAR