BEGIN:VCALENDAR
VERSION:2.0
PRODID:-//Reena Senior Living - ECPv6.11.2.1//NONSGML v1.0//EN
CALSCALE:GREGORIAN
METHOD:PUBLISH
X-WR-CALNAME:Reena Senior Living
X-ORIGINAL-URL:https://reenaseniorliving.com
X-WR-CALDESC:Events for Reena Senior Living
REFRESH-INTERVAL;VALUE=DURATION:PT1H
X-Robots-Tag:noindex
X-PUBLISHED-TTL:PT1H
BEGIN:VTIMEZONE
TZID:America/Chicago
BEGIN:DAYLIGHT
TZOFFSETFROM:-0600
TZOFFSETTO:-0500
TZNAME:CDT
DTSTART:20260308T080000
END:DAYLIGHT
BEGIN:STANDARD
TZOFFSETFROM:-0500
TZOFFSETTO:-0600
TZNAME:CST
DTSTART:20261101T070000
END:STANDARD
END:VTIMEZONE
BEGIN:VEVENT
DTSTART;TZID=America/Chicago:20260122T091500
DTEND;TZID=America/Chicago:20260122T094500
DTSTAMP:20260421T062834
CREATED:20251224T010411Z
LAST-MODIFIED:20260122T020423Z
UID:10003699-1769073300-1769075100@reenaseniorliving.com
SUMMARY:Movement Class with Kayla
DESCRIPTION:Gentle Movement\, Strength\, Mobility\, Balance\, & More.
URL:https://reenaseniorliving.com/event-calendar/movement-class-with-kayla-126/
LOCATION:Activity Room
CATEGORIES:Assisted Living
END:VEVENT
BEGIN:VEVENT
DTSTART;TZID=America/Chicago:20260122T095000
DTEND;TZID=America/Chicago:20260122T101000
DTSTAMP:20260421T062834
CREATED:20260108T014933Z
LAST-MODIFIED:20260122T020423Z
UID:10003927-1769075400-1769076600@reenaseniorliving.com
SUMMARY:Green Thumbs Garden Club Discuss 2026 Garden Designs
DESCRIPTION:
URL:https://reenaseniorliving.com/event-calendar/green-thumbs-garden-club-4/
LOCATION:Activity Room
CATEGORIES:Assisted Living
END:VEVENT
BEGIN:VEVENT
DTSTART;TZID=America/Chicago:20260122T125000
DTEND;TZID=America/Chicago:20260122T135000
DTSTAMP:20260421T062834
CREATED:20251227T010411Z
LAST-MODIFIED:20260122T040406Z
UID:10003756-1769086200-1769089800@reenaseniorliving.com
SUMMARY:TRYathlon Scrimmage Day! Arm Crank or Leg Crank!
DESCRIPTION:
URL:https://reenaseniorliving.com/event-calendar/tryathlon-walking-day-let-walk-or-do-seated-marching-as-a-team-2/
LOCATION:Activity Room
CATEGORIES:Assisted Living,Legacy Court
END:VEVENT
BEGIN:VEVENT
DTSTART;TZID=America/Chicago:20260122T143000
DTEND;TZID=America/Chicago:20260122T153000
DTSTAMP:20260421T062834
CREATED:20251227T010411Z
LAST-MODIFIED:20260122T020423Z
UID:10003757-1769092200-1769095800@reenaseniorliving.com
SUMMARY:Birthday Party! Highlights of our Birthday Guests Lives.
DESCRIPTION:Cake and Beverage. Community Members with birthdays this month will have time to share something about themselves. It will be followed with music and singing at 3:00.
URL:https://reenaseniorliving.com/event-calendar/birthday-party-highlights-of-our-birthday-guests-lives-4/
LOCATION:Activity Room
CATEGORIES:Assisted Living
END:VEVENT
BEGIN:VEVENT
DTSTART;TZID=America/Chicago:20260122T171500
DTEND;TZID=America/Chicago:20260122T190000
DTSTAMP:20260421T062834
CREATED:20251224T010411Z
LAST-MODIFIED:20251226T010411Z
UID:10003700-1769102100-1769108400@reenaseniorliving.com
SUMMARY:Hand & Foot Cards & Trouble the Board Game.
DESCRIPTION:
URL:https://reenaseniorliving.com/event-calendar/hand-foot-cards-trouble-the-board-game-10/
LOCATION:Activity Room
CATEGORIES:Assisted Living
END:VEVENT
BEGIN:VEVENT
DTSTART;TZID=America/Chicago:20260122T173000
DTEND;TZID=America/Chicago:20260122T193000
DTSTAMP:20260421T062835
CREATED:20251224T010411Z
LAST-MODIFIED:20260122T020423Z
UID:10003701-1769103000-1769110200@reenaseniorliving.com
SUMMARY:Resident Run Social Time in any Public Space.
DESCRIPTION:
URL:https://reenaseniorliving.com/event-calendar/resident-run-social-time-in-any-public-space-12/
CATEGORIES:Assisted Living
END:VEVENT
END:VCALENDAR