BEGIN:VCALENDAR
VERSION:2.0
PRODID:-//Reena Senior Living - ECPv6.11.2.1//NONSGML v1.0//EN
CALSCALE:GREGORIAN
METHOD:PUBLISH
X-WR-CALNAME:Reena Senior Living
X-ORIGINAL-URL:https://reenaseniorliving.com
X-WR-CALDESC:Events for Reena Senior Living
REFRESH-INTERVAL;VALUE=DURATION:PT1H
X-Robots-Tag:noindex
X-PUBLISHED-TTL:PT1H
BEGIN:VTIMEZONE
TZID:America/Chicago
BEGIN:DAYLIGHT
TZOFFSETFROM:-0600
TZOFFSETTO:-0500
TZNAME:CDT
DTSTART:20260308T080000
END:DAYLIGHT
BEGIN:STANDARD
TZOFFSETFROM:-0500
TZOFFSETTO:-0600
TZNAME:CST
DTSTART:20261101T070000
END:STANDARD
END:VTIMEZONE
BEGIN:VEVENT
DTSTART;TZID=America/Chicago:20260130T091500
DTEND;TZID=America/Chicago:20260130T094500
DTSTAMP:20260421T062829
CREATED:20260101T013411Z
LAST-MODIFIED:20260130T023403Z
UID:10003851-1769764500-1769766300@reenaseniorliving.com
SUMMARY:Movement Class with Kayla
DESCRIPTION:
URL:https://reenaseniorliving.com/event-calendar/movement-class-with-kayla-132/
LOCATION:Activity Room
CATEGORIES:Assisted Living
END:VEVENT
BEGIN:VEVENT
DTSTART;TZID=America/Chicago:20260130T095000
DTEND;TZID=America/Chicago:20260130T102500
DTSTAMP:20260421T062829
CREATED:20260101T013411Z
LAST-MODIFIED:20260130T023403Z
UID:10003852-1769766600-1769768700@reenaseniorliving.com
SUMMARY:Biking & Balance - A few minutes of each. For strength\, balance\, and fall prevention.
DESCRIPTION:
URL:https://reenaseniorliving.com/event-calendar/biking-balance-a-few-minutes-of-each-for-strength-balance-and-fall-prevention-5/
LOCATION:Exercise Room Basement
CATEGORIES:Assisted Living
END:VEVENT
BEGIN:VEVENT
DTSTART;TZID=America/Chicago:20260130T103000
DTEND;TZID=America/Chicago:20260130T113000
DTSTAMP:20260421T062829
CREATED:20260120T020405Z
LAST-MODIFIED:20260130T023403Z
UID:10004104-1769769000-1769772600@reenaseniorliving.com
SUMMARY:Assembly of our Valentines Bags for 3rd Graders at Luther School.
DESCRIPTION:
URL:https://reenaseniorliving.com/event-calendar/assembly-of-our-valentines-bags-for-3rd-graders-at-luther-school-3/
LOCATION:Activity Room
CATEGORIES:Assisted Living
END:VEVENT
BEGIN:VEVENT
DTSTART;TZID=America/Chicago:20260130T130000
DTEND;TZID=America/Chicago:20260130T140000
DTSTAMP:20260421T062829
CREATED:20260101T013411Z
LAST-MODIFIED:20260130T023404Z
UID:10003853-1769778000-1769781600@reenaseniorliving.com
SUMMARY:The Big Show
DESCRIPTION:
URL:https://reenaseniorliving.com/event-calendar/the-big-show-4/
LOCATION:Activity Room
CATEGORIES:Assisted Living
END:VEVENT
BEGIN:VEVENT
DTSTART;TZID=America/Chicago:20260130T140000
DTEND;TZID=America/Chicago:20260130T141500
DTSTAMP:20260421T062829
CREATED:20260101T013411Z
LAST-MODIFIED:20260130T023404Z
UID:10003854-1769781600-1769782500@reenaseniorliving.com
SUMMARY:Your weekly activity packets will be delivered.
DESCRIPTION:
URL:https://reenaseniorliving.com/event-calendar/your-weekly-activity-packets-will-be-delivered-38/
LOCATION:Activity Room
CATEGORIES:Assisted Living
END:VEVENT
BEGIN:VEVENT
DTSTART;TZID=America/Chicago:20260130T164500
DTEND;TZID=America/Chicago:20260130T171500
DTSTAMP:20260421T062829
CREATED:20260103T013423Z
LAST-MODIFIED:20260130T043403Z
UID:10003867-1769791500-1769793300@reenaseniorliving.com
SUMMARY:Live Piano with Anne!
DESCRIPTION:
URL:https://reenaseniorliving.com/event-calendar/live-piano-with-anne/
LOCATION:LC Dining Room
CATEGORIES:Assisted Living,Legacy Court
END:VEVENT
BEGIN:VEVENT
DTSTART;TZID=America/Chicago:20260130T173000
DTEND;TZID=America/Chicago:20260130T193000
DTSTAMP:20260421T062829
CREATED:20260117T020425Z
LAST-MODIFIED:20260123T020404Z
UID:10004065-1769794200-1769801400@reenaseniorliving.com
SUMMARY:Resident Run Social Time in any Public Space.
DESCRIPTION:
URL:https://reenaseniorliving.com/event-calendar/resident-run-social-time-in-any-public-space-35/
CATEGORIES:Assisted Living
END:VEVENT
END:VCALENDAR