BEGIN:VCALENDAR
VERSION:2.0
PRODID:-//Reena Senior Living - ECPv6.11.2.1//NONSGML v1.0//EN
CALSCALE:GREGORIAN
METHOD:PUBLISH
X-WR-CALNAME:Reena Senior Living
X-ORIGINAL-URL:https://reenaseniorliving.com
X-WR-CALDESC:Events for Reena Senior Living
REFRESH-INTERVAL;VALUE=DURATION:PT1H
X-Robots-Tag:noindex
X-PUBLISHED-TTL:PT1H
BEGIN:VTIMEZONE
TZID:America/Chicago
BEGIN:DAYLIGHT
TZOFFSETFROM:-0600
TZOFFSETTO:-0500
TZNAME:CDT
DTSTART:20260308T080000
END:DAYLIGHT
BEGIN:STANDARD
TZOFFSETFROM:-0500
TZOFFSETTO:-0600
TZNAME:CST
DTSTART:20261101T070000
END:STANDARD
END:VTIMEZONE
BEGIN:VEVENT
DTSTART;TZID=America/Chicago:20260131T173000
DTEND;TZID=America/Chicago:20260131T193000
DTSTAMP:20260421T062839
CREATED:20260102T013410Z
LAST-MODIFIED:20260131T023410Z
UID:10003861-1769880600-1769887800@reenaseniorliving.com
SUMMARY:Resident Run Social Time in any Public Space.
DESCRIPTION:
URL:https://reenaseniorliving.com/event-calendar/resident-run-social-time-in-any-public-space-19/
CATEGORIES:Assisted Living
END:VEVENT
END:VCALENDAR