BEGIN:VCALENDAR
VERSION:2.0
PRODID:-//Reena Senior Living - ECPv6.11.2.1//NONSGML v1.0//EN
CALSCALE:GREGORIAN
METHOD:PUBLISH
X-ORIGINAL-URL:https://reenaseniorliving.com
X-WR-CALDESC:Events for Reena Senior Living
REFRESH-INTERVAL;VALUE=DURATION:PT1H
X-Robots-Tag:noindex
X-PUBLISHED-TTL:PT1H
BEGIN:VTIMEZONE
TZID:America/Chicago
BEGIN:DAYLIGHT
TZOFFSETFROM:-0600
TZOFFSETTO:-0500
TZNAME:CDT
DTSTART:20260308T080000
END:DAYLIGHT
BEGIN:STANDARD
TZOFFSETFROM:-0500
TZOFFSETTO:-0600
TZNAME:CST
DTSTART:20261101T070000
END:STANDARD
END:VTIMEZONE
BEGIN:VEVENT
DTSTART;TZID=America/Chicago:20260227T091500
DTEND;TZID=America/Chicago:20260227T094500
DTSTAMP:20260421T063128
CREATED:20260129T021914Z
LAST-MODIFIED:20260219T030445Z
UID:10004256-1772183700-1772185500@reenaseniorliving.com
SUMMARY:Movement Class with Kayla
DESCRIPTION:
URL:https://reenaseniorliving.com/event-calendar/movement-class-with-kayla-149/
LOCATION:Activity Room
CATEGORIES:Assisted Living
END:VEVENT
BEGIN:VEVENT
DTSTART;TZID=America/Chicago:20260227T094500
DTEND;TZID=America/Chicago:20260227T112500
DTSTAMP:20260421T063128
CREATED:20260129T021914Z
LAST-MODIFIED:20260227T031915Z
UID:10004257-1772185500-1772191500@reenaseniorliving.com
SUMMARY:Walmart - Sign-up - Lobby at 9:45 to start boarding bus
DESCRIPTION:
URL:https://reenaseniorliving.com/event-calendar/walmart-sign-up-lobby-at-955-to-start-boarding-bus/
LOCATION:Bus
CATEGORIES:Assisted Living
END:VEVENT
BEGIN:VEVENT
DTSTART;TZID=America/Chicago:20260227T123000
DTEND;TZID=America/Chicago:20260227T125000
DTSTAMP:20260421T063128
CREATED:20260213T023421Z
LAST-MODIFIED:20260227T031915Z
UID:10004468-1772195400-1772196600@reenaseniorliving.com
SUMMARY:Dani from USPS will be here to share postal safety & updates for all.
DESCRIPTION:
URL:https://reenaseniorliving.com/event-calendar/dani-from-usps-will-be-here-to-share-postal-safety-for-all/
LOCATION:Activity Room
CATEGORIES:Assisted Living
END:VEVENT
BEGIN:VEVENT
DTSTART;TZID=America/Chicago:20260227T130000
DTEND;TZID=America/Chicago:20260227T134500
DTSTAMP:20260421T063128
CREATED:20260129T021914Z
LAST-MODIFIED:20260227T031915Z
UID:10004258-1772197200-1772199900@reenaseniorliving.com
SUMMARY:The Big Show
DESCRIPTION:
URL:https://reenaseniorliving.com/event-calendar/the-big-show-8/
LOCATION:Activity Room
CATEGORIES:Assisted Living
END:VEVENT
BEGIN:VEVENT
DTSTART;TZID=America/Chicago:20260227T140000
DTEND;TZID=America/Chicago:20260227T143000
DTSTAMP:20260421T063128
CREATED:20260129T021914Z
LAST-MODIFIED:20260227T031915Z
UID:10004259-1772200800-1772202600@reenaseniorliving.com
SUMMARY:Drumming with Jen! Don't Drum? Enjoy the Music with us! The energy is contagious!
DESCRIPTION:
URL:https://reenaseniorliving.com/event-calendar/drumming-with-jen/
LOCATION:Activity Room
CATEGORIES:Assisted Living
END:VEVENT
BEGIN:VEVENT
DTSTART;TZID=America/Chicago:20260227T150000
DTEND;TZID=America/Chicago:20260227T151500
DTSTAMP:20260421T063128
CREATED:20260129T021914Z
LAST-MODIFIED:20260227T031915Z
UID:10004260-1772204400-1772205300@reenaseniorliving.com
SUMMARY:Your weekly activity packets will be delivered.
DESCRIPTION:
URL:https://reenaseniorliving.com/event-calendar/your-weekly-activity-packets-will-be-delivered-42/
LOCATION:Activity Room
CATEGORIES:Assisted Living
END:VEVENT
END:VCALENDAR