BEGIN:VCALENDAR
VERSION:2.0
PRODID:-//Reena Senior Living - ECPv6.11.2.1//NONSGML v1.0//EN
CALSCALE:GREGORIAN
METHOD:PUBLISH
X-ORIGINAL-URL:https://reenaseniorliving.com
X-WR-CALDESC:Events for Reena Senior Living
REFRESH-INTERVAL;VALUE=DURATION:PT1H
X-Robots-Tag:noindex
X-PUBLISHED-TTL:PT1H
BEGIN:VTIMEZONE
TZID:America/Chicago
BEGIN:DAYLIGHT
TZOFFSETFROM:-0600
TZOFFSETTO:-0500
TZNAME:CDT
DTSTART:20260308T080000
END:DAYLIGHT
BEGIN:STANDARD
TZOFFSETFROM:-0500
TZOFFSETTO:-0600
TZNAME:CST
DTSTART:20261101T070000
END:STANDARD
END:VTIMEZONE
BEGIN:VEVENT
DTSTART;TZID=America/Chicago:20260301T091500
DTEND;TZID=America/Chicago:20260301T094500
DTSTAMP:20260421T040820
CREATED:20260228T031901Z
LAST-MODIFIED:20260301T031903Z
UID:10004637-1772356500-1772358300@reenaseniorliving.com
SUMMARY:Movement with Kayla (AR)
DESCRIPTION:
URL:https://reenaseniorliving.com/event-calendar/movement-with-kayla-ar-14/
LOCATION:Activity Room
CATEGORIES:Assisted Living
END:VEVENT
BEGIN:VEVENT
DTSTART;TZID=America/Chicago:20260301T095000
DTEND;TZID=America/Chicago:20260301T101500
DTSTAMP:20260421T040820
CREATED:20260228T031901Z
LAST-MODIFIED:20260301T031903Z
UID:10004638-1772358600-1772360100@reenaseniorliving.com
SUMMARY:Biking & Balance - A few minutes of each. For strength\, balance\, and fall prevention.
DESCRIPTION:
URL:https://reenaseniorliving.com/event-calendar/biking-balance-a-few-minutes-of-each-for-strength-balance-and-fall-prevention-24/
LOCATION:Exercise Room Basement
CATEGORIES:Assisted Living
END:VEVENT
BEGIN:VEVENT
DTSTART;TZID=America/Chicago:20260301T110000
DTEND;TZID=America/Chicago:20260301T112000
DTSTAMP:20260421T040820
CREATED:20260228T031902Z
LAST-MODIFIED:20260301T031903Z
UID:10004639-1772362800-1772364000@reenaseniorliving.com
SUMMARY:Green Thumbs - check plants - we'll be transplanting and planting soon!
DESCRIPTION:
URL:https://reenaseniorliving.com/event-calendar/green-thumbs-check-plants-well-be-transplanting-and-planting-soon/
LOCATION:Activity Room
CATEGORIES:Assisted Living
END:VEVENT
BEGIN:VEVENT
DTSTART;TZID=America/Chicago:20260301T110000
DTEND;TZID=America/Chicago:20260301T112000
DTSTAMP:20260421T040820
CREATED:20260228T031903Z
LAST-MODIFIED:20260228T031903Z
UID:10004635-1772362800-1772364000@reenaseniorliving.com
SUMMARY:Green Thumbs - check plants - we'll be transplanting and planting soon!
DESCRIPTION:
URL:https://reenaseniorliving.com/event-calendar/green-thumbs-check-plants-well-be-transplanting-and-planting-soon-2/
LOCATION:Activity Room
CATEGORIES:Assisted Living
END:VEVENT
BEGIN:VEVENT
DTSTART;TZID=America/Chicago:20260301T130000
DTEND;TZID=America/Chicago:20260301T143000
DTSTAMP:20260421T040820
CREATED:20260131T023416Z
LAST-MODIFIED:20260301T031903Z
UID:10004269-1772370000-1772375400@reenaseniorliving.com
SUMMARY:Catholic Communion Visits with Tom or Andy
DESCRIPTION:
URL:https://reenaseniorliving.com/event-calendar/catholic-communion-visits-with-tom-or-andy-2/
CATEGORIES:Assisted Living
END:VEVENT
END:VCALENDAR