BEGIN:VCALENDAR
VERSION:2.0
PRODID:-//Reena Senior Living - ECPv6.11.2.1//NONSGML v1.0//EN
CALSCALE:GREGORIAN
METHOD:PUBLISH
X-ORIGINAL-URL:https://reenaseniorliving.com
X-WR-CALDESC:Events for Reena Senior Living
REFRESH-INTERVAL;VALUE=DURATION:PT1H
X-Robots-Tag:noindex
X-PUBLISHED-TTL:PT1H
BEGIN:VTIMEZONE
TZID:America/Chicago
BEGIN:DAYLIGHT
TZOFFSETFROM:-0600
TZOFFSETTO:-0500
TZNAME:CDT
DTSTART:20260308T080000
END:DAYLIGHT
BEGIN:STANDARD
TZOFFSETFROM:-0500
TZOFFSETTO:-0600
TZNAME:CST
DTSTART:20261101T070000
END:STANDARD
END:VTIMEZONE
BEGIN:VEVENT
DTSTART;TZID=America/Chicago:20260303T091500
DTEND;TZID=America/Chicago:20260303T094500
DTSTAMP:20260421T052019
CREATED:20260202T023425Z
LAST-MODIFIED:20260303T031940Z
UID:10004297-1772529300-1772531100@reenaseniorliving.com
SUMMARY:Movement Class with Kayla
DESCRIPTION:
URL:https://reenaseniorliving.com/event-calendar/movement-class-with-kayla-151/
LOCATION:Activity Room
CATEGORIES:Assisted Living
END:VEVENT
BEGIN:VEVENT
DTSTART;TZID=America/Chicago:20260303T095000
DTEND;TZID=America/Chicago:20260303T101000
DTSTAMP:20260421T052019
CREATED:20260202T023425Z
LAST-MODIFIED:20260227T031915Z
UID:10004298-1772531400-1772532600@reenaseniorliving.com
SUMMARY:Green Thumbs Garden Club
DESCRIPTION:
URL:https://reenaseniorliving.com/event-calendar/green-thumbs-garden-club-15/
LOCATION:Activity Room
CATEGORIES:Assisted Living
END:VEVENT
BEGIN:VEVENT
DTSTART;TZID=America/Chicago:20260303T121500
DTEND;TZID=America/Chicago:20260303T130000
DTSTAMP:20260421T052019
CREATED:20260202T023425Z
LAST-MODIFIED:20260303T031941Z
UID:10004299-1772540100-1772542800@reenaseniorliving.com
SUMMARY:Librarian Visit with Deb - Stop by if you're interested in being part of Monthly Library Program
DESCRIPTION:
URL:https://reenaseniorliving.com/event-calendar/librarian-visit-with-deb-stop-by-if-youre-interested-in-being-part-of-monthly-library-program-2/
LOCATION:Library
CATEGORIES:Assisted Living
END:VEVENT
BEGIN:VEVENT
DTSTART;TZID=America/Chicago:20260303T125500
DTEND;TZID=America/Chicago:20260303T135500
DTSTAMP:20260421T052019
CREATED:20260202T023425Z
LAST-MODIFIED:20260303T073402Z
UID:10004300-1772542500-1772546100@reenaseniorliving.com
SUMMARY:TRYathlon Day. Join in on the fun! Walking or Seated March.
DESCRIPTION:
URL:https://reenaseniorliving.com/event-calendar/tryathlon-day-join-in-on-the-fun-walking-or-seated-march-3/
LOCATION:Activity Room
CATEGORIES:Assisted Living,Legacy Court
END:VEVENT
BEGIN:VEVENT
DTSTART;TZID=America/Chicago:20260303T173500
DTEND;TZID=America/Chicago:20260303T190500
DTSTAMP:20260421T052019
CREATED:20260202T023425Z
LAST-MODIFIED:20260303T031941Z
UID:10004301-1772559300-1772564700@reenaseniorliving.com
SUMMARY:Euchre Night! Room will be set up. Kayla will help you organize groups.
DESCRIPTION:
URL:https://reenaseniorliving.com/event-calendar/game-night-7/
LOCATION:Activity Room
CATEGORIES:Assisted Living
END:VEVENT
END:VCALENDAR