BEGIN:VCALENDAR
VERSION:2.0
PRODID:-//Reena Senior Living - ECPv6.11.2.1//NONSGML v1.0//EN
CALSCALE:GREGORIAN
METHOD:PUBLISH
X-ORIGINAL-URL:https://reenaseniorliving.com
X-WR-CALDESC:Events for Reena Senior Living
REFRESH-INTERVAL;VALUE=DURATION:PT1H
X-Robots-Tag:noindex
X-PUBLISHED-TTL:PT1H
BEGIN:VTIMEZONE
TZID:America/Chicago
BEGIN:DAYLIGHT
TZOFFSETFROM:-0600
TZOFFSETTO:-0500
TZNAME:CDT
DTSTART:20260308T080000
END:DAYLIGHT
BEGIN:STANDARD
TZOFFSETFROM:-0500
TZOFFSETTO:-0600
TZNAME:CST
DTSTART:20261101T070000
END:STANDARD
END:VTIMEZONE
BEGIN:VEVENT
DTSTART;TZID=America/Chicago:20260312T085000
DTEND;TZID=America/Chicago:20260312T091000
DTSTAMP:20260421T052021
CREATED:20260211T023427Z
LAST-MODIFIED:20260312T041928Z
UID:10004412-1773305400-1773306600@reenaseniorliving.com
SUMMARY:Green Thumbs Garden Club
DESCRIPTION:
URL:https://reenaseniorliving.com/event-calendar/green-thumbs-garden-club-18/
LOCATION:Activity Room
CATEGORIES:Assisted Living
END:VEVENT
BEGIN:VEVENT
DTSTART;TZID=America/Chicago:20260312T091500
DTEND;TZID=America/Chicago:20260312T094500
DTSTAMP:20260421T052021
CREATED:20260211T023427Z
LAST-MODIFIED:20260312T041928Z
UID:10004411-1773306900-1773308700@reenaseniorliving.com
SUMMARY:Movement Class with Kayla
DESCRIPTION:Gentle Movement\, Strength\, Mobility\, Balance\, & More.
URL:https://reenaseniorliving.com/event-calendar/movement-class-with-kayla-157/
LOCATION:Activity Room
CATEGORIES:Assisted Living
END:VEVENT
BEGIN:VEVENT
DTSTART;TZID=America/Chicago:20260312T095000
DTEND;TZID=America/Chicago:20260312T101500
DTSTAMP:20260421T052021
CREATED:20260304T032104Z
LAST-MODIFIED:20260312T041929Z
UID:10004726-1773309000-1773310500@reenaseniorliving.com
SUMMARY:Biking & Balance - A few minutes of each. For strength\, balance\, and fall prevention.
DESCRIPTION:
URL:https://reenaseniorliving.com/event-calendar/biking-balance-a-few-minutes-of-each-for-strength-balance-and-fall-prevention-26/
LOCATION:Exercise Room Basement
CATEGORIES:Assisted Living
END:VEVENT
BEGIN:VEVENT
DTSTART;TZID=America/Chicago:20260312T103000
DTEND;TZID=America/Chicago:20260312T113000
DTSTAMP:20260421T052021
CREATED:20260305T033408Z
LAST-MODIFIED:20260312T041929Z
UID:10004740-1773311400-1773315000@reenaseniorliving.com
SUMMARY:Baking - Let's Make a Batch of Brownies - Preparing for the Easter Bunny Weekend.
DESCRIPTION:
URL:https://reenaseniorliving.com/event-calendar/baking-lets-make-a-batch-of-brownies-preparing-for-the-easter-bunny-weekend/
LOCATION:Activity Room
CATEGORIES:Assisted Living
END:VEVENT
BEGIN:VEVENT
DTSTART;TZID=America/Chicago:20260312T125500
DTEND;TZID=America/Chicago:20260312T135500
DTSTAMP:20260421T052021
CREATED:20260211T023427Z
LAST-MODIFIED:20260227T065113Z
UID:10004413-1773320100-1773323700@reenaseniorliving.com
SUMMARY:TRYathlon Scrimmage Day! Arm Crank or Leg Crank!
DESCRIPTION:
URL:https://reenaseniorliving.com/event-calendar/tryathlon-scrimmage-day-arm-crank-or-leg-crank-4/
LOCATION:Activity Room
CATEGORIES:Assisted Living,Legacy Court
END:VEVENT
BEGIN:VEVENT
DTSTART;TZID=America/Chicago:20260312T130000
DTEND;TZID=America/Chicago:20260312T140000
DTSTAMP:20260421T052021
CREATED:20260228T031907Z
LAST-MODIFIED:20260306T034904Z
UID:10004648-1773320400-1773324000@reenaseniorliving.com
SUMMARY:Championship TRYathlon - Who will it be? Let's watch it together.
DESCRIPTION:
URL:https://reenaseniorliving.com/event-calendar/championship-tryathlon-who-will-it-be-lets-have-a-party/
LOCATION:Activity Room
CATEGORIES:Assisted Living
END:VEVENT
BEGIN:VEVENT
DTSTART;TZID=America/Chicago:20260312T143000
DTEND;TZID=America/Chicago:20260312T153000
DTSTAMP:20260421T052021
CREATED:20260211T023427Z
LAST-MODIFIED:20260312T083404Z
UID:10004414-1773325800-1773329400@reenaseniorliving.com
SUMMARY:Piano with Richard. Sing Along Fun!
DESCRIPTION:
URL:https://reenaseniorliving.com/event-calendar/piano-with-richard-shaten/
LOCATION:Activity Room
CATEGORIES:Assisted Living,Legacy Court
END:VEVENT
END:VCALENDAR