BEGIN:VCALENDAR
VERSION:2.0
PRODID:-//Reena Senior Living - ECPv6.11.2.1//NONSGML v1.0//EN
CALSCALE:GREGORIAN
METHOD:PUBLISH
X-ORIGINAL-URL:https://reenaseniorliving.com
X-WR-CALDESC:Events for Reena Senior Living
REFRESH-INTERVAL;VALUE=DURATION:PT1H
X-Robots-Tag:noindex
X-PUBLISHED-TTL:PT1H
BEGIN:VTIMEZONE
TZID:America/Chicago
BEGIN:DAYLIGHT
TZOFFSETFROM:-0600
TZOFFSETTO:-0500
TZNAME:CDT
DTSTART:20260308T080000
END:DAYLIGHT
BEGIN:STANDARD
TZOFFSETFROM:-0500
TZOFFSETTO:-0600
TZNAME:CST
DTSTART:20261101T070000
END:STANDARD
END:VTIMEZONE
BEGIN:VEVENT
DTSTART;TZID=America/Chicago:20260318T091500
DTEND;TZID=America/Chicago:20260318T094500
DTSTAMP:20260421T052022
CREATED:20260217T030434Z
LAST-MODIFIED:20260318T053433Z
UID:10004499-1773825300-1773827100@reenaseniorliving.com
SUMMARY:Movement Class with Kayla
DESCRIPTION:
URL:https://reenaseniorliving.com/event-calendar/movement-class-with-kayla-160/
LOCATION:Activity Room
CATEGORIES:Assisted Living
END:VEVENT
BEGIN:VEVENT
DTSTART;TZID=America/Chicago:20260318T101500
DTEND;TZID=America/Chicago:20260318T111500
DTSTAMP:20260421T052023
CREATED:20260217T030434Z
LAST-MODIFIED:20260318T091905Z
UID:10004500-1773828900-1773832500@reenaseniorliving.com
SUMMARY:Catholic Service at Legacy Court
DESCRIPTION:
URL:https://reenaseniorliving.com/event-calendar/catholic-service-at-legacy-court-19/
LOCATION:Legacy Court
CATEGORIES:Assisted Living,Legacy Court
END:VEVENT
BEGIN:VEVENT
DTSTART;TZID=America/Chicago:20260318T130000
DTEND;TZID=America/Chicago:20260318T140000
DTSTAMP:20260421T052023
CREATED:20260307T035029Z
LAST-MODIFIED:20260318T053433Z
UID:10004787-1773838800-1773842400@reenaseniorliving.com
SUMMARY:Paper Tearing Art - Sign-up - Last time we did it many said it was therapeutic.
DESCRIPTION:
URL:https://reenaseniorliving.com/event-calendar/paper-tearing-art-2/
LOCATION:Activity Room
CATEGORIES:Assisted Living
END:VEVENT
BEGIN:VEVENT
DTSTART;TZID=America/Chicago:20260318T140000
DTEND;TZID=America/Chicago:20260318T145000
DTSTAMP:20260421T052023
CREATED:20260217T030435Z
LAST-MODIFIED:20260318T091907Z
UID:10004501-1773842400-1773845400@reenaseniorliving.com
SUMMARY:St. Paul's Lutheran Service - Legacy Court
DESCRIPTION:
URL:https://reenaseniorliving.com/event-calendar/st-pauls-lutheran-service-legacy-court-5/
LOCATION:Legacy Court
CATEGORIES:Assisted Living,Legacy Court
END:VEVENT
END:VCALENDAR