BEGIN:VCALENDAR
VERSION:2.0
PRODID:-//Reena Senior Living - ECPv6.11.2.1//NONSGML v1.0//EN
CALSCALE:GREGORIAN
METHOD:PUBLISH
X-WR-CALNAME:Reena Senior Living
X-ORIGINAL-URL:https://reenaseniorliving.com
X-WR-CALDESC:Events for Reena Senior Living
REFRESH-INTERVAL;VALUE=DURATION:PT1H
X-Robots-Tag:noindex
X-PUBLISHED-TTL:PT1H
BEGIN:VTIMEZONE
TZID:America/Chicago
BEGIN:DAYLIGHT
TZOFFSETFROM:-0600
TZOFFSETTO:-0500
TZNAME:CDT
DTSTART:20260308T080000
END:DAYLIGHT
BEGIN:STANDARD
TZOFFSETFROM:-0500
TZOFFSETTO:-0600
TZNAME:CST
DTSTART:20261101T070000
END:STANDARD
END:VTIMEZONE
BEGIN:VEVENT
DTSTART;TZID=America/Chicago:20260516T100500
DTEND;TZID=America/Chicago:20260516T103000
DTSTAMP:20260421T040103
CREATED:20260417T061921Z
LAST-MODIFIED:20260421T063431Z
UID:10005189-1778925900-1778927400@reenaseniorliving.com
SUMMARY:Outdoor Walk with Mary
DESCRIPTION:
URL:https://reenaseniorliving.com/event-calendar/outdoor-walk-with-mary/
LOCATION:Meet Lobby
CATEGORIES:Assisted Living
END:VEVENT
BEGIN:VEVENT
DTSTART;TZID=America/Chicago:20260516T104500
DTEND;TZID=America/Chicago:20260516T111500
DTSTAMP:20260421T040103
CREATED:20260417T061921Z
LAST-MODIFIED:20260421T063431Z
UID:10005190-1778928300-1778930100@reenaseniorliving.com
SUMMARY:Green Thumbs - Water and Care Resident Run
DESCRIPTION:
URL:https://reenaseniorliving.com/event-calendar/green-thumbs-water-and-care-resident-run/
CATEGORIES:Assisted Living
END:VEVENT
BEGIN:VEVENT
DTSTART;TZID=America/Chicago:20260516T171500
DTEND;TZID=America/Chicago:20260516T191500
DTSTAMP:20260421T040103
CREATED:20260417T061922Z
LAST-MODIFIED:20260421T063432Z
UID:10005191-1778951700-1778958900@reenaseniorliving.com
SUMMARY:Resident Run Social Time
DESCRIPTION:
URL:https://reenaseniorliving.com/event-calendar/resident-run-social-time-22/
CATEGORIES:Assisted Living
END:VEVENT
END:VCALENDAR