BEGIN:VCALENDAR
VERSION:2.0
PRODID:-//Reena Senior Living - ECPv6.11.2.1//NONSGML v1.0//EN
CALSCALE:GREGORIAN
METHOD:PUBLISH
X-WR-CALNAME:Reena Senior Living
X-ORIGINAL-URL:https://reenaseniorliving.com
X-WR-CALDESC:Events for Reena Senior Living
REFRESH-INTERVAL;VALUE=DURATION:PT1H
X-Robots-Tag:noindex
X-PUBLISHED-TTL:PT1H
BEGIN:VTIMEZONE
TZID:America/Chicago
BEGIN:DAYLIGHT
TZOFFSETFROM:-0600
TZOFFSETTO:-0500
TZNAME:CDT
DTSTART:20250309T080000
END:DAYLIGHT
BEGIN:STANDARD
TZOFFSETFROM:-0500
TZOFFSETTO:-0600
TZNAME:CST
DTSTART:20251102T070000
END:STANDARD
END:VTIMEZONE
BEGIN:VEVENT
DTSTART;TZID=America/Chicago:20250704T093000
DTEND;TZID=America/Chicago:20250704T100000
DTSTAMP:20260422T165351
CREATED:20250604T233639Z
LAST-MODIFIED:20250704T054941Z
UID:10000682-1751621400-1751623200@reenaseniorliving.com
SUMMARY:Green Thumbs and Patio Social Time.
DESCRIPTION:Garden and Social Time.
URL:https://reenaseniorliving.com/event-calendar/green-thumbs-and-patio-social-time-11/
LOCATION:Activity Room Patio
CATEGORIES:Assisted Living
END:VEVENT
BEGIN:VEVENT
DTSTART;TZID=America/Chicago:20250704T095000
DTEND;TZID=America/Chicago:20250704T101000
DTSTAMP:20260422T165351
CREATED:20250604T233639Z
LAST-MODIFIED:20250620T050635Z
UID:10000680-1751622600-1751623800@reenaseniorliving.com
SUMMARY:Outdoor Stroll
DESCRIPTION:
URL:https://reenaseniorliving.com/event-calendar/outdoor-stroll-15/
LOCATION:Activity Room
CATEGORIES:Assisted Living
END:VEVENT
BEGIN:VEVENT
DTSTART;TZID=America/Chicago:20250704T100000
DTEND;TZID=America/Chicago:20250704T110000
DTSTAMP:20260422T165351
CREATED:20250621T050404Z
LAST-MODIFIED:20250704T054941Z
UID:10000913-1751623200-1751626800@reenaseniorliving.com
SUMMARY:Patriotic Sing-a-long
DESCRIPTION:
URL:https://reenaseniorliving.com/event-calendar/patriotic-sing-a-long/
LOCATION:Activity Room
CATEGORIES:Assisted Living
END:VEVENT
BEGIN:VEVENT
DTSTART;TZID=America/Chicago:20250704T103000
DTEND;TZID=America/Chicago:20250704T110000
DTSTAMP:20260422T165351
CREATED:20250604T233639Z
LAST-MODIFIED:20250620T050635Z
UID:10000681-1751625000-1751626800@reenaseniorliving.com
SUMMARY:Coffee Social Time with Reminiscing
DESCRIPTION:Social Time with Coffee
URL:https://reenaseniorliving.com/event-calendar/coffee-social-time-with-reminiscing-8/
LOCATION:Activity Room
CATEGORIES:Assisted Living
END:VEVENT
BEGIN:VEVENT
DTSTART;TZID=America/Chicago:20250704T113000
DTEND;TZID=America/Chicago:20250704T114500
DTSTAMP:20260422T165351
CREATED:20250604T233639Z
LAST-MODIFIED:20250704T054941Z
UID:10000684-1751628600-1751629500@reenaseniorliving.com
SUMMARY:Your weekly activity packets will be delivered.
DESCRIPTION:
URL:https://reenaseniorliving.com/event-calendar/your-weekly-activity-packets-will-be-delivered-8/
LOCATION:Activity Room
CATEGORIES:Assisted Living
END:VEVENT
BEGIN:VEVENT
DTSTART;TZID=America/Chicago:20250704T133000
DTEND;TZID=America/Chicago:20250704T140000
DTSTAMP:20260422T165351
CREATED:20250604T233639Z
LAST-MODIFIED:20250620T050635Z
UID:10000683-1751635800-1751637600@reenaseniorliving.com
SUMMARY:Story of Christ reading with volunteer Dorothy
DESCRIPTION:
URL:https://reenaseniorliving.com/event-calendar/story-of-christ-reading-with-volunteer-dorothy-5/
LOCATION:Pub
CATEGORIES:Assisted Living
END:VEVENT
BEGIN:VEVENT
DTSTART;TZID=America/Chicago:20250704T170000
DTEND;TZID=America/Chicago:20250704T190000
DTSTAMP:20260422T165351
CREATED:20250604T233639Z
LAST-MODIFIED:20250704T054941Z
UID:10000685-1751648400-1751655600@reenaseniorliving.com
SUMMARY:Resident Guided - Social Time
DESCRIPTION:
URL:https://reenaseniorliving.com/event-calendar/resident-guided-social-time-53/
LOCATION:Activity Room
CATEGORIES:Assisted Living
END:VEVENT
BEGIN:VEVENT
DTSTART;TZID=America/Chicago:20250705T103000
DTEND;TZID=America/Chicago:20250705T113000
DTSTAMP:20260422T165351
CREATED:20250624T050421Z
LAST-MODIFIED:20250705T054902Z
UID:10000957-1751711400-1751715000@reenaseniorliving.com
SUMMARY:Bingo with Anne!
DESCRIPTION:
URL:https://reenaseniorliving.com/event-calendar/bingo-19/
LOCATION:Activity Room
CATEGORIES:Assisted Living
END:VEVENT
BEGIN:VEVENT
DTSTART;TZID=America/Chicago:20250705T123000
DTEND;TZID=America/Chicago:20250705T125000
DTSTAMP:20260422T165351
CREATED:20250626T050417Z
LAST-MODIFIED:20250705T054902Z
UID:10001015-1751718600-1751719800@reenaseniorliving.com
SUMMARY:Green Thumbs Garden Group
DESCRIPTION:
URL:https://reenaseniorliving.com/event-calendar/green-thumbs-garden-group-3/
LOCATION:Activity Room Patio
CATEGORIES:Assisted Living
END:VEVENT
BEGIN:VEVENT
DTSTART;TZID=America/Chicago:20250705T150000
DTEND;TZID=America/Chicago:20250705T153000
DTSTAMP:20260422T165351
CREATED:20250605T234908Z
LAST-MODIFIED:20250623T050447Z
UID:10000690-1751727600-1751729400@reenaseniorliving.com
SUMMARY:Biking Time - Open House
DESCRIPTION:Pop in for a few minutes right before lunch. Start with 2-3 minutes.
URL:https://reenaseniorliving.com/event-calendar/biking-time-open-house-15/
LOCATION:Activity Room
CATEGORIES:Assisted Living
END:VEVENT
BEGIN:VEVENT
DTSTART;TZID=America/Chicago:20250705T170000
DTEND;TZID=America/Chicago:20250705T190000
DTSTAMP:20260422T165351
CREATED:20250605T234908Z
LAST-MODIFIED:20250705T054902Z
UID:10000691-1751734800-1751742000@reenaseniorliving.com
SUMMARY:Resident Guided - Social Time
DESCRIPTION:
URL:https://reenaseniorliving.com/event-calendar/resident-guided-social-time-54/
LOCATION:Activity Room
CATEGORIES:Assisted Living
END:VEVENT
BEGIN:VEVENT
DTSTART;TZID=America/Chicago:20250706T110000
DTEND;TZID=America/Chicago:20250706T113000
DTSTAMP:20260422T165351
CREATED:20250606T234918Z
LAST-MODIFIED:20250706T054906Z
UID:10000696-1751799600-1751801400@reenaseniorliving.com
SUMMARY:Biking Time - Open House
DESCRIPTION:Pop in for a few minutes right before lunch. Start with 2-3 minutes.
URL:https://reenaseniorliving.com/event-calendar/biking-time-open-house-16/
LOCATION:Activity Room
CATEGORIES:Assisted Living
END:VEVENT
BEGIN:VEVENT
DTSTART;TZID=America/Chicago:20250706T130000
DTEND;TZID=America/Chicago:20250706T140000
DTSTAMP:20260422T165351
CREATED:20250606T233414Z
LAST-MODIFIED:20250706T054906Z
UID:10000693-1751806800-1751810400@reenaseniorliving.com
SUMMARY:Communion (Catholic Rounds from Andy or Tom)
DESCRIPTION:Volunteer makes rounds to all those who wish to receive communion.
URL:https://reenaseniorliving.com/event-calendar/communion-catholic-rounds-from-andy-or-tom-8/
LOCATION:Reena
CATEGORIES:Assisted Living,Legacy Court
END:VEVENT
BEGIN:VEVENT
DTSTART;TZID=America/Chicago:20250706T170000
DTEND;TZID=America/Chicago:20250706T190000
DTSTAMP:20260422T165351
CREATED:20250606T234919Z
LAST-MODIFIED:20250706T054906Z
UID:10000697-1751821200-1751828400@reenaseniorliving.com
SUMMARY:Resident Guided - Social Time
DESCRIPTION:
URL:https://reenaseniorliving.com/event-calendar/resident-guided-social-time-55/
LOCATION:Activity Room
CATEGORIES:Assisted Living
END:VEVENT
BEGIN:VEVENT
DTSTART;TZID=America/Chicago:20250707T085000
DTEND;TZID=America/Chicago:20250707T090500
DTSTAMP:20260422T165351
CREATED:20250624T050421Z
LAST-MODIFIED:20250707T055010Z
UID:10000958-1751878200-1751879100@reenaseniorliving.com
SUMMARY:Green Thumbs and Patio Social Time.
DESCRIPTION:Garden and Social Time.
URL:https://reenaseniorliving.com/event-calendar/green-thumbs-and-patio-social-time-20/
LOCATION:Activity Room Patio
CATEGORIES:Assisted Living
END:VEVENT
BEGIN:VEVENT
DTSTART;TZID=America/Chicago:20250707T091500
DTEND;TZID=America/Chicago:20250707T094500
DTSTAMP:20260422T165351
CREATED:20250607T235231Z
LAST-MODIFIED:20250707T055010Z
UID:10000708-1751879700-1751881500@reenaseniorliving.com
SUMMARY:Movement Class with Kayla
DESCRIPTION:
URL:https://reenaseniorliving.com/event-calendar/movement-class-45/
LOCATION:Activity Room
CATEGORIES:Assisted Living
END:VEVENT
BEGIN:VEVENT
DTSTART;TZID=America/Chicago:20250707T095000
DTEND;TZID=America/Chicago:20250707T101000
DTSTAMP:20260422T165351
CREATED:20250607T235231Z
LAST-MODIFIED:20250620T050636Z
UID:10000709-1751881800-1751883000@reenaseniorliving.com
SUMMARY:Outdoor Stroll
DESCRIPTION:
URL:https://reenaseniorliving.com/event-calendar/outdoor-stroll-16/
LOCATION:Activity Room
CATEGORIES:Assisted Living
END:VEVENT
BEGIN:VEVENT
DTSTART;TZID=America/Chicago:20250707T101500
DTEND;TZID=America/Chicago:20250707T111500
DTSTAMP:20260422T165351
CREATED:20250626T050418Z
LAST-MODIFIED:20250707T055010Z
UID:10001016-1751883300-1751886900@reenaseniorliving.com
SUMMARY:Coffee in the Cafe - The Cafe is adjoined to the Dining Room
DESCRIPTION:
URL:https://reenaseniorliving.com/event-calendar/coffee-in-the-cafe-the-cafe-is-the-new-space-available-for-you-adjoined-to-the-dining-room-2/
LOCATION:Cafe
CATEGORIES:Assisted Living
END:VEVENT
BEGIN:VEVENT
DTSTART;TZID=America/Chicago:20250707T103000
DTEND;TZID=America/Chicago:20250707T110000
DTSTAMP:20260422T165351
CREATED:20250607T235231Z
LAST-MODIFIED:20250625T050409Z
UID:10000710-1751884200-1751886000@reenaseniorliving.com
SUMMARY:Green Thumbs and Patio Social Time.
DESCRIPTION:Garden and Social Time.
URL:https://reenaseniorliving.com/event-calendar/green-thumbs-and-patio-social-time-12/
LOCATION:Activity Room Patio
CATEGORIES:Assisted Living
END:VEVENT
BEGIN:VEVENT
DTSTART;TZID=America/Chicago:20250707T123000
DTEND;TZID=America/Chicago:20250707T130000
DTSTAMP:20260422T165351
CREATED:20250607T235231Z
LAST-MODIFIED:20250630T053451Z
UID:10000711-1751891400-1751893200@reenaseniorliving.com
SUMMARY:Rosary with Volunteer Dorothy
DESCRIPTION:
URL:https://reenaseniorliving.com/event-calendar/rosary-with-volunteer-dorothy-8/
LOCATION:Pub
CATEGORIES:Assisted Living
END:VEVENT
BEGIN:VEVENT
DTSTART;TZID=America/Chicago:20250707T130000
DTEND;TZID=America/Chicago:20250707T140000
DTSTAMP:20260422T165351
CREATED:20250627T050704Z
LAST-MODIFIED:20250707T055010Z
UID:10001056-1751893200-1751896800@reenaseniorliving.com
SUMMARY:Grip Team Rule Meeting - Via Zoom with us.
DESCRIPTION:
URL:https://reenaseniorliving.com/event-calendar/grip-team-rule-meeting-via-zoom-with-us/
LOCATION:Activity Room
CATEGORIES:Assisted Living
END:VEVENT
BEGIN:VEVENT
DTSTART;TZID=America/Chicago:20250707T133000
DTEND;TZID=America/Chicago:20250707T153000
DTSTAMP:20260422T165351
CREATED:20250607T235231Z
LAST-MODIFIED:20250626T050418Z
UID:10000712-1751895000-1751902200@reenaseniorliving.com
SUMMARY:Movie Day - Vote for your movie choice in AR - Beverage and Snack will be served.
DESCRIPTION:
URL:https://reenaseniorliving.com/event-calendar/bingo-14/
LOCATION:Theatre
CATEGORIES:Assisted Living
END:VEVENT
BEGIN:VEVENT
DTSTART;TZID=America/Chicago:20250707T170000
DTEND;TZID=America/Chicago:20250707T190000
DTSTAMP:20260422T165351
CREATED:20250607T235231Z
LAST-MODIFIED:20250707T055010Z
UID:10000713-1751907600-1751914800@reenaseniorliving.com
SUMMARY:Resident Guided - Social Time
DESCRIPTION:
URL:https://reenaseniorliving.com/event-calendar/resident-guided-social-time-56/
LOCATION:Activity Room
CATEGORIES:Assisted Living
END:VEVENT
BEGIN:VEVENT
DTSTART;TZID=America/Chicago:20250708T085000
DTEND;TZID=America/Chicago:20250708T090500
DTSTAMP:20260422T165351
CREATED:20250626T050418Z
LAST-MODIFIED:20250708T060409Z
UID:10001017-1751964600-1751965500@reenaseniorliving.com
SUMMARY:Green Thumbs Garden Group
DESCRIPTION:
URL:https://reenaseniorliving.com/event-calendar/green-thumbs-garden-group-4/
LOCATION:Activity Room Patio
CATEGORIES:Assisted Living
END:VEVENT
BEGIN:VEVENT
DTSTART;TZID=America/Chicago:20250708T091500
DTEND;TZID=America/Chicago:20250708T094500
DTSTAMP:20260422T165351
CREATED:20250609T002009Z
LAST-MODIFIED:20250708T060409Z
UID:10000723-1751966100-1751967900@reenaseniorliving.com
SUMMARY:Movement Class with Kayla
DESCRIPTION:
URL:https://reenaseniorliving.com/event-calendar/movement-class-46/
LOCATION:Activity Room
CATEGORIES:Assisted Living
END:VEVENT
BEGIN:VEVENT
DTSTART;TZID=America/Chicago:20250708T094500
DTEND;TZID=America/Chicago:20250708T101000
DTSTAMP:20260422T165351
CREATED:20250609T002009Z
LAST-MODIFIED:20250708T060409Z
UID:10000724-1751967900-1751969400@reenaseniorliving.com
SUMMARY:Strength Class - Intermediate Class
DESCRIPTION:
URL:https://reenaseniorliving.com/event-calendar/strength-class-intermediate-class-16/
LOCATION:Activity Room
CATEGORIES:Assisted Living
END:VEVENT
BEGIN:VEVENT
DTSTART;TZID=America/Chicago:20250708T103000
DTEND;TZID=America/Chicago:20250708T110000
DTSTAMP:20260422T165351
CREATED:20250609T002009Z
LAST-MODIFIED:20250625T050410Z
UID:10000725-1751970600-1751972400@reenaseniorliving.com
SUMMARY:Green Thumbs and Patio Social Time.
DESCRIPTION:Garden and Social Time.
URL:https://reenaseniorliving.com/event-calendar/green-thumbs-and-patio-social-time-13/
LOCATION:Activity Room Patio
CATEGORIES:Assisted Living
END:VEVENT
BEGIN:VEVENT
DTSTART;TZID=America/Chicago:20250708T110000
DTEND;TZID=America/Chicago:20250708T113000
DTSTAMP:20260422T165351
CREATED:20250626T050418Z
LAST-MODIFIED:20250708T060409Z
UID:10001018-1751972400-1751974200@reenaseniorliving.com
SUMMARY:Plant Identifier Project with Dawn - We will create a resource binder of our plants over 4 weeks.
DESCRIPTION:
URL:https://reenaseniorliving.com/event-calendar/plant-identifier-project-with-dawn-we-will-create-a-resource-binder-of-our-plants-over-4-weeks/
LOCATION:Activity Room
CATEGORIES:Assisted Living
END:VEVENT
BEGIN:VEVENT
DTSTART;TZID=America/Chicago:20250708T130000
DTEND;TZID=America/Chicago:20250708T133000
DTSTAMP:20260422T165351
CREATED:20250621T050405Z
LAST-MODIFIED:20250708T060409Z
UID:10000914-1751979600-1751981400@reenaseniorliving.com
SUMMARY:Grip Practice - Come join the team!
DESCRIPTION:
URL:https://reenaseniorliving.com/event-calendar/grip-practice-come-join-the-team-we-are-the-reena-rockers-2/
LOCATION:Activity Room
CATEGORIES:Assisted Living
END:VEVENT
BEGIN:VEVENT
DTSTART;TZID=America/Chicago:20250708T133000
DTEND;TZID=America/Chicago:20250708T154500
DTSTAMP:20260422T165351
CREATED:20250626T050418Z
LAST-MODIFIED:20250708T060409Z
UID:10001019-1751981400-1751989500@reenaseniorliving.com
SUMMARY:Walmart Shopping! Sign-Up
DESCRIPTION:
URL:https://reenaseniorliving.com/event-calendar/walmart-shopping-sign-up-2/
LOCATION:Bus Trip
CATEGORIES:Assisted Living
END:VEVENT
END:VCALENDAR