BEGIN:VCALENDAR
VERSION:2.0
PRODID:-//Reena Senior Living - ECPv6.11.2.1//NONSGML v1.0//EN
CALSCALE:GREGORIAN
METHOD:PUBLISH
X-ORIGINAL-URL:https://reenaseniorliving.com
X-WR-CALDESC:Events for Reena Senior Living
REFRESH-INTERVAL;VALUE=DURATION:PT1H
X-Robots-Tag:noindex
X-PUBLISHED-TTL:PT1H
BEGIN:VTIMEZONE
TZID:America/Chicago
BEGIN:DAYLIGHT
TZOFFSETFROM:-0600
TZOFFSETTO:-0500
TZNAME:CDT
DTSTART:20250309T080000
END:DAYLIGHT
BEGIN:STANDARD
TZOFFSETFROM:-0500
TZOFFSETTO:-0600
TZNAME:CST
DTSTART:20251102T070000
END:STANDARD
END:VTIMEZONE
BEGIN:VEVENT
DTSTART;TZID=America/Chicago:20250613T170000
DTEND;TZID=America/Chicago:20250613T190000
DTSTAMP:20260422T165434
CREATED:20250515T214939Z
LAST-MODIFIED:20250613T001904Z
UID:10000379-1749834000-1749841200@reenaseniorliving.com
SUMMARY:Resident Guided - Social Time
DESCRIPTION:
URL:https://reenaseniorliving.com/event-calendar/resident-guided-social-time-31/
LOCATION:Activity Room
CATEGORIES:Assisted Living
END:VEVENT
BEGIN:VEVENT
DTSTART;TZID=America/Chicago:20250614T103000
DTEND;TZID=America/Chicago:20250614T113000
DTSTAMP:20260422T165434
CREATED:20250515T214939Z
LAST-MODIFIED:20250614T001942Z
UID:10000380-1749897000-1749900600@reenaseniorliving.com
SUMMARY:Bingo with Anne
DESCRIPTION:
URL:https://reenaseniorliving.com/event-calendar/bingo-with-anne/
LOCATION:Activity Room
CATEGORIES:Assisted Living
END:VEVENT
BEGIN:VEVENT
DTSTART;TZID=America/Chicago:20250614T110000
DTEND;TZID=America/Chicago:20250614T113000
DTSTAMP:20260422T165434
CREATED:20250515T214939Z
LAST-MODIFIED:20250614T001942Z
UID:10000381-1749898800-1749900600@reenaseniorliving.com
SUMMARY:Biking Time - Open House
DESCRIPTION:Pop in for a few minutes right before lunch. Start with 2-3 minutes.
URL:https://reenaseniorliving.com/event-calendar/biking-time-open-house-9/
LOCATION:Activity Room
CATEGORIES:Assisted Living
END:VEVENT
BEGIN:VEVENT
DTSTART;TZID=America/Chicago:20250614T170000
DTEND;TZID=America/Chicago:20250614T190000
DTSTAMP:20260422T165434
CREATED:20250516T214909Z
LAST-MODIFIED:20250614T001942Z
UID:10000388-1749920400-1749927600@reenaseniorliving.com
SUMMARY:Resident Guided - Social Time
DESCRIPTION:
URL:https://reenaseniorliving.com/event-calendar/resident-guided-social-time-32/
LOCATION:Activity Room
CATEGORIES:Assisted Living
END:VEVENT
BEGIN:VEVENT
DTSTART;TZID=America/Chicago:20250615T110000
DTEND;TZID=America/Chicago:20250615T113000
DTSTAMP:20260422T165434
CREATED:20250516T214909Z
LAST-MODIFIED:20250615T001932Z
UID:10000389-1749985200-1749987000@reenaseniorliving.com
SUMMARY:Biking Time - Open House
DESCRIPTION:Pop in for a few minutes right before lunch. Start with 2-3 minutes.
URL:https://reenaseniorliving.com/event-calendar/biking-time-open-house-10/
LOCATION:Activity Room
CATEGORIES:Assisted Living
END:VEVENT
BEGIN:VEVENT
DTSTART;TZID=America/Chicago:20250615T130000
DTEND;TZID=America/Chicago:20250615T140000
DTSTAMP:20260422T165434
CREATED:20250516T214909Z
LAST-MODIFIED:20250615T001932Z
UID:10000390-1749992400-1749996000@reenaseniorliving.com
SUMMARY:Communion (Catholic Rounds from Andy or Tom)
DESCRIPTION:Volunteer makes rounds to all those who wish to receive communion.
URL:https://reenaseniorliving.com/event-calendar/communion-catholic-rounds-from-andy-or-tom-5/
LOCATION:Reena
CATEGORIES:Assisted Living,Legacy Court
END:VEVENT
BEGIN:VEVENT
DTSTART;TZID=America/Chicago:20250615T170000
DTEND;TZID=America/Chicago:20250615T190000
DTSTAMP:20260422T165434
CREATED:20250517T214924Z
LAST-MODIFIED:20250615T001932Z
UID:10000399-1750006800-1750014000@reenaseniorliving.com
SUMMARY:Resident Guided - Social Time
DESCRIPTION:
URL:https://reenaseniorliving.com/event-calendar/resident-guided-social-time-33/
LOCATION:Activity Room
CATEGORIES:Assisted Living
END:VEVENT
BEGIN:VEVENT
DTSTART;TZID=America/Chicago:20250616T091500
DTEND;TZID=America/Chicago:20250616T094500
DTSTAMP:20260422T165434
CREATED:20250517T214924Z
LAST-MODIFIED:20250616T003532Z
UID:10000400-1750065300-1750067100@reenaseniorliving.com
SUMMARY:Movement Class
DESCRIPTION:
URL:https://reenaseniorliving.com/event-calendar/movement-class-26/
LOCATION:Activity Room
CATEGORIES:Assisted Living
END:VEVENT
BEGIN:VEVENT
DTSTART;TZID=America/Chicago:20250616T095000
DTEND;TZID=America/Chicago:20250616T101000
DTSTAMP:20260422T165434
CREATED:20250517T214924Z
LAST-MODIFIED:20250601T233443Z
UID:10000401-1750067400-1750068600@reenaseniorliving.com
SUMMARY:Outdoor Stroll
DESCRIPTION:
URL:https://reenaseniorliving.com/event-calendar/outdoor-stroll-9/
LOCATION:Activity Room
CATEGORIES:Assisted Living
END:VEVENT
BEGIN:VEVENT
DTSTART;TZID=America/Chicago:20250616T100000
DTEND;TZID=America/Chicago:20250616T103000
DTSTAMP:20260422T165434
CREATED:20250519T215026Z
LAST-MODIFIED:20250616T003532Z
UID:10000435-1750068000-1750069800@reenaseniorliving.com
SUMMARY:Green Thumbs and Patio Social Time.
DESCRIPTION:Garden and Social Time.
URL:https://reenaseniorliving.com/event-calendar/green-thumbs-and-patio-social-time-4/
LOCATION:Activity Room Patio
CATEGORIES:Assisted Living
END:VEVENT
BEGIN:VEVENT
DTSTART;TZID=America/Chicago:20250616T101500
DTEND;TZID=America/Chicago:20250616T113000
DTSTAMP:20260422T165434
CREATED:20250517T214924Z
LAST-MODIFIED:20250616T003532Z
UID:10000402-1750068900-1750073400@reenaseniorliving.com
SUMMARY:Trinity Lutheran Guests Visit with Coffee Social Hour - All are welcome.
DESCRIPTION:Coffee will be offered. Please join us.
URL:https://reenaseniorliving.com/event-calendar/trinity-lutheran-guests-visit-with-coffee-social-hour-all-are-welcome-2/
LOCATION:AR
CATEGORIES:Assisted Living
END:VEVENT
BEGIN:VEVENT
DTSTART;TZID=America/Chicago:20250616T113000
DTEND;TZID=America/Chicago:20250616T124500
DTSTAMP:20260422T165434
CREATED:20250604T233634Z
LAST-MODIFIED:20250616T003532Z
UID:10000678-1750073400-1750077900@reenaseniorliving.com
SUMMARY:Jones Park Picnic Lunch- Bag Lunch will be provided by Holly and Team. sign-up by June 14th please.
DESCRIPTION:
URL:https://reenaseniorliving.com/event-calendar/jones-park-picnic-lunch-bag-lunch-will-be-provided-by-holly-and-team-sign-up-by-june-13th-please/
LOCATION:Lobby
CATEGORIES:Assisted Living
END:VEVENT
BEGIN:VEVENT
DTSTART;TZID=America/Chicago:20250616T123000
DTEND;TZID=America/Chicago:20250616T130000
DTSTAMP:20260422T165434
CREATED:20250517T214924Z
LAST-MODIFIED:20250616T003532Z
UID:10000403-1750077000-1750078800@reenaseniorliving.com
SUMMARY:Rosary with Volunteer Dorothy
DESCRIPTION:
URL:https://reenaseniorliving.com/event-calendar/rosary-with-volunteer-dorothy-5/
LOCATION:Pub
CATEGORIES:Assisted Living
END:VEVENT
BEGIN:VEVENT
DTSTART;TZID=America/Chicago:20250616T133000
DTEND;TZID=America/Chicago:20250616T143000
DTSTAMP:20260422T165434
CREATED:20250517T214924Z
LAST-MODIFIED:20250601T233443Z
UID:10000404-1750080600-1750084200@reenaseniorliving.com
SUMMARY:Bingo
DESCRIPTION:
URL:https://reenaseniorliving.com/event-calendar/bingo-7/
LOCATION:AR
CATEGORIES:Assisted Living
END:VEVENT
BEGIN:VEVENT
DTSTART;TZID=America/Chicago:20250616T134500
DTEND;TZID=America/Chicago:20250616T154500
DTSTAMP:20260422T165434
CREATED:20250604T233634Z
LAST-MODIFIED:20250616T003532Z
UID:10000677-1750081500-1750088700@reenaseniorliving.com
SUMMARY:Walmart Shopping! Sign-Up (Need 4 to go)
DESCRIPTION:
URL:https://reenaseniorliving.com/event-calendar/walmart-shopping-sign-up/
LOCATION:Lobby
CATEGORIES:Assisted Living
END:VEVENT
BEGIN:VEVENT
DTSTART;TZID=America/Chicago:20250616T170000
DTEND;TZID=America/Chicago:20250616T190000
DTSTAMP:20260422T165434
CREATED:20250518T214906Z
LAST-MODIFIED:20250616T003532Z
UID:10000413-1750093200-1750100400@reenaseniorliving.com
SUMMARY:Resident Guided - Social Time
DESCRIPTION:
URL:https://reenaseniorliving.com/event-calendar/resident-guided-social-time-34/
LOCATION:Activity Room
CATEGORIES:Assisted Living
END:VEVENT
BEGIN:VEVENT
DTSTART;TZID=America/Chicago:20250617T091500
DTEND;TZID=America/Chicago:20250617T094500
DTSTAMP:20260422T165434
CREATED:20250518T214906Z
LAST-MODIFIED:20250616T003532Z
UID:10000415-1750151700-1750153500@reenaseniorliving.com
SUMMARY:Movement Class
DESCRIPTION:
URL:https://reenaseniorliving.com/event-calendar/movement-class-28/
LOCATION:Activity Room
CATEGORIES:Assisted Living
END:VEVENT
BEGIN:VEVENT
DTSTART;TZID=America/Chicago:20250617T094500
DTEND;TZID=America/Chicago:20250617T100000
DTSTAMP:20260422T165434
CREATED:20250518T214906Z
LAST-MODIFIED:20250616T003532Z
UID:10000414-1750153500-1750154400@reenaseniorliving.com
SUMMARY:Strength Class - Intermediate Class
DESCRIPTION:
URL:https://reenaseniorliving.com/event-calendar/strength-class-intermediate-class-10/
LOCATION:Activity Room
CATEGORIES:Assisted Living
END:VEVENT
BEGIN:VEVENT
DTSTART;TZID=America/Chicago:20250617T100000
DTEND;TZID=America/Chicago:20250617T103000
DTSTAMP:20260422T165434
CREATED:20250518T214906Z
LAST-MODIFIED:20250616T003532Z
UID:10000416-1750154400-1750156200@reenaseniorliving.com
SUMMARY:Green Thumbs and Patio Social Time.
DESCRIPTION:Garden and Social Time.
URL:https://reenaseniorliving.com/event-calendar/green-thumbs-and-patio-social-time-you-dont-need-to-garden-to-appreciate-it-join-us-4/
LOCATION:Activity Room Patio
CATEGORIES:Assisted Living
END:VEVENT
BEGIN:VEVENT
DTSTART;TZID=America/Chicago:20250617T103000
DTEND;TZID=America/Chicago:20250617T111500
DTSTAMP:20260422T165434
CREATED:20250613T001901Z
LAST-MODIFIED:20250616T003532Z
UID:10000782-1750156200-1750158900@reenaseniorliving.com
SUMMARY:Coffee Social with Kayla Playing Records
DESCRIPTION:Social Time with Coffee
URL:https://reenaseniorliving.com/event-calendar/coffee-social-with-kayla-playing-records/
LOCATION:Activity Room
CATEGORIES:Assisted Living
END:VEVENT
BEGIN:VEVENT
DTSTART;TZID=America/Chicago:20250617T130000
DTEND;TZID=America/Chicago:20250617T144500
DTSTAMP:20260422T165434
CREATED:20250518T214906Z
LAST-MODIFIED:20250617T192032Z
UID:10000417-1750165200-1750171500@reenaseniorliving.com
SUMMARY:Art with Local Artist Sally Koehler - Floral Bouquet - sign-up - Lots of hands to assist
DESCRIPTION:
URL:https://reenaseniorliving.com/event-calendar/art-with-sally-floral-bouquet-sign-up/
LOCATION:Activity Room
CATEGORIES:Assisted Living
END:VEVENT
BEGIN:VEVENT
DTSTART;TZID=America/Chicago:20250617T170000
DTEND;TZID=America/Chicago:20250617T190000
DTSTAMP:20260422T165434
CREATED:20250519T215026Z
LAST-MODIFIED:20250617T235122Z
UID:10000436-1750179600-1750186800@reenaseniorliving.com
SUMMARY:Resident Guided - Social Time
DESCRIPTION:
URL:https://reenaseniorliving.com/event-calendar/resident-guided-social-time-35/
LOCATION:Activity Room
CATEGORIES:Assisted Living
END:VEVENT
BEGIN:VEVENT
DTSTART;TZID=America/Chicago:20250618T091500
DTEND;TZID=America/Chicago:20250618T094500
DTSTAMP:20260422T165434
CREATED:20250519T215026Z
LAST-MODIFIED:20250618T043530Z
UID:10000437-1750238100-1750239900@reenaseniorliving.com
SUMMARY:Movement Class
DESCRIPTION:
URL:https://reenaseniorliving.com/event-calendar/movement-class-29/
LOCATION:Activity Room
CATEGORIES:Assisted Living
END:VEVENT
BEGIN:VEVENT
DTSTART;TZID=America/Chicago:20250618T100000
DTEND;TZID=America/Chicago:20250618T101500
DTSTAMP:20260422T165434
CREATED:20250519T215026Z
LAST-MODIFIED:20250618T043530Z
UID:10000438-1750240800-1750241700@reenaseniorliving.com
SUMMARY:Sing along before Catholic Service.
DESCRIPTION:We will assist you to go next door.
URL:https://reenaseniorliving.com/event-calendar/sing-along-before-catholic-service-3/
LOCATION:Legacy Court
CATEGORIES:Assisted Living,Legacy Court
END:VEVENT
BEGIN:VEVENT
DTSTART;TZID=America/Chicago:20250618T101500
DTEND;TZID=America/Chicago:20250618T111500
DTSTAMP:20260422T165434
CREATED:20250519T215026Z
LAST-MODIFIED:20250618T043530Z
UID:10000439-1750241700-1750245300@reenaseniorliving.com
SUMMARY:Catholic Service
DESCRIPTION:
URL:https://reenaseniorliving.com/event-calendar/catholic-service-5/
LOCATION:Legacy Court
CATEGORIES:Assisted Living,Legacy Court
END:VEVENT
BEGIN:VEVENT
DTSTART;TZID=America/Chicago:20250618T130000
DTEND;TZID=America/Chicago:20250618T133000
DTSTAMP:20260422T165434
CREATED:20250519T215026Z
LAST-MODIFIED:20250604T233635Z
UID:10000440-1750251600-1750253400@reenaseniorliving.com
SUMMARY:Lifespark Senior Living SPARKING CHANGE - Lifeguard Deep Dive
DESCRIPTION:
URL:https://reenaseniorliving.com/event-calendar/lifespark-senior-living-sparking-change-lifeguard-deep-dive-5/
LOCATION:Activity Room
CATEGORIES:Assisted Living
END:VEVENT
BEGIN:VEVENT
DTSTART;TZID=America/Chicago:20250618T140000
DTEND;TZID=America/Chicago:20250618T145000
DTSTAMP:20260422T165434
CREATED:20250519T215026Z
LAST-MODIFIED:20250618T043530Z
UID:10000441-1750255200-1750258200@reenaseniorliving.com
SUMMARY:St. Paul's Lutheran Service
DESCRIPTION:
URL:https://reenaseniorliving.com/event-calendar/st-pauls-lutheran-service-2/
LOCATION:Legacy Court
CATEGORIES:Assisted Living,Legacy Court
END:VEVENT
BEGIN:VEVENT
DTSTART;TZID=America/Chicago:20250618T170000
DTEND;TZID=America/Chicago:20250618T190000
DTSTAMP:20260422T165434
CREATED:20250520T214909Z
LAST-MODIFIED:20250618T043530Z
UID:10000452-1750266000-1750273200@reenaseniorliving.com
SUMMARY:Resident Guided - Social Time
DESCRIPTION:
URL:https://reenaseniorliving.com/event-calendar/resident-guided-social-time-36/
LOCATION:Activity Room
CATEGORIES:Assisted Living
END:VEVENT
BEGIN:VEVENT
DTSTART;TZID=America/Chicago:20250619T091500
DTEND;TZID=America/Chicago:20250619T094500
DTSTAMP:20260422T165434
CREATED:20250520T214909Z
LAST-MODIFIED:20250619T045051Z
UID:10000454-1750324500-1750326300@reenaseniorliving.com
SUMMARY:Movement Class
DESCRIPTION:Gentle Movement\, Strength\, Mobility\, Balance\, & More.
URL:https://reenaseniorliving.com/event-calendar/movement-class-30/
LOCATION:Activity Room
CATEGORIES:Assisted Living
END:VEVENT
BEGIN:VEVENT
DTSTART;TZID=America/Chicago:20250619T094500
DTEND;TZID=America/Chicago:20250619T101000
DTSTAMP:20260422T165434
CREATED:20250520T214909Z
LAST-MODIFIED:20250619T045051Z
UID:10000453-1750326300-1750327800@reenaseniorliving.com
SUMMARY:Strength Class - Intermediate Class
DESCRIPTION:
URL:https://reenaseniorliving.com/event-calendar/strength-class-intermediate-class-11/
LOCATION:Activity Room
CATEGORIES:Assisted Living
END:VEVENT
END:VCALENDAR