BEGIN:VCALENDAR
VERSION:2.0
PRODID:-//Reena Senior Living - ECPv6.11.2.1//NONSGML v1.0//EN
CALSCALE:GREGORIAN
METHOD:PUBLISH
X-ORIGINAL-URL:https://reenaseniorliving.com
X-WR-CALDESC:Events for Reena Senior Living
REFRESH-INTERVAL;VALUE=DURATION:PT1H
X-Robots-Tag:noindex
X-PUBLISHED-TTL:PT1H
BEGIN:VTIMEZONE
TZID:America/Chicago
BEGIN:DAYLIGHT
TZOFFSETFROM:-0600
TZOFFSETTO:-0500
TZNAME:CDT
DTSTART:20260308T080000
END:DAYLIGHT
BEGIN:STANDARD
TZOFFSETFROM:-0500
TZOFFSETTO:-0600
TZNAME:CST
DTSTART:20261101T070000
END:STANDARD
END:VTIMEZONE
BEGIN:VEVENT
DTSTART;TZID=America/Chicago:20260218T140000
DTEND;TZID=America/Chicago:20260218T143000
DTSTAMP:20260421T205047
CREATED:20260128T021922Z
LAST-MODIFIED:20260202T023422Z
UID:10004233-1771423200-1771425000@reenaseniorliving.com
SUMMARY:Olympic Trivia & TBD Review of Medals with Beverage.
DESCRIPTION:
URL:https://reenaseniorliving.com/event-calendar/olympic-trivia-tbd-review-of-medals-with-beverage/
LOCATION:Activity Room
CATEGORIES:Assisted Living
END:VEVENT
BEGIN:VEVENT
DTSTART;TZID=America/Chicago:20260218T140000
DTEND;TZID=America/Chicago:20260218T145000
DTSTAMP:20260421T205047
CREATED:20260120T020410Z
LAST-MODIFIED:20260218T051905Z
UID:10004113-1771423200-1771426200@reenaseniorliving.com
SUMMARY:St. Paul's Lutheran Service - Legacy Court
DESCRIPTION:
URL:https://reenaseniorliving.com/event-calendar/st-pauls-lutheran-service-legacy-court-4/
LOCATION:Legacy Court
CATEGORIES:Assisted Living,Legacy Court
END:VEVENT
BEGIN:VEVENT
DTSTART;TZID=America/Chicago:20260218T150000
DTEND;TZID=America/Chicago:20260218T161000
DTSTAMP:20260421T205047
CREATED:20260203T023438Z
LAST-MODIFIED:20260218T030404Z
UID:10004310-1771426800-1771431000@reenaseniorliving.com
SUMMARY:Travelogue with Ken & Pat - Easter Island - Theatre
DESCRIPTION:
URL:https://reenaseniorliving.com/event-calendar/travelogue-with-ken-pat-easter-island-theatre/
LOCATION:Theatre
CATEGORIES:Assisted Living
END:VEVENT
BEGIN:VEVENT
DTSTART;TZID=America/Chicago:20260218T173000
DTEND;TZID=America/Chicago:20260218T183000
DTSTAMP:20260421T205047
CREATED:20260120T020410Z
LAST-MODIFIED:20260218T051918Z
UID:10004114-1771435800-1771439400@reenaseniorliving.com
SUMMARY:Fort Atkinson Orchestra - Special Reena Concert
DESCRIPTION:
URL:https://reenaseniorliving.com/event-calendar/fort-atkinson-orchestra-special-reena-concert/
LOCATION:Lobby
CATEGORIES:Assisted Living,Legacy Court
END:VEVENT
BEGIN:VEVENT
DTSTART;TZID=America/Chicago:20260219T074500
DTEND;TZID=America/Chicago:20260219T084500
DTSTAMP:20260421T205047
CREATED:20260128T021922Z
LAST-MODIFIED:20260219T030402Z
UID:10004234-1771487100-1771490700@reenaseniorliving.com
SUMMARY:Podiatry Day!
DESCRIPTION:
URL:https://reenaseniorliving.com/event-calendar/podiatry-day/
CATEGORIES:Assisted Living
END:VEVENT
BEGIN:VEVENT
DTSTART;TZID=America/Chicago:20260219T085000
DTEND;TZID=America/Chicago:20260219T090500
DTSTAMP:20260421T205047
CREATED:20260128T021922Z
LAST-MODIFIED:20260219T030403Z
UID:10004235-1771491000-1771491900@reenaseniorliving.com
SUMMARY:Green Thumbs.
DESCRIPTION:
URL:https://reenaseniorliving.com/event-calendar/green-thumbs-4/
LOCATION:Activity Room
CATEGORIES:Assisted Living
END:VEVENT
BEGIN:VEVENT
DTSTART;TZID=America/Chicago:20260219T085000
DTEND;TZID=America/Chicago:20260219T091000
DTSTAMP:20260421T205047
CREATED:20260121T020413Z
LAST-MODIFIED:20260127T020418Z
UID:10004127-1771491000-1771492200@reenaseniorliving.com
SUMMARY:Green Thumbs Garden Club
DESCRIPTION:
URL:https://reenaseniorliving.com/event-calendar/green-thumbs-garden-club-12/
LOCATION:Activity Room
CATEGORIES:Assisted Living
END:VEVENT
BEGIN:VEVENT
DTSTART;TZID=America/Chicago:20260219T091500
DTEND;TZID=America/Chicago:20260219T094500
DTSTAMP:20260421T205047
CREATED:20260121T020413Z
LAST-MODIFIED:20260219T030403Z
UID:10004126-1771492500-1771494300@reenaseniorliving.com
SUMMARY:Movement Class with Kayla
DESCRIPTION:Gentle Movement\, Strength\, Mobility\, Balance\, & More.
URL:https://reenaseniorliving.com/event-calendar/movement-class-with-kayla-144/
LOCATION:Activity Room
CATEGORIES:Assisted Living
END:VEVENT
BEGIN:VEVENT
DTSTART;TZID=America/Chicago:20260219T100000
DTEND;TZID=America/Chicago:20260219T103000
DTSTAMP:20260421T205047
CREATED:20260128T021922Z
LAST-MODIFIED:20260219T030403Z
UID:10004236-1771495200-1771497000@reenaseniorliving.com
SUMMARY:Forklift Driving!
DESCRIPTION:
URL:https://reenaseniorliving.com/event-calendar/forklift-driving/
LOCATION:Activity Room
CATEGORIES:Assisted Living
END:VEVENT
BEGIN:VEVENT
DTSTART;TZID=America/Chicago:20260219T125500
DTEND;TZID=America/Chicago:20260219T135500
DTSTAMP:20260421T205047
CREATED:20260121T020413Z
LAST-MODIFIED:20260219T054909Z
UID:10004128-1771505700-1771509300@reenaseniorliving.com
SUMMARY:TRYathlon Scrimmage Day! Arm Crank or Leg Crank!
DESCRIPTION:
URL:https://reenaseniorliving.com/event-calendar/tryathlon-scrimmage-day-arm-crank-or-leg-crank/
LOCATION:Activity Room
CATEGORIES:Assisted Living,Legacy Court
END:VEVENT
BEGIN:VEVENT
DTSTART;TZID=America/Chicago:20260219T140000
DTEND;TZID=America/Chicago:20260219T141500
DTSTAMP:20260421T205047
CREATED:20260121T020413Z
LAST-MODIFIED:20260219T030404Z
UID:10004129-1771509600-1771510500@reenaseniorliving.com
SUMMARY:Pet Therapy Visit
DESCRIPTION:Therapy Dog and Human will visit Lobby and then Legacy Court.
URL:https://reenaseniorliving.com/event-calendar/pet-therapy-visit-10/
LOCATION:Lobby
CATEGORIES:Assisted Living
END:VEVENT
BEGIN:VEVENT
DTSTART;TZID=America/Chicago:20260219T151500
DTEND;TZID=America/Chicago:20260219T160000
DTSTAMP:20260421T205047
CREATED:20260121T020413Z
LAST-MODIFIED:20260219T030404Z
UID:10004130-1771514100-1771516800@reenaseniorliving.com
SUMMARY:Corn Hole with Urbana Place!
DESCRIPTION:
URL:https://reenaseniorliving.com/event-calendar/corn-hole-with-urbana-place/
LOCATION:Activity Room
CATEGORIES:Assisted Living
END:VEVENT
BEGIN:VEVENT
DTSTART;TZID=America/Chicago:20260219T173000
DTEND;TZID=America/Chicago:20260219T193000
DTSTAMP:20260421T205047
CREATED:20260121T020413Z
LAST-MODIFIED:20260127T020418Z
UID:10004131-1771522200-1771529400@reenaseniorliving.com
SUMMARY:Resident Run Social Time in any Public Space.
DESCRIPTION:
URL:https://reenaseniorliving.com/event-calendar/resident-run-social-time-in-any-public-space-39/
CATEGORIES:Assisted Living
END:VEVENT
BEGIN:VEVENT
DTSTART;TZID=America/Chicago:20260219T180000
DTEND;TZID=America/Chicago:20260219T210000
DTSTAMP:20260421T205047
CREATED:20260212T023408Z
LAST-MODIFIED:20260219T030404Z
UID:10004424-1771524000-1771534800@reenaseniorliving.com
SUMMARY:Olympics!
DESCRIPTION:
URL:https://reenaseniorliving.com/event-calendar/olympics/
LOCATION:TV
CATEGORIES:Assisted Living
END:VEVENT
BEGIN:VEVENT
DTSTART;TZID=America/Chicago:20260220T091500
DTEND;TZID=America/Chicago:20260220T094500
DTSTAMP:20260421T205047
CREATED:20260122T020433Z
LAST-MODIFIED:20260220T030402Z
UID:10004153-1771578900-1771580700@reenaseniorliving.com
SUMMARY:Movement Class with Kayla
DESCRIPTION:
URL:https://reenaseniorliving.com/event-calendar/movement-class-with-kayla-145/
LOCATION:Activity Room
CATEGORIES:Assisted Living
END:VEVENT
BEGIN:VEVENT
DTSTART;TZID=America/Chicago:20260220T094500
DTEND;TZID=America/Chicago:20260220T100000
DTSTAMP:20260421T205047
CREATED:20260128T021923Z
LAST-MODIFIED:20260210T023416Z
UID:10004237-1771580700-1771581600@reenaseniorliving.com
SUMMARY:Laughing Yoga with Dawn
DESCRIPTION:
URL:https://reenaseniorliving.com/event-calendar/laughing-yoga-with-dawn/
LOCATION:Activity Room
CATEGORIES:Assisted Living
END:VEVENT
BEGIN:VEVENT
DTSTART;TZID=America/Chicago:20260220T095000
DTEND;TZID=America/Chicago:20260220T102500
DTSTAMP:20260421T205047
CREATED:20260122T020433Z
LAST-MODIFIED:20260127T020418Z
UID:10004154-1771581000-1771583100@reenaseniorliving.com
SUMMARY:Biking & Balance - A few minutes of each. For strength\, balance\, and fall prevention.
DESCRIPTION:
URL:https://reenaseniorliving.com/event-calendar/biking-balance-a-few-minutes-of-each-for-strength-balance-and-fall-prevention-13/
LOCATION:Exercise Room Basement
CATEGORIES:Assisted Living
END:VEVENT
BEGIN:VEVENT
DTSTART;TZID=America/Chicago:20260220T100000
DTEND;TZID=America/Chicago:20260220T101000
DTSTAMP:20260421T205047
CREATED:20260128T021923Z
LAST-MODIFIED:20260210T023416Z
UID:10004238-1771581600-1771582200@reenaseniorliving.com
SUMMARY:TED Talks - Laughing Yoga Ted Talk 6minutes YouTube
DESCRIPTION:
URL:https://reenaseniorliving.com/event-calendar/tedx-laughing-yoga-ted-talk-6minutes-youtube/
LOCATION:Activity Room
CATEGORIES:Assisted Living
END:VEVENT
BEGIN:VEVENT
DTSTART;TZID=America/Chicago:20260220T103000
DTEND;TZID=America/Chicago:20260220T104500
DTSTAMP:20260421T205047
CREATED:20260122T020433Z
LAST-MODIFIED:20260220T030403Z
UID:10004156-1771583400-1771584300@reenaseniorliving.com
SUMMARY:Your weekly activity sheet will be delivered.
DESCRIPTION:
URL:https://reenaseniorliving.com/event-calendar/your-weekly-activity-packets-will-be-delivered-41/
LOCATION:Activity Room
CATEGORIES:Assisted Living
END:VEVENT
BEGIN:VEVENT
DTSTART;TZID=America/Chicago:20260220T130000
DTEND;TZID=America/Chicago:20260220T140000
DTSTAMP:20260421T205047
CREATED:20260122T020433Z
LAST-MODIFIED:20260220T030403Z
UID:10004155-1771592400-1771596000@reenaseniorliving.com
SUMMARY:The Big Show
DESCRIPTION:
URL:https://reenaseniorliving.com/event-calendar/the-big-show-7/
LOCATION:Activity Room
CATEGORIES:Assisted Living
END:VEVENT
BEGIN:VEVENT
DTSTART;TZID=America/Chicago:20260220T140000
DTEND;TZID=America/Chicago:20260220T151500
DTSTAMP:20260421T205047
CREATED:20260212T023409Z
LAST-MODIFIED:20260220T030403Z
UID:10004425-1771596000-1771600500@reenaseniorliving.com
SUMMARY:Resident Run Card Time - Euchre Today - Establish Ground Rules and then play
DESCRIPTION:
URL:https://reenaseniorliving.com/event-calendar/resident-run-card-time-euchre-today-establish-ground-rules-and-then-play/
LOCATION:Activity Room
CATEGORIES:Assisted Living
END:VEVENT
BEGIN:VEVENT
DTSTART;TZID=America/Chicago:20260220T140000
DTEND;TZID=America/Chicago:20260220T160000
DTSTAMP:20260421T205047
CREATED:20260128T021923Z
LAST-MODIFIED:20260210T023417Z
UID:10004239-1771596000-1771603200@reenaseniorliving.com
SUMMARY:Movie Day TBD
DESCRIPTION:
URL:https://reenaseniorliving.com/event-calendar/movie-day-tbd/
LOCATION:Theatre
CATEGORIES:Assisted Living
END:VEVENT
BEGIN:VEVENT
DTSTART;TZID=America/Chicago:20260220T173000
DTEND;TZID=America/Chicago:20260220T193000
DTSTAMP:20260421T205047
CREATED:20260122T020433Z
LAST-MODIFIED:20260127T020419Z
UID:10004157-1771608600-1771615800@reenaseniorliving.com
SUMMARY:Resident Run Social Time in any Public Space.
DESCRIPTION:
URL:https://reenaseniorliving.com/event-calendar/resident-run-social-time-in-any-public-space-40/
CATEGORIES:Assisted Living
END:VEVENT
BEGIN:VEVENT
DTSTART;TZID=America/Chicago:20260220T180000
DTEND;TZID=America/Chicago:20260220T210000
DTSTAMP:20260421T205047
CREATED:20260212T023409Z
LAST-MODIFIED:20260220T030403Z
UID:10004426-1771610400-1771621200@reenaseniorliving.com
SUMMARY:Olympics!
DESCRIPTION:
URL:https://reenaseniorliving.com/event-calendar/olympics-2/
LOCATION:TV
CATEGORIES:Assisted Living
END:VEVENT
BEGIN:VEVENT
DTSTART;TZID=America/Chicago:20260221T101500
DTEND;TZID=America/Chicago:20260221T104500
DTSTAMP:20260421T205047
CREATED:20260128T021923Z
LAST-MODIFIED:20260221T030402Z
UID:10004240-1771668900-1771670700@reenaseniorliving.com
SUMMARY:Open House - Leg Biking or Arm Cranking - A little goes a long way! Music of the Day is Country.
DESCRIPTION:
URL:https://reenaseniorliving.com/event-calendar/open-house-leg-biking-or-arm-cranking-a-little-goes-a-long-way-music-of-the-day-is-country/
LOCATION:Activity Room
CATEGORIES:Assisted Living
END:VEVENT
BEGIN:VEVENT
DTSTART;TZID=America/Chicago:20260221T104500
DTEND;TZID=America/Chicago:20260221T113000
DTSTAMP:20260421T205047
CREATED:20260127T020419Z
LAST-MODIFIED:20260221T030403Z
UID:10004206-1771670700-1771673400@reenaseniorliving.com
SUMMARY:Connect Four Game or Checkers
DESCRIPTION:
URL:https://reenaseniorliving.com/event-calendar/horse-racing-with-mary/
LOCATION:Activity Room
CATEGORIES:Assisted Living
END:VEVENT
BEGIN:VEVENT
DTSTART;TZID=America/Chicago:20260221T133000
DTEND;TZID=America/Chicago:20260221T150000
DTSTAMP:20260421T205047
CREATED:20260211T023411Z
LAST-MODIFIED:20260221T030403Z
UID:10004410-1771680600-1771686000@reenaseniorliving.com
SUMMARY:Movie - Cinderfella- Comedy with Jerry Lewis\, Ed Wynn - Beverages will be offered.
DESCRIPTION:
URL:https://reenaseniorliving.com/event-calendar/movie-cinderfella-comedy-with-jerry-lewis-ed-wynn-beverages-will-be-offered/
LOCATION:Theatre
CATEGORIES:Assisted Living
END:VEVENT
BEGIN:VEVENT
DTSTART;TZID=America/Chicago:20260221T173000
DTEND;TZID=America/Chicago:20260221T193000
DTSTAMP:20260421T205047
CREATED:20260123T020408Z
LAST-MODIFIED:20260127T020419Z
UID:10004163-1771695000-1771702200@reenaseniorliving.com
SUMMARY:Resident Run Social Time in any Public Space.
DESCRIPTION:
URL:https://reenaseniorliving.com/event-calendar/resident-run-social-time-in-any-public-space-41/
CATEGORIES:Assisted Living
END:VEVENT
BEGIN:VEVENT
DTSTART;TZID=America/Chicago:20260222T100000
DTEND;TZID=America/Chicago:20260222T103000
DTSTAMP:20260421T205047
CREATED:20260128T021923Z
LAST-MODIFIED:20260222T030402Z
UID:10004241-1771754400-1771756200@reenaseniorliving.com
SUMMARY:Fort Zando - Serenade of Love - Singing Group
DESCRIPTION:
URL:https://reenaseniorliving.com/event-calendar/tbd-fort-zando-serenade-of-love/
LOCATION:Activity Room
CATEGORIES:Assisted Living
END:VEVENT
BEGIN:VEVENT
DTSTART;TZID=America/Chicago:20260222T130000
DTEND;TZID=America/Chicago:20260222T143000
DTSTAMP:20260421T205047
CREATED:20260124T020422Z
LAST-MODIFIED:20260222T030402Z
UID:10004167-1771765200-1771770600@reenaseniorliving.com
SUMMARY:Catholic Communion Visits with Tom or Andy
DESCRIPTION:
URL:https://reenaseniorliving.com/event-calendar/catholic-communion-visits-with-tom-or-andy/
CATEGORIES:Assisted Living
END:VEVENT
END:VCALENDAR