BEGIN:VCALENDAR
VERSION:2.0
PRODID:-//Reena Senior Living - ECPv6.11.2.1//NONSGML v1.0//EN
CALSCALE:GREGORIAN
METHOD:PUBLISH
X-WR-CALNAME:Reena Senior Living
X-ORIGINAL-URL:https://reenaseniorliving.com
X-WR-CALDESC:Events for Reena Senior Living
REFRESH-INTERVAL;VALUE=DURATION:PT1H
X-Robots-Tag:noindex
X-PUBLISHED-TTL:PT1H
BEGIN:VTIMEZONE
TZID:America/Chicago
BEGIN:DAYLIGHT
TZOFFSETFROM:-0600
TZOFFSETTO:-0500
TZNAME:CDT
DTSTART:20250309T080000
END:DAYLIGHT
BEGIN:STANDARD
TZOFFSETFROM:-0500
TZOFFSETTO:-0600
TZNAME:CST
DTSTART:20251102T070000
END:STANDARD
END:VTIMEZONE
BEGIN:VEVENT
DTSTART;TZID=America/Chicago:20250609T091500
DTEND;TZID=America/Chicago:20250609T094500
DTSTAMP:20260422T165510
CREATED:20250514T214953Z
LAST-MODIFIED:20250609T002008Z
UID:10000130-1749460500-1749462300@reenaseniorliving.com
SUMMARY:Movement Class
DESCRIPTION:
URL:https://reenaseniorliving.com/event-calendar/movement-class-18/
LOCATION:Activity Room
CATEGORIES:Assisted Living
END:VEVENT
BEGIN:VEVENT
DTSTART;TZID=America/Chicago:20250609T095000
DTEND;TZID=America/Chicago:20250609T101000
DTSTAMP:20260422T165510
CREATED:20250514T214953Z
LAST-MODIFIED:20250609T002008Z
UID:10000131-1749462600-1749463800@reenaseniorliving.com
SUMMARY:Outdoor Stroll
DESCRIPTION:
URL:https://reenaseniorliving.com/event-calendar/outdoor-stroll-7/
LOCATION:Activity Room
CATEGORIES:Assisted Living
END:VEVENT
BEGIN:VEVENT
DTSTART;TZID=America/Chicago:20250609T101500
DTEND;TZID=America/Chicago:20250609T110000
DTSTAMP:20260422T165510
CREATED:20250514T214953Z
LAST-MODIFIED:20250609T002008Z
UID:10000132-1749464100-1749466800@reenaseniorliving.com
SUMMARY:Lutheran Service with Julie - Legacy Court
DESCRIPTION:
URL:https://reenaseniorliving.com/event-calendar/lutheran-service-with-julie-legacy-court/
LOCATION:Legacy Court
CATEGORIES:Assisted Living,Legacy Court
END:VEVENT
BEGIN:VEVENT
DTSTART;TZID=America/Chicago:20250609T103000
DTEND;TZID=America/Chicago:20250609T110000
DTSTAMP:20260422T165510
CREATED:20250519T215024Z
LAST-MODIFIED:20250609T002008Z
UID:10000432-1749465000-1749466800@reenaseniorliving.com
SUMMARY:Green Thumbs and Patio Social Time.
DESCRIPTION:Garden and Social Time.
URL:https://reenaseniorliving.com/event-calendar/green-thumbs-and-patio-social-time-2/
LOCATION:Activity Room Patio
CATEGORIES:Assisted Living
END:VEVENT
BEGIN:VEVENT
DTSTART;TZID=America/Chicago:20250609T123000
DTEND;TZID=America/Chicago:20250609T130000
DTSTAMP:20260422T165510
CREATED:20250514T214953Z
LAST-MODIFIED:20250609T002008Z
UID:10000133-1749472200-1749474000@reenaseniorliving.com
SUMMARY:Rosary with Volunteer Dorothy
DESCRIPTION:
URL:https://reenaseniorliving.com/event-calendar/rosary-with-volunteer-dorothy-4/
LOCATION:Pub
CATEGORIES:Assisted Living
END:VEVENT
BEGIN:VEVENT
DTSTART;TZID=America/Chicago:20250609T133000
DTEND;TZID=America/Chicago:20250609T143000
DTSTAMP:20260422T165510
CREATED:20250514T214953Z
LAST-MODIFIED:20250609T002008Z
UID:10000134-1749475800-1749479400@reenaseniorliving.com
SUMMARY:Bingo
DESCRIPTION:
URL:https://reenaseniorliving.com/event-calendar/bingo-3/
LOCATION:AR
CATEGORIES:Assisted Living
END:VEVENT
BEGIN:VEVENT
DTSTART;TZID=America/Chicago:20250609T153000
DTEND;TZID=America/Chicago:20250609T163000
DTSTAMP:20260422T165510
CREATED:20250530T233534Z
LAST-MODIFIED:20250609T002008Z
UID:10000603-1749483000-1749486600@reenaseniorliving.com
SUMMARY:Checkers with Volunteer Joshua and family
DESCRIPTION:
URL:https://reenaseniorliving.com/event-calendar/checkers-with-volunteer-joshua-and-family/
LOCATION:Activity Room
CATEGORIES:Assisted Living
END:VEVENT
BEGIN:VEVENT
DTSTART;TZID=America/Chicago:20250609T170000
DTEND;TZID=America/Chicago:20250609T190000
DTSTAMP:20260422T165510
CREATED:20250514T214953Z
LAST-MODIFIED:20250609T002008Z
UID:10000135-1749488400-1749495600@reenaseniorliving.com
SUMMARY:Resident Guided - Social Time
DESCRIPTION:
URL:https://reenaseniorliving.com/event-calendar/resident-guided-social-time-27/
LOCATION:Activity Room
CATEGORIES:Assisted Living
END:VEVENT
BEGIN:VEVENT
DTSTART;TZID=America/Chicago:20250610T091500
DTEND;TZID=America/Chicago:20250610T094500
DTSTAMP:20260422T165510
CREATED:20250514T214953Z
LAST-MODIFIED:20250610T001918Z
UID:10000136-1749546900-1749548700@reenaseniorliving.com
SUMMARY:Movement Class
DESCRIPTION:
URL:https://reenaseniorliving.com/event-calendar/movement-class-19/
LOCATION:Activity Room
CATEGORIES:Assisted Living
END:VEVENT
BEGIN:VEVENT
DTSTART;TZID=America/Chicago:20250610T094500
DTEND;TZID=America/Chicago:20250610T100000
DTSTAMP:20260422T165510
CREATED:20250514T214954Z
LAST-MODIFIED:20250610T001919Z
UID:10000137-1749548700-1749549600@reenaseniorliving.com
SUMMARY:Strength Class - Intermediate Class
DESCRIPTION:
URL:https://reenaseniorliving.com/event-calendar/strength-class-intermediate-class-8/
LOCATION:Activity Room
CATEGORIES:Assisted Living
END:VEVENT
BEGIN:VEVENT
DTSTART;TZID=America/Chicago:20250610T103000
DTEND;TZID=America/Chicago:20250610T110000
DTSTAMP:20260422T165510
CREATED:20250514T214954Z
LAST-MODIFIED:20250610T001919Z
UID:10000138-1749551400-1749553200@reenaseniorliving.com
SUMMARY:Green Thumbs and Patio Social Time.
DESCRIPTION:Garden and Social Time.
URL:https://reenaseniorliving.com/event-calendar/green-thumbs-and-patio-social-time-you-dont-need-to-garden-to-appreciate-it-join-us-3/
LOCATION:Activity Room Patio
CATEGORIES:Assisted Living
END:VEVENT
BEGIN:VEVENT
DTSTART;TZID=America/Chicago:20250610T111500
DTEND;TZID=America/Chicago:20250610T130000
DTSTAMP:20260422T165510
CREATED:20250602T233423Z
LAST-MODIFIED:20250610T001919Z
UID:10000649-1749554100-1749560400@reenaseniorliving.com
SUMMARY:Lunch Outing to the Pine Cone Restaurant in Johnson Creek - signup - Pay for your meal
DESCRIPTION:
URL:https://reenaseniorliving.com/event-calendar/lunch-outing-to-the-pine-cone-restaurant-in-johnson-creek-signup-pay-for-your-meal/
CATEGORIES:Assisted Living
END:VEVENT
BEGIN:VEVENT
DTSTART;TZID=America/Chicago:20250610T130000
DTEND;TZID=America/Chicago:20250610T140000
DTSTAMP:20260422T165510
CREATED:20250606T233407Z
LAST-MODIFIED:20250610T001919Z
UID:10000692-1749560400-1749564000@reenaseniorliving.com
SUMMARY:Final 4 Spark Challenge. Watch the semifinals of Forklift Racing..
DESCRIPTION:
URL:https://reenaseniorliving.com/event-calendar/final-4-spark-challenge-watch-the-semifinals-of-forklift-racing/
LOCATION:Activity Room
CATEGORIES:Assisted Living,Legacy Court
END:VEVENT
BEGIN:VEVENT
DTSTART;TZID=America/Chicago:20250610T170000
DTEND;TZID=America/Chicago:20250610T190000
DTSTAMP:20260422T165510
CREATED:20250514T214954Z
LAST-MODIFIED:20250610T001919Z
UID:10000139-1749574800-1749582000@reenaseniorliving.com
SUMMARY:Resident Guided - Social Time
DESCRIPTION:
URL:https://reenaseniorliving.com/event-calendar/resident-guided-social-time-28/
LOCATION:Activity Room
CATEGORIES:Assisted Living
END:VEVENT
BEGIN:VEVENT
DTSTART;TZID=America/Chicago:20250611T091500
DTEND;TZID=America/Chicago:20250611T094500
DTSTAMP:20260422T165510
CREATED:20250514T214954Z
LAST-MODIFIED:20250611T002102Z
UID:10000140-1749633300-1749635100@reenaseniorliving.com
SUMMARY:Movement Class
DESCRIPTION:
URL:https://reenaseniorliving.com/event-calendar/movement-class-20/
LOCATION:Activity Room
CATEGORIES:Assisted Living
END:VEVENT
BEGIN:VEVENT
DTSTART;TZID=America/Chicago:20250611T100000
DTEND;TZID=America/Chicago:20250611T103000
DTSTAMP:20260422T165510
CREATED:20250530T233534Z
LAST-MODIFIED:20250611T002102Z
UID:10000604-1749636000-1749637800@reenaseniorliving.com
SUMMARY:Green Thumbs Garden Group
DESCRIPTION:
URL:https://reenaseniorliving.com/event-calendar/green-thumbs-garden-group-2/
LOCATION:Activity Room
CATEGORIES:Assisted Living
END:VEVENT
BEGIN:VEVENT
DTSTART;TZID=America/Chicago:20250611T101500
DTEND;TZID=America/Chicago:20250611T111500
DTSTAMP:20260422T165510
CREATED:20250514T214955Z
LAST-MODIFIED:20250611T002102Z
UID:10000141-1749636900-1749640500@reenaseniorliving.com
SUMMARY:Catholic Service
DESCRIPTION:
URL:https://reenaseniorliving.com/event-calendar/catholic-service-4/
LOCATION:Legacy Court
CATEGORIES:Assisted Living,Legacy Court
END:VEVENT
BEGIN:VEVENT
DTSTART;TZID=America/Chicago:20250611T123000
DTEND;TZID=America/Chicago:20250611T124500
DTSTAMP:20260422T165510
CREATED:20250514T214955Z
LAST-MODIFIED:20250514T214955Z
UID:10000142-1749645000-1749645900@reenaseniorliving.com
SUMMARY:Reading of AGNUS DEI with volunteer Dorothy
DESCRIPTION:
URL:https://reenaseniorliving.com/event-calendar/reading-of-agnus-dei-with-volunteer-dorothy-2/
LOCATION:Pub
CATEGORIES:Assisted Living
END:VEVENT
BEGIN:VEVENT
DTSTART;TZID=America/Chicago:20250611T130000
DTEND;TZID=America/Chicago:20250611T133000
DTSTAMP:20260422T165510
CREATED:20250514T214955Z
LAST-MODIFIED:20250604T233633Z
UID:10000143-1749646800-1749648600@reenaseniorliving.com
SUMMARY:Lifespark Senior Living SPARKING CHANGE - Lifeguard Deep Dive
DESCRIPTION:
URL:https://reenaseniorliving.com/event-calendar/lifespark-senior-living-sparking-change-lifeguard-deep-dive-4/
LOCATION:Activity Room
CATEGORIES:Assisted Living
END:VEVENT
BEGIN:VEVENT
DTSTART;TZID=America/Chicago:20250611T140000
DTEND;TZID=America/Chicago:20250611T143000
DTSTAMP:20260422T165510
CREATED:20250530T233534Z
LAST-MODIFIED:20250602T233423Z
UID:10000605-1749650400-1749652200@reenaseniorliving.com
SUMMARY:Outdoor Stroll
DESCRIPTION:
URL:https://reenaseniorliving.com/event-calendar/outdoor-stroll-13/
LOCATION:Activity Room
CATEGORIES:Assisted Living
END:VEVENT
BEGIN:VEVENT
DTSTART;TZID=America/Chicago:20250611T140000
DTEND;TZID=America/Chicago:20250611T150000
DTSTAMP:20260422T165510
CREATED:20250514T214956Z
LAST-MODIFIED:20250514T215113Z
UID:10000144-1749650400-1749654000@reenaseniorliving.com
SUMMARY:Second Chances
DESCRIPTION:
URL:https://reenaseniorliving.com/event-calendar/second-chances/
LOCATION:Activity Room
CATEGORIES:Assisted Living,Legacy Court
END:VEVENT
BEGIN:VEVENT
DTSTART;TZID=America/Chicago:20250611T150000
DTEND;TZID=America/Chicago:20250611T160000
DTSTAMP:20260422T165510
CREATED:20250515T214938Z
LAST-MODIFIED:20250611T002103Z
UID:10000377-1749654000-1749657600@reenaseniorliving.com
SUMMARY:Fox Talk - Fall Prevention & Making slip-resistant Socks. Bring a clean pair of socks.
DESCRIPTION:
URL:https://reenaseniorliving.com/event-calendar/fox-talk-fall-prevention-and-making-slip-resistant-socks-to-take-home/
LOCATION:Activity Room
CATEGORIES:Assisted Living
END:VEVENT
BEGIN:VEVENT
DTSTART;TZID=America/Chicago:20250611T151500
DTEND;TZID=America/Chicago:20250611T161500
DTSTAMP:20260422T165510
CREATED:20250514T214957Z
LAST-MODIFIED:20250514T214957Z
UID:10000145-1749654900-1749658500@reenaseniorliving.com
SUMMARY:Men's Chap Chat with Chaplain Lee
DESCRIPTION:
URL:https://reenaseniorliving.com/event-calendar/mens-chap-chat-with-chaplain-lee/
LOCATION:Pub
CATEGORIES:Assisted Living
END:VEVENT
BEGIN:VEVENT
DTSTART;TZID=America/Chicago:20250611T170000
DTEND;TZID=America/Chicago:20250611T190000
DTSTAMP:20260422T165511
CREATED:20250514T214958Z
LAST-MODIFIED:20250611T002103Z
UID:10000146-1749661200-1749668400@reenaseniorliving.com
SUMMARY:Resident Guided - Social Time
DESCRIPTION:
URL:https://reenaseniorliving.com/event-calendar/resident-guided-social-time-29/
LOCATION:Activity Room
CATEGORIES:Assisted Living
END:VEVENT
BEGIN:VEVENT
DTSTART;TZID=America/Chicago:20250612T091500
DTEND;TZID=America/Chicago:20250612T094500
DTSTAMP:20260422T165511
CREATED:20250514T214958Z
LAST-MODIFIED:20250612T001942Z
UID:10000147-1749719700-1749721500@reenaseniorliving.com
SUMMARY:Movement Class
DESCRIPTION:Gentle Movement\, Strength\, Mobility\, Balance\, & More.
URL:https://reenaseniorliving.com/event-calendar/movement-class-21/
LOCATION:Activity Room
CATEGORIES:Assisted Living
END:VEVENT
BEGIN:VEVENT
DTSTART;TZID=America/Chicago:20250612T094500
DTEND;TZID=America/Chicago:20250612T100000
DTSTAMP:20260422T165511
CREATED:20250514T214959Z
LAST-MODIFIED:20250612T001942Z
UID:10000148-1749721500-1749722400@reenaseniorliving.com
SUMMARY:Strength Class - Intermediate Class
DESCRIPTION:
URL:https://reenaseniorliving.com/event-calendar/strength-class-intermediate-class-9/
LOCATION:Activity Room
CATEGORIES:Assisted Living
END:VEVENT
BEGIN:VEVENT
DTSTART;TZID=America/Chicago:20250612T101500
DTEND;TZID=America/Chicago:20250612T111000
DTSTAMP:20260422T165511
CREATED:20250530T233534Z
LAST-MODIFIED:20250612T001942Z
UID:10000606-1749723300-1749726600@reenaseniorliving.com
SUMMARY:Coffee & News and Views on Linked Senior & one Youtube Classic TV show.
DESCRIPTION:
URL:https://reenaseniorliving.com/event-calendar/coffee-news-and-views-on-linked-senior-one-youtube-classic-tv-show/
LOCATION:Activity Room
CATEGORIES:Assisted Living
END:VEVENT
BEGIN:VEVENT
DTSTART;TZID=America/Chicago:20250612T130000
DTEND;TZID=America/Chicago:20250612T140000
DTSTAMP:20260422T165511
CREATED:20250606T234914Z
LAST-MODIFIED:20250612T001942Z
UID:10000695-1749733200-1749736800@reenaseniorliving.com
SUMMARY:Forklift League Championships! Come watch our fellow communities finish the season.
DESCRIPTION:
URL:https://reenaseniorliving.com/event-calendar/forklift-league-championships-come-watch-our-fellow-communities-finish-the-season/
LOCATION:Activity Room
CATEGORIES:Assisted Living
END:VEVENT
BEGIN:VEVENT
DTSTART;TZID=America/Chicago:20250612T140000
DTEND;TZID=America/Chicago:20250612T153000
DTSTAMP:20260422T165511
CREATED:20250515T214938Z
LAST-MODIFIED:20250612T001942Z
UID:10000378-1749736800-1749742200@reenaseniorliving.com
SUMMARY:Father's Day - Snacks and Beverages - Axe Throwing and Corn Hole. All are welcome.
DESCRIPTION:
URL:https://reenaseniorliving.com/event-calendar/fathers-day-snacks-beer-and-beverages-axe-throwing-and-corn-hole/
LOCATION:Front of Building set-up
CATEGORIES:Assisted Living
END:VEVENT
BEGIN:VEVENT
DTSTART;TZID=America/Chicago:20250612T150000
DTEND;TZID=America/Chicago:20250612T161500
DTSTAMP:20260422T165511
CREATED:20250514T215000Z
LAST-MODIFIED:20250529T233752Z
UID:10000149-1749740400-1749744900@reenaseniorliving.com
SUMMARY:Cards - 3 tables set up to play - Garbage\, Rummy cube\, or War
DESCRIPTION:
URL:https://reenaseniorliving.com/event-calendar/cards-tbd-or-trouble-board-game-2/
LOCATION:Activity Room
CATEGORIES:Assisted Living
END:VEVENT
END:VCALENDAR