BEGIN:VCALENDAR
VERSION:2.0
PRODID:-//Reena Senior Living - ECPv6.11.2.1//NONSGML v1.0//EN
CALSCALE:GREGORIAN
METHOD:PUBLISH
X-WR-CALNAME:Reena Senior Living
X-ORIGINAL-URL:https://reenaseniorliving.com
X-WR-CALDESC:Events for Reena Senior Living
REFRESH-INTERVAL;VALUE=DURATION:PT1H
X-Robots-Tag:noindex
X-PUBLISHED-TTL:PT1H
BEGIN:VTIMEZONE
TZID:America/Chicago
BEGIN:DAYLIGHT
TZOFFSETFROM:-0600
TZOFFSETTO:-0500
TZNAME:CDT
DTSTART:20250309T080000
END:DAYLIGHT
BEGIN:STANDARD
TZOFFSETFROM:-0500
TZOFFSETTO:-0600
TZNAME:CST
DTSTART:20251102T070000
END:STANDARD
END:VTIMEZONE
BEGIN:VEVENT
DTSTART;TZID=America/Chicago:20250915T123000
DTEND;TZID=America/Chicago:20250915T130000
DTSTAMP:20260422T171135
CREATED:20250817T061929Z
LAST-MODIFIED:20250915T070401Z
UID:10001813-1757939400-1757941200@reenaseniorliving.com
SUMMARY:Green Thumbs and Patio Social Time.
DESCRIPTION:Garden and Social Time.
URL:https://reenaseniorliving.com/event-calendar/green-thumbs-and-patio-social-time-30/
LOCATION:Activity Room Patio
CATEGORIES:Assisted Living
END:VEVENT
BEGIN:VEVENT
DTSTART;TZID=America/Chicago:20250915T123000
DTEND;TZID=America/Chicago:20250915T130000
DTSTAMP:20260422T171135
CREATED:20250817T061929Z
LAST-MODIFIED:20250909T070401Z
UID:10001815-1757939400-1757941200@reenaseniorliving.com
SUMMARY:Rosary with Volunteer Dorothy
DESCRIPTION:
URL:https://reenaseniorliving.com/event-calendar/rosary-with-volunteer-dorothy-18/
LOCATION:Pub
CATEGORIES:Assisted Living
END:VEVENT
BEGIN:VEVENT
DTSTART;TZID=America/Chicago:20250915T133000
DTEND;TZID=America/Chicago:20250915T143000
DTSTAMP:20260422T171135
CREATED:20250817T061929Z
LAST-MODIFIED:20250915T070401Z
UID:10001816-1757943000-1757946600@reenaseniorliving.com
SUMMARY:Bingo
DESCRIPTION:
URL:https://reenaseniorliving.com/event-calendar/bingo-35/
LOCATION:Activity Room
CATEGORIES:Assisted Living
END:VEVENT
BEGIN:VEVENT
DTSTART;TZID=America/Chicago:20250915T144500
DTEND;TZID=America/Chicago:20250915T153000
DTSTAMP:20260422T171135
CREATED:20250911T070402Z
LAST-MODIFIED:20250912T070401Z
UID:10002168-1757947500-1757950200@reenaseniorliving.com
SUMMARY:Sing a Long Karaoke - Country Music on TV
DESCRIPTION:
URL:https://reenaseniorliving.com/event-calendar/sing-a-long-karaoke-country-music-on-tv/
LOCATION:Activity Room
CATEGORIES:Assisted Living
END:VEVENT
BEGIN:VEVENT
DTSTART;TZID=America/Chicago:20250915T170000
DTEND;TZID=America/Chicago:20250915T190000
DTSTAMP:20260422T171135
CREATED:20250817T061929Z
LAST-MODIFIED:20250915T070401Z
UID:10001817-1757955600-1757962800@reenaseniorliving.com
SUMMARY:Social and Game Time - Balcony\, Activity Room or Pub Spaces
DESCRIPTION:
URL:https://reenaseniorliving.com/event-calendar/social-and-game-time-library-is-on-2nd-floor-balcony-area-12/
LOCATION:Library
CATEGORIES:Assisted Living
END:VEVENT
BEGIN:VEVENT
DTSTART;TZID=America/Chicago:20250916T091500
DTEND;TZID=America/Chicago:20250916T094500
DTSTAMP:20260422T171135
CREATED:20250818T061929Z
LAST-MODIFIED:20250916T070402Z
UID:10001830-1758014100-1758015900@reenaseniorliving.com
SUMMARY:Movement Class with Kayla
DESCRIPTION:
URL:https://reenaseniorliving.com/event-calendar/movement-class-with-kayla-45/
LOCATION:Activity Room
CATEGORIES:Assisted Living
END:VEVENT
BEGIN:VEVENT
DTSTART;TZID=America/Chicago:20250916T094500
DTEND;TZID=America/Chicago:20250916T101000
DTSTAMP:20260422T171135
CREATED:20250818T061929Z
LAST-MODIFIED:20250916T070402Z
UID:10001831-1758015900-1758017400@reenaseniorliving.com
SUMMARY:Walk Outdoors (weather permitting)
DESCRIPTION:
URL:https://reenaseniorliving.com/event-calendar/strength-class-intermediate-class-36/
LOCATION:Activity Room
CATEGORIES:Assisted Living
END:VEVENT
BEGIN:VEVENT
DTSTART;TZID=America/Chicago:20250916T101500
DTEND;TZID=America/Chicago:20250916T104500
DTSTAMP:20260422T171135
CREATED:20250818T061929Z
LAST-MODIFIED:20250916T070402Z
UID:10001832-1758017700-1758019500@reenaseniorliving.com
SUMMARY:Green Thumbs Garden Group
DESCRIPTION:
URL:https://reenaseniorliving.com/event-calendar/green-thumbs-garden-group-50/
LOCATION:Activity Room Patio
CATEGORIES:Assisted Living
END:VEVENT
BEGIN:VEVENT
DTSTART;TZID=America/Chicago:20250916T125000
DTEND;TZID=America/Chicago:20250916T135000
DTSTAMP:20260422T171135
CREATED:20250911T070402Z
LAST-MODIFIED:20250916T070402Z
UID:10002169-1758027000-1758030600@reenaseniorliving.com
SUMMARY:Grip Playoffs! If you'd like to watch.
DESCRIPTION:
URL:https://reenaseniorliving.com/event-calendar/grip-playoffs-if-youd-like-to-watch/
LOCATION:Activity Room
CATEGORIES:Assisted Living
END:VEVENT
BEGIN:VEVENT
DTSTART;TZID=America/Chicago:20250916T130000
DTEND;TZID=America/Chicago:20250916T140000
DTSTAMP:20260422T171135
CREATED:20250818T061929Z
LAST-MODIFIED:20250905T070421Z
UID:10001833-1758027600-1758031200@reenaseniorliving.com
SUMMARY:Grip Competition - Come join the team!
DESCRIPTION:
URL:https://reenaseniorliving.com/event-calendar/grip-competition-come-join-the-team/
LOCATION:Activity Room
CATEGORIES:Assisted Living
END:VEVENT
BEGIN:VEVENT
DTSTART;TZID=America/Chicago:20250916T130000
DTEND;TZID=America/Chicago:20250916T140000
DTSTAMP:20260422T171135
CREATED:20250906T050406Z
LAST-MODIFIED:20250910T070402Z
UID:10002070-1758027600-1758031200@reenaseniorliving.com
SUMMARY:Let's Watch the Final Competitors for the Grip Challenge on the Opticon.
DESCRIPTION:
URL:https://reenaseniorliving.com/event-calendar/lets-watch-the-final-competitors-for-the-grip-challenge-on-the-opticon/
LOCATION:Activity Room
CATEGORIES:Assisted Living,Legacy Court
END:VEVENT
BEGIN:VEVENT
DTSTART;TZID=America/Chicago:20250916T130000
DTEND;TZID=America/Chicago:20250916T160000
DTSTAMP:20260422T171135
CREATED:20250911T070402Z
LAST-MODIFIED:20250916T070402Z
UID:10002170-1758027600-1758038400@reenaseniorliving.com
SUMMARY:Nails Spa Day - sign-up
DESCRIPTION:
URL:https://reenaseniorliving.com/event-calendar/nails-sign-up/
LOCATION:Activity Room
CATEGORIES:Assisted Living
END:VEVENT
BEGIN:VEVENT
DTSTART;TZID=America/Chicago:20250916T141500
DTEND;TZID=America/Chicago:20250916T150000
DTSTAMP:20260422T171135
CREATED:20250818T040417Z
LAST-MODIFIED:20250910T070402Z
UID:10001825-1758032100-1758034800@reenaseniorliving.com
SUMMARY:Sing a Long Karaoke - Country Music on TV
DESCRIPTION:
URL:https://reenaseniorliving.com/event-calendar/sing-a-long-karaoke-on-tv-with-anne-4/
LOCATION:Activity Room
CATEGORIES:Assisted Living,Legacy Court
END:VEVENT
BEGIN:VEVENT
DTSTART;TZID=America/Chicago:20250916T170000
DTEND;TZID=America/Chicago:20250916T190000
DTSTAMP:20260422T171135
CREATED:20250818T061929Z
LAST-MODIFIED:20250910T070402Z
UID:10001834-1758042000-1758049200@reenaseniorliving.com
SUMMARY:Social and Game Time - Balcony\, Activity Room or Pub Spaces
DESCRIPTION:
URL:https://reenaseniorliving.com/event-calendar/social-and-game-time-library-is-on-2nd-floor-balcony-area-13/
LOCATION:Library
CATEGORIES:Assisted Living
END:VEVENT
BEGIN:VEVENT
DTSTART;TZID=America/Chicago:20250916T173000
DTEND;TZID=America/Chicago:20250916T181500
DTSTAMP:20260422T171135
CREATED:20250913T070403Z
LAST-MODIFIED:20250916T070402Z
UID:10002191-1758043800-1758046500@reenaseniorliving.com
SUMMARY:Connect Four - Resident Run Activity with Peers
DESCRIPTION:
URL:https://reenaseniorliving.com/event-calendar/connect-four-resident-run-activity-with-peers/
LOCATION:Activity Room
CATEGORIES:Assisted Living
END:VEVENT
BEGIN:VEVENT
DTSTART;TZID=America/Chicago:20250917T091500
DTEND;TZID=America/Chicago:20250917T094500
DTSTAMP:20260422T171135
CREATED:20250819T061906Z
LAST-MODIFIED:20250829T064933Z
UID:10001845-1758100500-1758102300@reenaseniorliving.com
SUMMARY:Movement Class with Kayla
DESCRIPTION:
URL:https://reenaseniorliving.com/event-calendar/movement-class-with-kayla-46/
LOCATION:Activity Room
CATEGORIES:Assisted Living
END:VEVENT
BEGIN:VEVENT
DTSTART;TZID=America/Chicago:20250917T091500
DTEND;TZID=America/Chicago:20250917T094500
DTSTAMP:20260422T171135
CREATED:20250910T070402Z
LAST-MODIFIED:20250917T071902Z
UID:10002139-1758100500-1758102300@reenaseniorliving.com
SUMMARY:Movement Class with Kayla
DESCRIPTION:
URL:https://reenaseniorliving.com/event-calendar/movement-class-with-kayla-60/
LOCATION:Activity Room
CATEGORIES:Assisted Living
END:VEVENT
BEGIN:VEVENT
DTSTART;TZID=America/Chicago:20250917T100000
DTEND;TZID=America/Chicago:20250917T101500
DTSTAMP:20260422T171135
CREATED:20250819T040514Z
LAST-MODIFIED:20250912T070401Z
UID:10001836-1758103200-1758104100@reenaseniorliving.com
SUMMARY:Sing along before Catholic Service.
DESCRIPTION:We will assist you to go next door.
URL:https://reenaseniorliving.com/event-calendar/sing-along-before-catholic-service-16/
LOCATION:Legacy Court
CATEGORIES:Assisted Living,Legacy Court
END:VEVENT
BEGIN:VEVENT
DTSTART;TZID=America/Chicago:20250917T101500
DTEND;TZID=America/Chicago:20250917T111500
DTSTAMP:20260422T171135
CREATED:20250819T040514Z
LAST-MODIFIED:20250917T071902Z
UID:10001837-1758104100-1758107700@reenaseniorliving.com
SUMMARY:Catholic Service
DESCRIPTION:
URL:https://reenaseniorliving.com/event-calendar/catholic-service-17/
LOCATION:Legacy Court
CATEGORIES:Assisted Living,Legacy Court
END:VEVENT
BEGIN:VEVENT
DTSTART;TZID=America/Chicago:20250917T130000
DTEND;TZID=America/Chicago:20250917T133000
DTSTAMP:20260422T171135
CREATED:20250819T061906Z
LAST-MODIFIED:20250912T070401Z
UID:10001846-1758114000-1758115800@reenaseniorliving.com
SUMMARY:Green Thumbs Garden Group
DESCRIPTION:
URL:https://reenaseniorliving.com/event-calendar/green-thumbs-garden-group-51/
LOCATION:Activity Room Patio
CATEGORIES:Assisted Living
END:VEVENT
BEGIN:VEVENT
DTSTART;TZID=America/Chicago:20250917T140000
DTEND;TZID=America/Chicago:20250917T145000
DTSTAMP:20260422T171135
CREATED:20250819T040514Z
LAST-MODIFIED:20250917T071902Z
UID:10001840-1758117600-1758120600@reenaseniorliving.com
SUMMARY:St. Paul's Lutheran Service - TBD Changes May Occur
DESCRIPTION:
URL:https://reenaseniorliving.com/event-calendar/st-pauls-lutheran-service-5/
LOCATION:Legacy Court
CATEGORIES:Assisted Living,Legacy Court
END:VEVENT
BEGIN:VEVENT
DTSTART;TZID=America/Chicago:20250917T170000
DTEND;TZID=America/Chicago:20250917T190000
DTSTAMP:20260422T171135
CREATED:20250819T061906Z
LAST-MODIFIED:20250917T071902Z
UID:10001847-1758128400-1758135600@reenaseniorliving.com
SUMMARY:Social and Game Time - Balcony\, Activity Room or Pub Spaces
DESCRIPTION:
URL:https://reenaseniorliving.com/event-calendar/social-and-game-time-library-is-on-2nd-floor-balcony-area-14/
LOCATION:Library
CATEGORIES:Assisted Living
END:VEVENT
BEGIN:VEVENT
DTSTART;TZID=America/Chicago:20250917T173000
DTEND;TZID=America/Chicago:20250917T190000
DTSTAMP:20260422T171135
CREATED:20250819T061906Z
LAST-MODIFIED:20250912T070401Z
UID:10001848-1758130200-1758135600@reenaseniorliving.com
SUMMARY:Hand & Foot\, Garbage\, or Jenga with your peers. (AR)
DESCRIPTION:
URL:https://reenaseniorliving.com/event-calendar/corn-hole-game-connect-four-jenga-are-set-up-in-the-activity-room-for-you-6/
LOCATION:Activity Room
CATEGORIES:Assisted Living
END:VEVENT
BEGIN:VEVENT
DTSTART;TZID=America/Chicago:20250918T091500
DTEND;TZID=America/Chicago:20250918T094500
DTSTAMP:20260422T171135
CREATED:20250820T061907Z
LAST-MODIFIED:20250918T071901Z
UID:10001858-1758186900-1758188700@reenaseniorliving.com
SUMMARY:Movement Class with Kayla
DESCRIPTION:Gentle Movement\, Strength\, Mobility\, Balance\, & More.
URL:https://reenaseniorliving.com/event-calendar/movement-class-with-kayla-47/
LOCATION:Activity Room
CATEGORIES:Assisted Living
END:VEVENT
BEGIN:VEVENT
DTSTART;TZID=America/Chicago:20250918T094500
DTEND;TZID=America/Chicago:20250918T101000
DTSTAMP:20260422T171135
CREATED:20250820T061907Z
LAST-MODIFIED:20250918T071901Z
UID:10001859-1758188700-1758190200@reenaseniorliving.com
SUMMARY:Outdoor Walking
DESCRIPTION:
URL:https://reenaseniorliving.com/event-calendar/strength-class-intermediate-class-37/
LOCATION:Activity Room
CATEGORIES:Assisted Living
END:VEVENT
BEGIN:VEVENT
DTSTART;TZID=America/Chicago:20250918T101500
DTEND;TZID=America/Chicago:20250918T111500
DTSTAMP:20260422T171135
CREATED:20250910T070402Z
LAST-MODIFIED:20250918T071901Z
UID:10002140-1758190500-1758194100@reenaseniorliving.com
SUMMARY:Life of Norine Niedecker - Poet from Fort Atkinson - University Place 58minutes
DESCRIPTION:
URL:https://reenaseniorliving.com/event-calendar/life-of-norine-niedecker-poet-from-fort-atkinson-university-place-58minutes/
LOCATION:Activity Room
CATEGORIES:Assisted Living
END:VEVENT
BEGIN:VEVENT
DTSTART;TZID=America/Chicago:20250918T130000
DTEND;TZID=America/Chicago:20250918T140000
DTSTAMP:20260422T171135
CREATED:20250906T050407Z
LAST-MODIFIED:20250918T071901Z
UID:10002071-1758200400-1758204000@reenaseniorliving.com
SUMMARY:Championships for Grip - Join us watching the finals.
DESCRIPTION:
URL:https://reenaseniorliving.com/event-calendar/championships-for-grip-join-us-watching-the-finals/
LOCATION:Activity Room
CATEGORIES:Assisted Living,Legacy Court
END:VEVENT
BEGIN:VEVENT
DTSTART;TZID=America/Chicago:20250918T140000
DTEND;TZID=America/Chicago:20250918T141500
DTSTAMP:20260422T171135
CREATED:20250820T061907Z
LAST-MODIFIED:20250918T071902Z
UID:10001860-1758204000-1758204900@reenaseniorliving.com
SUMMARY:Pet Therapy Visit
DESCRIPTION:Therapy Dog and Human will visit Lobby and then Legacy Court.
URL:https://reenaseniorliving.com/event-calendar/pet-therapy-visit-5/
LOCATION:Activity Room
CATEGORIES:Assisted Living
END:VEVENT
BEGIN:VEVENT
DTSTART;TZID=America/Chicago:20250918T143000
DTEND;TZID=America/Chicago:20250918T151500
DTSTAMP:20260422T171135
CREATED:20250820T061907Z
LAST-MODIFIED:20250909T070402Z
UID:10001861-1758205800-1758208500@reenaseniorliving.com
SUMMARY:Community Life Gathering with Dawn
DESCRIPTION:
URL:https://reenaseniorliving.com/event-calendar/community-life-gathering-with-dawn-4/
LOCATION:Activity Room
CATEGORIES:Assisted Living
END:VEVENT
BEGIN:VEVENT
DTSTART;TZID=America/Chicago:20250918T150000
DTEND;TZID=America/Chicago:20250918T154500
DTSTAMP:20260422T171135
CREATED:20250820T061907Z
LAST-MODIFIED:20250909T070402Z
UID:10001862-1758207600-1758210300@reenaseniorliving.com
SUMMARY:Trivia and Games - Geography and Stickman Word Game
DESCRIPTION:
URL:https://reenaseniorliving.com/event-calendar/trivia-and-games-geography-and-stickman-word-game-2/
LOCATION:Activity Room
CATEGORIES:Assisted Living
END:VEVENT
END:VCALENDAR