BEGIN:VCALENDAR
VERSION:2.0
PRODID:-//Reena Senior Living - ECPv6.11.2.1//NONSGML v1.0//EN
CALSCALE:GREGORIAN
METHOD:PUBLISH
X-WR-CALNAME:Reena Senior Living
X-ORIGINAL-URL:https://reenaseniorliving.com
X-WR-CALDESC:Events for Reena Senior Living
REFRESH-INTERVAL;VALUE=DURATION:PT1H
X-Robots-Tag:noindex
X-PUBLISHED-TTL:PT1H
BEGIN:VTIMEZONE
TZID:America/Chicago
BEGIN:DAYLIGHT
TZOFFSETFROM:-0600
TZOFFSETTO:-0500
TZNAME:CDT
DTSTART:20260308T080000
END:DAYLIGHT
BEGIN:STANDARD
TZOFFSETFROM:-0500
TZOFFSETTO:-0600
TZNAME:CST
DTSTART:20261101T070000
END:STANDARD
END:VTIMEZONE
BEGIN:VEVENT
DTSTART;TZID=America/Chicago:20260409T100000
DTEND;TZID=America/Chicago:20260409T104000
DTSTAMP:20260421T205325
CREATED:20260328T054959Z
LAST-MODIFIED:20260409T060453Z
UID:10005043-1775728800-1775731200@reenaseniorliving.com
SUMMARY:Robot Soccer Practice.
DESCRIPTION:
URL:https://reenaseniorliving.com/event-calendar/robot-soccer-practice-taking-turns-driving-and-score-keeping-breaks-built-in-to-discuss-stategy-5/
LOCATION:Activity Room
CATEGORIES:Assisted Living
END:VEVENT
BEGIN:VEVENT
DTSTART;TZID=America/Chicago:20260409T130000
DTEND;TZID=America/Chicago:20260409T134500
DTSTAMP:20260421T205325
CREATED:20260311T041914Z
LAST-MODIFIED:20260409T060453Z
UID:10004841-1775739600-1775742300@reenaseniorliving.com
SUMMARY:Hoard Museum Art Design Contest Starts Today. Let's get our ideas brainstormed today.
DESCRIPTION:
URL:https://reenaseniorliving.com/event-calendar/hoard-museum-cow-contest-team-starts-today-lets-get-our-ideas-brainstormed-today/
LOCATION:Activity Room
CATEGORIES:Assisted Living
END:VEVENT
BEGIN:VEVENT
DTSTART;TZID=America/Chicago:20260409T133000
DTEND;TZID=America/Chicago:20260409T134500
DTSTAMP:20260421T205325
CREATED:20260404T060413Z
LAST-MODIFIED:20260409T060453Z
UID:10005096-1775741400-1775742300@reenaseniorliving.com
SUMMARY:Arm Chair Tour - Portland's World Class Japanese Garden - Oregon Public Broadcasting - 15 min.
DESCRIPTION:
URL:https://reenaseniorliving.com/event-calendar/arm-chair-tour-portlands-world-class-japanese-garden-oregon-public-broadcasting-15-min/
LOCATION:Activity Room
CATEGORIES:Assisted Living
END:VEVENT
BEGIN:VEVENT
DTSTART;TZID=America/Chicago:20260409T140000
DTEND;TZID=America/Chicago:20260409T141000
DTSTAMP:20260421T205325
CREATED:20260404T060413Z
LAST-MODIFIED:20260409T060454Z
UID:10005097-1775743200-1775743800@reenaseniorliving.com
SUMMARY:Guided Relaxation - Breathwork
DESCRIPTION:
URL:https://reenaseniorliving.com/event-calendar/guided-relaxation-breathwork/
LOCATION:Activity Room
CATEGORIES:Assisted Living
END:VEVENT
BEGIN:VEVENT
DTSTART;TZID=America/Chicago:20260409T140000
DTEND;TZID=America/Chicago:20260409T150000
DTSTAMP:20260421T205325
CREATED:20260311T041914Z
LAST-MODIFIED:20260327T054928Z
UID:10004842-1775743200-1775746800@reenaseniorliving.com
SUMMARY:Learning Event
DESCRIPTION:
URL:https://reenaseniorliving.com/event-calendar/learning-event/
LOCATION:Activity Room
CATEGORIES:Assisted Living
END:VEVENT
BEGIN:VEVENT
DTSTART;TZID=America/Chicago:20260409T141500
DTEND;TZID=America/Chicago:20260409T150000
DTSTAMP:20260421T205325
CREATED:20260404T060414Z
LAST-MODIFIED:20260409T060454Z
UID:10005098-1775744100-1775746800@reenaseniorliving.com
SUMMARY:Adult Art and Coloring with Gentle Music and Scenery on TV
DESCRIPTION:
URL:https://reenaseniorliving.com/event-calendar/adult-art-and-coloring-with-gentle-music-and-scenery-on-tv/
LOCATION:Activity Room
CATEGORIES:Assisted Living
END:VEVENT
BEGIN:VEVENT
DTSTART;TZID=America/Chicago:20260409T171500
DTEND;TZID=America/Chicago:20260409T190000
DTSTAMP:20260421T205325
CREATED:20260404T060414Z
LAST-MODIFIED:20260409T060454Z
UID:10005099-1775754900-1775761200@reenaseniorliving.com
SUMMARY:Game Night!
DESCRIPTION:
URL:https://reenaseniorliving.com/event-calendar/game-night-17/
LOCATION:Activity Room
CATEGORIES:Assisted Living
END:VEVENT
BEGIN:VEVENT
DTSTART;TZID=America/Chicago:20260410T094500
DTEND;TZID=America/Chicago:20260410T101000
DTSTAMP:20260421T205325
CREATED:20260328T054959Z
LAST-MODIFIED:20260410T060402Z
UID:10005044-1775814300-1775815800@reenaseniorliving.com
SUMMARY:Biking and Balance
DESCRIPTION:
URL:https://reenaseniorliving.com/event-calendar/biking-and-balance-3/
LOCATION:Exercise Room Basement
CATEGORIES:Assisted Living
END:VEVENT
BEGIN:VEVENT
DTSTART;TZID=America/Chicago:20260410T095500
DTEND;TZID=America/Chicago:20260410T102000
DTSTAMP:20260421T205325
CREATED:20260312T042023Z
LAST-MODIFIED:20260319T053435Z
UID:10004850-1775814900-1775816400@reenaseniorliving.com
SUMMARY:Biking & Balance - A few minutes of each. For strength\, balance\, and fall prevention.
DESCRIPTION:
URL:https://reenaseniorliving.com/event-calendar/biking-balance-a-few-minutes-of-each-for-strength-balance-and-fall-prevention-30/
LOCATION:Exercise Room Basement
CATEGORIES:Assisted Living
END:VEVENT
BEGIN:VEVENT
DTSTART;TZID=America/Chicago:20260410T100000
DTEND;TZID=America/Chicago:20260410T104000
DTSTAMP:20260421T205325
CREATED:20260328T054959Z
LAST-MODIFIED:20260410T060402Z
UID:10005045-1775815200-1775817600@reenaseniorliving.com
SUMMARY:Robot Soccer Practice.
DESCRIPTION:
URL:https://reenaseniorliving.com/event-calendar/robot-soccer-practice-taking-turns-driving-and-score-keeping-breaks-built-in-to-discuss-stategy-6/
LOCATION:Theatre
CATEGORIES:Assisted Living
END:VEVENT
BEGIN:VEVENT
DTSTART;TZID=America/Chicago:20260410T123000
DTEND;TZID=America/Chicago:20260410T130000
DTSTAMP:20260421T205325
CREATED:20260312T042024Z
LAST-MODIFIED:20260410T060402Z
UID:10004851-1775824200-1775826000@reenaseniorliving.com
SUMMARY:Your weekly activity packets will be delivered.
DESCRIPTION:
URL:https://reenaseniorliving.com/event-calendar/your-weekly-activity-packets-will-be-delivered-48/
LOCATION:Activity Room
CATEGORIES:Assisted Living
END:VEVENT
BEGIN:VEVENT
DTSTART;TZID=America/Chicago:20260410T150000
DTEND;TZID=America/Chicago:20260410T160000
DTSTAMP:20260421T205325
CREATED:20260404T060415Z
LAST-MODIFIED:20260410T060402Z
UID:10005100-1775833200-1775836800@reenaseniorliving.com
SUMMARY:Euchre - Go from Cards to Dinner - Resident Run
DESCRIPTION:
URL:https://reenaseniorliving.com/event-calendar/euchre-go-from-cards-to-dinner-resident-run/
LOCATION:Activity Room
CATEGORIES:Assisted Living
END:VEVENT
BEGIN:VEVENT
DTSTART;TZID=America/Chicago:20260410T171500
DTEND;TZID=America/Chicago:20260410T191500
DTSTAMP:20260421T205325
CREATED:20260328T054959Z
LAST-MODIFIED:20260410T060402Z
UID:10005046-1775841300-1775848500@reenaseniorliving.com
SUMMARY:Resident Run Social Time
DESCRIPTION:
URL:https://reenaseniorliving.com/event-calendar/resident-run-social-time-4/
CATEGORIES:Assisted Living
END:VEVENT
BEGIN:VEVENT
DTSTART;TZID=America/Chicago:20260411T091500
DTEND;TZID=America/Chicago:20260411T100000
DTSTAMP:20260421T205325
CREATED:20260313T041933Z
LAST-MODIFIED:20260411T060444Z
UID:10004859-1775898900-1775901600@reenaseniorliving.com
SUMMARY:Movement Class - With a Group Fun Activity at the end if you want to stay and try it.
DESCRIPTION:
URL:https://reenaseniorliving.com/event-calendar/movement-class-with-a-group-fun-activity-at-the-end-if-you-want-to-stay-and-try-it/
LOCATION:Activity Room
CATEGORIES:Assisted Living
END:VEVENT
BEGIN:VEVENT
DTSTART;TZID=America/Chicago:20260411T100000
DTEND;TZID=America/Chicago:20260411T113000
DTSTAMP:20260421T205325
CREATED:20260313T041933Z
LAST-MODIFIED:20260411T060444Z
UID:10004860-1775901600-1775907000@reenaseniorliving.com
SUMMARY:Nail Spa Day - Sign-up
DESCRIPTION:
URL:https://reenaseniorliving.com/event-calendar/nail-spa-day-sign-up-8/
LOCATION:Activity Room
CATEGORIES:Assisted Living
END:VEVENT
BEGIN:VEVENT
DTSTART;TZID=America/Chicago:20260411T171500
DTEND;TZID=America/Chicago:20260411T191500
DTSTAMP:20260421T205325
CREATED:20260328T055011Z
LAST-MODIFIED:20260411T060444Z
UID:10005047-1775927700-1775934900@reenaseniorliving.com
SUMMARY:Resident Run Social Time
DESCRIPTION:
URL:https://reenaseniorliving.com/event-calendar/resident-run-social-time-5/
CATEGORIES:Assisted Living
END:VEVENT
BEGIN:VEVENT
DTSTART;TZID=America/Chicago:20260412T103000
DTEND;TZID=America/Chicago:20260412T111500
DTSTAMP:20260421T205325
CREATED:20260318T053450Z
LAST-MODIFIED:20260412T060402Z
UID:10004938-1775989800-1775992500@reenaseniorliving.com
SUMMARY:Biking and Balance
DESCRIPTION:
URL:https://reenaseniorliving.com/event-calendar/biking-and-balance-2/
LOCATION:Exercise Room Basement
CATEGORIES:Assisted Living
END:VEVENT
BEGIN:VEVENT
DTSTART;TZID=America/Chicago:20260412T110000
DTEND;TZID=America/Chicago:20260412T143000
DTSTAMP:20260421T205325
CREATED:20260314T043603Z
LAST-MODIFIED:20260408T060412Z
UID:10004867-1775991600-1776004200@reenaseniorliving.com
SUMMARY:Rooms Reserved for Private Family Events
DESCRIPTION:
URL:https://reenaseniorliving.com/event-calendar/room-reserved-family/
LOCATION:Activity Room
CATEGORIES:Assisted Living
END:VEVENT
BEGIN:VEVENT
DTSTART;TZID=America/Chicago:20260412T130000
DTEND;TZID=America/Chicago:20260412T143000
DTSTAMP:20260421T205325
CREATED:20260314T043604Z
LAST-MODIFIED:20260412T060403Z
UID:10004868-1775998800-1776004200@reenaseniorliving.com
SUMMARY:Catholic Communion Visits with Tom or Andy
DESCRIPTION:
URL:https://reenaseniorliving.com/event-calendar/catholic-communion-visits-with-tom-or-andy-8/
CATEGORIES:Assisted Living
END:VEVENT
BEGIN:VEVENT
DTSTART;TZID=America/Chicago:20260412T143000
DTEND;TZID=America/Chicago:20260412T150000
DTSTAMP:20260421T205325
CREATED:20260409T060453Z
LAST-MODIFIED:20260409T060508Z
UID:10005121-1776004200-1776006000@reenaseniorliving.com
SUMMARY:Blackjack - Come try your skills. We will remind you or teach you how.
DESCRIPTION:
URL:https://reenaseniorliving.com/event-calendar/blackjack-come-try-your-skills-we-will-remind-you-or-teach-you-how/
LOCATION:Actvity Room
CATEGORIES:Assisted Living
END:VEVENT
BEGIN:VEVENT
DTSTART;TZID=America/Chicago:20260412T171500
DTEND;TZID=America/Chicago:20260412T191500
DTSTAMP:20260421T205325
CREATED:20260328T055011Z
LAST-MODIFIED:20260408T060412Z
UID:10005048-1776014100-1776021300@reenaseniorliving.com
SUMMARY:Resident Run Social Time
DESCRIPTION:
URL:https://reenaseniorliving.com/event-calendar/resident-run-social-time-6/
CATEGORIES:Assisted Living
END:VEVENT
BEGIN:VEVENT
DTSTART;TZID=America/Chicago:20260413T091500
DTEND;TZID=America/Chicago:20260413T094500
DTSTAMP:20260421T205325
CREATED:20260315T045152Z
LAST-MODIFIED:20260413T061919Z
UID:10004888-1776071700-1776073500@reenaseniorliving.com
SUMMARY:Movement with Kayla (AR)
DESCRIPTION:
URL:https://reenaseniorliving.com/event-calendar/movement-with-kayla-ar-17/
LOCATION:Activity Room
CATEGORIES:Assisted Living
END:VEVENT
BEGIN:VEVENT
DTSTART;TZID=America/Chicago:20260413T095500
DTEND;TZID=America/Chicago:20260413T102000
DTSTAMP:20260421T205325
CREATED:20260315T045152Z
LAST-MODIFIED:20260319T053437Z
UID:10004889-1776074100-1776075600@reenaseniorliving.com
SUMMARY:Biking & Balance - A few minutes of each. For strength\, balance\, and fall prevention.
DESCRIPTION:
URL:https://reenaseniorliving.com/event-calendar/biking-balance-a-few-minutes-of-each-for-strength-balance-and-fall-prevention-31/
LOCATION:Exercise Room Basement
CATEGORIES:Assisted Living
END:VEVENT
BEGIN:VEVENT
DTSTART;TZID=America/Chicago:20260413T100000
DTEND;TZID=America/Chicago:20260413T105500
DTSTAMP:20260421T205325
CREATED:20260409T060454Z
LAST-MODIFIED:20260413T061919Z
UID:10005122-1776074400-1776077700@reenaseniorliving.com
SUMMARY:The Chosen - Historical Drama on the ministry of Jesus - Ep 2 - With Chaplain Ann - Theatre
DESCRIPTION:
URL:https://reenaseniorliving.com/event-calendar/the-chosen-historical-drama-on-the-ministry-of-jesus-ep-2-with-chaplain-ann/
LOCATION:Theatre
CATEGORIES:Assisted Living
END:VEVENT
BEGIN:VEVENT
DTSTART;TZID=America/Chicago:20260413T101500
DTEND;TZID=America/Chicago:20260413T110000
DTSTAMP:20260421T205325
CREATED:20260315T045153Z
LAST-MODIFIED:20260413T061919Z
UID:10004890-1776075300-1776078000@reenaseniorliving.com
SUMMARY:Lutheran Service with Julie - Legacy Court
DESCRIPTION:
URL:https://reenaseniorliving.com/event-calendar/lutheran-service-with-julie-legacy-court-11/
LOCATION:Legacy Court
CATEGORIES:Assisted Living,Legacy Court
END:VEVENT
BEGIN:VEVENT
DTSTART;TZID=America/Chicago:20260413T123000
DTEND;TZID=America/Chicago:20260413T131000
DTSTAMP:20260421T205325
CREATED:20260315T045154Z
LAST-MODIFIED:20260408T060412Z
UID:10004891-1776083400-1776085800@reenaseniorliving.com
SUMMARY:Robot Soccer Practice
DESCRIPTION:
URL:https://reenaseniorliving.com/event-calendar/robot-soccer-practice/
LOCATION:Activity Room
CATEGORIES:Assisted Living
END:VEVENT
BEGIN:VEVENT
DTSTART;TZID=America/Chicago:20260413T130000
DTEND;TZID=America/Chicago:20260413T134000
DTSTAMP:20260421T205325
CREATED:20260404T060417Z
LAST-MODIFIED:20260413T061919Z
UID:10005101-1776085200-1776087600@reenaseniorliving.com
SUMMARY:Singing Hymns with Chaplain Ann
DESCRIPTION:
URL:https://reenaseniorliving.com/event-calendar/singing-hymns-with-chaplain-ann/
LOCATION:Activity Room
CATEGORIES:Assisted Living
END:VEVENT
BEGIN:VEVENT
DTSTART;TZID=America/Chicago:20260413T150000
DTEND;TZID=America/Chicago:20260413T160000
DTSTAMP:20260421T205325
CREATED:20260315T045154Z
LAST-MODIFIED:20260413T061919Z
UID:10004892-1776092400-1776096000@reenaseniorliving.com
SUMMARY:Tribute to Bobby Vinton & Bobby Darin with Randy
DESCRIPTION:
URL:https://reenaseniorliving.com/event-calendar/tribute-to-bobby-vinton-bobby-darin-with-randy/
LOCATION:Lobby
CATEGORIES:Assisted Living,Legacy Court
END:VEVENT
BEGIN:VEVENT
DTSTART;TZID=America/Chicago:20260413T171500
DTEND;TZID=America/Chicago:20260413T190000
DTSTAMP:20260421T205325
CREATED:20260410T060402Z
LAST-MODIFIED:20260413T061919Z
UID:10005152-1776100500-1776106800@reenaseniorliving.com
SUMMARY:Game Night!
DESCRIPTION:
URL:https://reenaseniorliving.com/event-calendar/game-night-19/
LOCATION:Activity Room
CATEGORIES:Assisted Living
END:VEVENT
BEGIN:VEVENT
DTSTART;TZID=America/Chicago:20260414T085000
DTEND;TZID=America/Chicago:20260414T091000
DTSTAMP:20260421T205325
CREATED:20260316T050429Z
LAST-MODIFIED:20260327T054929Z
UID:10004903-1776156600-1776157800@reenaseniorliving.com
SUMMARY:Green Thumbs Garden Club
DESCRIPTION:
URL:https://reenaseniorliving.com/event-calendar/green-thumbs-garden-club-29/
LOCATION:Activity Room
CATEGORIES:Assisted Living
END:VEVENT
END:VCALENDAR