BEGIN:VCALENDAR
VERSION:2.0
PRODID:-//Reena Senior Living - ECPv6.11.2.1//NONSGML v1.0//EN
CALSCALE:GREGORIAN
METHOD:PUBLISH
X-ORIGINAL-URL:https://reenaseniorliving.com
X-WR-CALDESC:Events for Reena Senior Living
REFRESH-INTERVAL;VALUE=DURATION:PT1H
X-Robots-Tag:noindex
X-PUBLISHED-TTL:PT1H
BEGIN:VTIMEZONE
TZID:America/Chicago
BEGIN:DAYLIGHT
TZOFFSETFROM:-0600
TZOFFSETTO:-0500
TZNAME:CDT
DTSTART:20250309T080000
END:DAYLIGHT
BEGIN:STANDARD
TZOFFSETFROM:-0500
TZOFFSETTO:-0600
TZNAME:CST
DTSTART:20251102T070000
END:STANDARD
END:VTIMEZONE
BEGIN:VEVENT
DTSTART;TZID=America/Chicago:20250714T123000
DTEND;TZID=America/Chicago:20250714T130000
DTSTAMP:20260422T171200
CREATED:20250615T001935Z
LAST-MODIFIED:20250714T060421Z
UID:10000814-1752496200-1752498000@reenaseniorliving.com
SUMMARY:Rosary with Volunteer Dorothy
DESCRIPTION:
URL:https://reenaseniorliving.com/event-calendar/rosary-with-volunteer-dorothy-9/
LOCATION:Pub
CATEGORIES:Assisted Living
END:VEVENT
BEGIN:VEVENT
DTSTART;TZID=America/Chicago:20250714T133000
DTEND;TZID=America/Chicago:20250714T143000
DTSTAMP:20260422T171200
CREATED:20250615T001935Z
LAST-MODIFIED:20250714T060421Z
UID:10000815-1752499800-1752503400@reenaseniorliving.com
SUMMARY:Bingo
DESCRIPTION:
URL:https://reenaseniorliving.com/event-calendar/bingo-16/
LOCATION:AR
CATEGORIES:Assisted Living
END:VEVENT
BEGIN:VEVENT
DTSTART;TZID=America/Chicago:20250714T170000
DTEND;TZID=America/Chicago:20250714T190000
DTSTAMP:20260422T171200
CREATED:20250615T001935Z
LAST-MODIFIED:20250714T060421Z
UID:10000816-1752512400-1752519600@reenaseniorliving.com
SUMMARY:Resident Guided - Social Time
DESCRIPTION:
URL:https://reenaseniorliving.com/event-calendar/resident-guided-social-time-63/
LOCATION:Activity Room
CATEGORIES:Assisted Living
END:VEVENT
BEGIN:VEVENT
DTSTART;TZID=America/Chicago:20250715T085000
DTEND;TZID=America/Chicago:20250715T090500
DTSTAMP:20260422T171200
CREATED:20250626T050419Z
LAST-MODIFIED:20250715T060402Z
UID:10001026-1752569400-1752570300@reenaseniorliving.com
SUMMARY:Green Thumbs Garden Group
DESCRIPTION:
URL:https://reenaseniorliving.com/event-calendar/green-thumbs-garden-group-7/
LOCATION:Activity Room Patio
CATEGORIES:Assisted Living
END:VEVENT
BEGIN:VEVENT
DTSTART;TZID=America/Chicago:20250715T091500
DTEND;TZID=America/Chicago:20250715T094500
DTSTAMP:20260422T171200
CREATED:20250616T002205Z
LAST-MODIFIED:20250715T060402Z
UID:10000829-1752570900-1752572700@reenaseniorliving.com
SUMMARY:Movement Class with Kayla
DESCRIPTION:
URL:https://reenaseniorliving.com/event-calendar/movement-class-52/
LOCATION:Activity Room
CATEGORIES:Assisted Living
END:VEVENT
BEGIN:VEVENT
DTSTART;TZID=America/Chicago:20250715T094500
DTEND;TZID=America/Chicago:20250715T101000
DTSTAMP:20260422T171200
CREATED:20250616T002205Z
LAST-MODIFIED:20250715T060402Z
UID:10000828-1752572700-1752574200@reenaseniorliving.com
SUMMARY:Strength Class - Intermediate Class
DESCRIPTION:
URL:https://reenaseniorliving.com/event-calendar/strength-class-intermediate-class-18/
LOCATION:Activity Room
CATEGORIES:Assisted Living
END:VEVENT
BEGIN:VEVENT
DTSTART;TZID=America/Chicago:20250715T103000
DTEND;TZID=America/Chicago:20250715T110000
DTSTAMP:20260422T171200
CREATED:20250616T002205Z
LAST-MODIFIED:20250625T050411Z
UID:10000830-1752575400-1752577200@reenaseniorliving.com
SUMMARY:Green Thumbs and Patio Social Time.
DESCRIPTION:Garden and Social Time.
URL:https://reenaseniorliving.com/event-calendar/green-thumbs-and-patio-social-time-16/
LOCATION:Activity Room Patio
CATEGORIES:Assisted Living
END:VEVENT
BEGIN:VEVENT
DTSTART;TZID=America/Chicago:20250715T110000
DTEND;TZID=America/Chicago:20250715T112000
DTSTAMP:20260422T171200
CREATED:20250626T050419Z
LAST-MODIFIED:20250715T060402Z
UID:10001027-1752577200-1752578400@reenaseniorliving.com
SUMMARY:We are creating a resource binder of our flowers & plants. Come see how we're doing. 20min.
DESCRIPTION:
URL:https://reenaseniorliving.com/event-calendar/plant-identifier-project-with-dawn-we-will-create-a-resource-binder-of-our-plants-over-4-weeks-2/
LOCATION:Activity Room
CATEGORIES:Assisted Living
END:VEVENT
BEGIN:VEVENT
DTSTART;TZID=America/Chicago:20250715T130000
DTEND;TZID=America/Chicago:20250715T140000
DTSTAMP:20260422T171200
CREATED:20250621T050407Z
LAST-MODIFIED:20250715T060402Z
UID:10000915-1752584400-1752588000@reenaseniorliving.com
SUMMARY:Grip Scrimmage - Come join the team! We are the Reena Rockers!
DESCRIPTION:
URL:https://reenaseniorliving.com/event-calendar/grip-practice-come-join-the-team-we-are-the-reena-rockers-3/
LOCATION:Activity Room
CATEGORIES:Assisted Living,Legacy Court
END:VEVENT
BEGIN:VEVENT
DTSTART;TZID=America/Chicago:20250715T140000
DTEND;TZID=America/Chicago:20250715T150000
DTSTAMP:20260422T171200
CREATED:20250624T050423Z
LAST-MODIFIED:20250625T050411Z
UID:10000960-1752588000-1752591600@reenaseniorliving.com
SUMMARY:ICE CREAM SOCIAL
DESCRIPTION:
URL:https://reenaseniorliving.com/event-calendar/ice-cream-social/
LOCATION:Activity Room
CATEGORIES:Assisted Living
END:VEVENT
BEGIN:VEVENT
DTSTART;TZID=America/Chicago:20250715T143000
DTEND;TZID=America/Chicago:20250715T154500
DTSTAMP:20260422T171200
CREATED:20250627T050706Z
LAST-MODIFIED:20250715T060402Z
UID:10001057-1752589800-1752594300@reenaseniorliving.com
SUMMARY:Door 2 Door Visits - Beverage
DESCRIPTION:
URL:https://reenaseniorliving.com/event-calendar/door-2-door-visits-beverage-2/
CATEGORIES:Assisted Living
END:VEVENT
BEGIN:VEVENT
DTSTART;TZID=America/Chicago:20250715T170000
DTEND;TZID=America/Chicago:20250715T190000
DTSTAMP:20260422T171200
CREATED:20250616T002205Z
LAST-MODIFIED:20250715T060402Z
UID:10000831-1752598800-1752606000@reenaseniorliving.com
SUMMARY:Resident Guided - Social Time
DESCRIPTION:
URL:https://reenaseniorliving.com/event-calendar/resident-guided-social-time-64/
LOCATION:Activity Room
CATEGORIES:Assisted Living
END:VEVENT
BEGIN:VEVENT
DTSTART;TZID=America/Chicago:20250716T091500
DTEND;TZID=America/Chicago:20250716T094500
DTSTAMP:20260422T171200
CREATED:20250617T182135Z
LAST-MODIFIED:20250716T060401Z
UID:10000833-1752657300-1752659100@reenaseniorliving.com
SUMMARY:Movement Class with Kayla
DESCRIPTION:
URL:https://reenaseniorliving.com/event-calendar/movement-class-53/
LOCATION:Activity Room
CATEGORIES:Assisted Living
END:VEVENT
BEGIN:VEVENT
DTSTART;TZID=America/Chicago:20250716T100000
DTEND;TZID=America/Chicago:20250716T101500
DTSTAMP:20260422T171200
CREATED:20250617T182135Z
LAST-MODIFIED:20250716T060402Z
UID:10000834-1752660000-1752660900@reenaseniorliving.com
SUMMARY:Sing along before Catholic Service.
DESCRIPTION:We will assist you to go next door.
URL:https://reenaseniorliving.com/event-calendar/sing-along-before-catholic-service-7/
LOCATION:Legacy Court
CATEGORIES:Assisted Living,Legacy Court
END:VEVENT
BEGIN:VEVENT
DTSTART;TZID=America/Chicago:20250716T101500
DTEND;TZID=America/Chicago:20250716T111500
DTSTAMP:20260422T171200
CREATED:20250617T182135Z
LAST-MODIFIED:20250716T060401Z
UID:10000835-1752660900-1752664500@reenaseniorliving.com
SUMMARY:Catholic Service
DESCRIPTION:
URL:https://reenaseniorliving.com/event-calendar/catholic-service-9/
LOCATION:Legacy Court
CATEGORIES:Assisted Living,Legacy Court
END:VEVENT
BEGIN:VEVENT
DTSTART;TZID=America/Chicago:20250716T114500
DTEND;TZID=America/Chicago:20250716T131500
DTSTAMP:20260422T171200
CREATED:20250627T050706Z
LAST-MODIFIED:20250716T060402Z
UID:10001058-1752666300-1752671700@reenaseniorliving.com
SUMMARY:TRYathlon and Forklift Party for Teams! By invitation.
DESCRIPTION:
URL:https://reenaseniorliving.com/event-calendar/tryathlon-and-forklift-party-for-teams-by-invitation/
LOCATION:Activity Room
CATEGORIES:Assisted Living
END:VEVENT
BEGIN:VEVENT
DTSTART;TZID=America/Chicago:20250716T130000
DTEND;TZID=America/Chicago:20250716T140000
DTSTAMP:20260422T171200
CREATED:20250620T050638Z
LAST-MODIFIED:20250625T050411Z
UID:10000896-1752670800-1752674400@reenaseniorliving.com
SUMMARY:Wood Chipping Class
DESCRIPTION:
URL:https://reenaseniorliving.com/event-calendar/wood-chipping-class-4/
LOCATION:Activity Room
CATEGORIES:Assisted Living
END:VEVENT
BEGIN:VEVENT
DTSTART;TZID=America/Chicago:20250716T140000
DTEND;TZID=America/Chicago:20250716T145000
DTSTAMP:20260422T171200
CREATED:20250617T182135Z
LAST-MODIFIED:20250716T060402Z
UID:10000836-1752674400-1752677400@reenaseniorliving.com
SUMMARY:St. Paul's Lutheran Service
DESCRIPTION:
URL:https://reenaseniorliving.com/event-calendar/st-pauls-lutheran-service-3/
LOCATION:Legacy Court
CATEGORIES:Assisted Living,Legacy Court
END:VEVENT
BEGIN:VEVENT
DTSTART;TZID=America/Chicago:20250716T170000
DTEND;TZID=America/Chicago:20250716T190000
DTSTAMP:20260422T171200
CREATED:20250617T182135Z
LAST-MODIFIED:20250716T060402Z
UID:10000837-1752685200-1752692400@reenaseniorliving.com
SUMMARY:Resident Guided - Social Time
DESCRIPTION:
URL:https://reenaseniorliving.com/event-calendar/resident-guided-social-time-65/
LOCATION:Activity Room
CATEGORIES:Assisted Living
END:VEVENT
BEGIN:VEVENT
DTSTART;TZID=America/Chicago:20250717T091500
DTEND;TZID=America/Chicago:20250717T094500
DTSTAMP:20260422T171200
CREATED:20250617T182135Z
LAST-MODIFIED:20250717T060452Z
UID:10000838-1752743700-1752745500@reenaseniorliving.com
SUMMARY:Movement Class with Kayla
DESCRIPTION:Gentle Movement\, Strength\, Mobility\, Balance\, & More.
URL:https://reenaseniorliving.com/event-calendar/movement-class-54/
LOCATION:Activity Room
CATEGORIES:Assisted Living
END:VEVENT
BEGIN:VEVENT
DTSTART;TZID=America/Chicago:20250717T094500
DTEND;TZID=America/Chicago:20250717T101000
DTSTAMP:20260422T171200
CREATED:20250617T182135Z
LAST-MODIFIED:20250717T060452Z
UID:10000839-1752745500-1752747000@reenaseniorliving.com
SUMMARY:Strength Class - Intermediate Class
DESCRIPTION:
URL:https://reenaseniorliving.com/event-calendar/strength-class-intermediate-class-19/
LOCATION:Activity Room
CATEGORIES:Assisted Living
END:VEVENT
BEGIN:VEVENT
DTSTART;TZID=America/Chicago:20250717T130000
DTEND;TZID=America/Chicago:20250717T133000
DTSTAMP:20260422T171200
CREATED:20250621T023449Z
LAST-MODIFIED:20250625T050411Z
UID:10000907-1752757200-1752759000@reenaseniorliving.com
SUMMARY:Grip Practice - Come join the team. Roles vary\, come check it out.
DESCRIPTION:
URL:https://reenaseniorliving.com/event-calendar/grip-practice-come-join-the-team-roles-vary-come-check-it-out-6/
LOCATION:Activity Room
CATEGORIES:Assisted Living,Legacy Court
END:VEVENT
BEGIN:VEVENT
DTSTART;TZID=America/Chicago:20250717T130000
DTEND;TZID=America/Chicago:20250717T150000
DTSTAMP:20260422T171200
CREATED:20250627T050707Z
LAST-MODIFIED:20250630T053453Z
UID:10001059-1752757200-1752764400@reenaseniorliving.com
SUMMARY:Movie Day - Vote for your movie choice in AR - Beverage and Snack will be served.
DESCRIPTION:
URL:https://reenaseniorliving.com/event-calendar/movie-day-vote-for-your-movie-choice-in-ar-beverage-and-snack-will-be-served/
LOCATION:Theatre
CATEGORIES:Assisted Living
END:VEVENT
BEGIN:VEVENT
DTSTART;TZID=America/Chicago:20250717T140000
DTEND;TZID=America/Chicago:20250717T141500
DTSTAMP:20260422T171200
CREATED:20250617T192039Z
LAST-MODIFIED:20250717T060452Z
UID:10000850-1752760800-1752761700@reenaseniorliving.com
SUMMARY:Pet Therapy Visit
DESCRIPTION:Therapy Dog and Human will visit Lobby and then Legacy Court.
URL:https://reenaseniorliving.com/event-calendar/pet-therapy-visit-3/
LOCATION:Activity Room
CATEGORIES:Assisted Living
END:VEVENT
BEGIN:VEVENT
DTSTART;TZID=America/Chicago:20250717T143000
DTEND;TZID=America/Chicago:20250717T151500
DTSTAMP:20260422T171200
CREATED:20250617T200443Z
LAST-MODIFIED:20250625T050411Z
UID:10000853-1752762600-1752765300@reenaseniorliving.com
SUMMARY:Community Life Gathering with Dawn
DESCRIPTION:
URL:https://reenaseniorliving.com/event-calendar/community-life-gathering-with-dawn-2/
LOCATION:Activity Room
CATEGORIES:Assisted Living
END:VEVENT
BEGIN:VEVENT
DTSTART;TZID=America/Chicago:20250717T170000
DTEND;TZID=America/Chicago:20250717T190000
DTSTAMP:20260422T171200
CREATED:20250617T222038Z
LAST-MODIFIED:20250717T060452Z
UID:10000856-1752771600-1752778800@reenaseniorliving.com
SUMMARY:Resident Guided - Social Time
DESCRIPTION:
URL:https://reenaseniorliving.com/event-calendar/resident-guided-social-time-66/
LOCATION:Activity Room
CATEGORIES:Assisted Living
END:VEVENT
BEGIN:VEVENT
DTSTART;TZID=America/Chicago:20250718T085000
DTEND;TZID=America/Chicago:20250718T090500
DTSTAMP:20260422T171200
CREATED:20250626T050420Z
LAST-MODIFIED:20250718T060522Z
UID:10001028-1752828600-1752829500@reenaseniorliving.com
SUMMARY:Green Thumbs Garden Group
DESCRIPTION:
URL:https://reenaseniorliving.com/event-calendar/green-thumbs-garden-group-8/
LOCATION:Activity Room Patio
CATEGORIES:Assisted Living
END:VEVENT
BEGIN:VEVENT
DTSTART;TZID=America/Chicago:20250718T091500
DTEND;TZID=America/Chicago:20250718T094500
DTSTAMP:20260422T171200
CREATED:20250619T045056Z
LAST-MODIFIED:20250718T060522Z
UID:10000867-1752830100-1752831900@reenaseniorliving.com
SUMMARY:Movement Class with Kayla
DESCRIPTION:
URL:https://reenaseniorliving.com/event-calendar/movement-class-55/
LOCATION:Activity Room
CATEGORIES:Assisted Living
END:VEVENT
BEGIN:VEVENT
DTSTART;TZID=America/Chicago:20250718T095000
DTEND;TZID=America/Chicago:20250718T101000
DTSTAMP:20260422T171200
CREATED:20250619T045056Z
LAST-MODIFIED:20250620T050638Z
UID:10000868-1752832200-1752833400@reenaseniorliving.com
SUMMARY:Outdoor Stroll
DESCRIPTION:
URL:https://reenaseniorliving.com/event-calendar/outdoor-stroll-19/
LOCATION:Activity Room
CATEGORIES:Assisted Living
END:VEVENT
BEGIN:VEVENT
DTSTART;TZID=America/Chicago:20250718T101500
DTEND;TZID=America/Chicago:20250718T104500
DTSTAMP:20260422T171200
CREATED:20250619T045056Z
LAST-MODIFIED:20250718T060522Z
UID:10000869-1752833700-1752835500@reenaseniorliving.com
SUMMARY:Coffee Social Time
DESCRIPTION:Social Time with Coffee
URL:https://reenaseniorliving.com/event-calendar/coffee-social-time-with-reminiscing-11/
LOCATION:Cafe
CATEGORIES:Assisted Living
END:VEVENT
END:VCALENDAR