BEGIN:VCALENDAR
VERSION:2.0
PRODID:-//Reena Senior Living - ECPv6.11.2.1//NONSGML v1.0//EN
CALSCALE:GREGORIAN
METHOD:PUBLISH
X-ORIGINAL-URL:https://reenaseniorliving.com
X-WR-CALDESC:Events for Reena Senior Living
REFRESH-INTERVAL;VALUE=DURATION:PT1H
X-Robots-Tag:noindex
X-PUBLISHED-TTL:PT1H
BEGIN:VTIMEZONE
TZID:America/Chicago
BEGIN:DAYLIGHT
TZOFFSETFROM:-0600
TZOFFSETTO:-0500
TZNAME:CDT
DTSTART:20250309T080000
END:DAYLIGHT
BEGIN:STANDARD
TZOFFSETFROM:-0500
TZOFFSETTO:-0600
TZNAME:CST
DTSTART:20251102T070000
END:STANDARD
END:VTIMEZONE
BEGIN:VEVENT
DTSTART;TZID=America/Chicago:20250718T133000
DTEND;TZID=America/Chicago:20250718T140000
DTSTAMP:20260422T165434
CREATED:20250619T045056Z
LAST-MODIFIED:20250718T060523Z
UID:10000871-1752845400-1752847200@reenaseniorliving.com
SUMMARY:Story of Christ reading with volunteer Dorothy
DESCRIPTION:
URL:https://reenaseniorliving.com/event-calendar/story-of-christ-reading-with-volunteer-dorothy-7/
LOCATION:Pub
CATEGORIES:Assisted Living
END:VEVENT
BEGIN:VEVENT
DTSTART;TZID=America/Chicago:20250718T150000
DTEND;TZID=America/Chicago:20250718T151500
DTSTAMP:20260422T165434
CREATED:20250619T045056Z
LAST-MODIFIED:20250718T060523Z
UID:10000872-1752850800-1752851700@reenaseniorliving.com
SUMMARY:Your weekly activity packets will be delivered.
DESCRIPTION:
URL:https://reenaseniorliving.com/event-calendar/your-weekly-activity-packets-will-be-delivered-10/
LOCATION:Activity Room
CATEGORIES:Assisted Living
END:VEVENT
BEGIN:VEVENT
DTSTART;TZID=America/Chicago:20250718T170000
DTEND;TZID=America/Chicago:20250718T190000
DTSTAMP:20260422T165434
CREATED:20250619T045056Z
LAST-MODIFIED:20250718T060523Z
UID:10000873-1752858000-1752865200@reenaseniorliving.com
SUMMARY:Resident Guided - Social Time
DESCRIPTION:
URL:https://reenaseniorliving.com/event-calendar/resident-guided-social-time-67/
LOCATION:Activity Room
CATEGORIES:Assisted Living
END:VEVENT
BEGIN:VEVENT
DTSTART;TZID=America/Chicago:20250719T080000
DTEND;TZID=America/Chicago:20250719T113000
DTSTAMP:20260422T165434
CREATED:20250620T050638Z
LAST-MODIFIED:20250710T060422Z
UID:10000897-1752912000-1752924600@reenaseniorliving.com
SUMMARY:Biking Time - Open House
DESCRIPTION:Pop in for a few minutes right before lunch. Start with 2-3 minutes.
URL:https://reenaseniorliving.com/event-calendar/biking-time-open-house-19/
LOCATION:Activity Room
CATEGORIES:Assisted Living
END:VEVENT
BEGIN:VEVENT
DTSTART;TZID=America/Chicago:20250719T101500
DTEND;TZID=America/Chicago:20250719T114500
DTSTAMP:20260422T165434
CREATED:20250701T053408Z
LAST-MODIFIED:20250719T060406Z
UID:10001111-1752920100-1752925500@reenaseniorliving.com
SUMMARY:Nails with Laurie - Sign-Up
DESCRIPTION:
URL:https://reenaseniorliving.com/event-calendar/nails-with-laurie-sign-up-4/
LOCATION:Activity Room
CATEGORIES:Assisted Living
END:VEVENT
BEGIN:VEVENT
DTSTART;TZID=America/Chicago:20250719T123000
DTEND;TZID=America/Chicago:20250719T125000
DTSTAMP:20260422T165434
CREATED:20250626T050420Z
LAST-MODIFIED:20250719T060406Z
UID:10001030-1752928200-1752929400@reenaseniorliving.com
SUMMARY:Green Thumbs Garden Group
DESCRIPTION:
URL:https://reenaseniorliving.com/event-calendar/green-thumbs-garden-group-9/
LOCATION:Activity Room Patio
CATEGORIES:Assisted Living
END:VEVENT
BEGIN:VEVENT
DTSTART;TZID=America/Chicago:20250719T170000
DTEND;TZID=America/Chicago:20250719T190000
DTSTAMP:20260422T165434
CREATED:20250620T050638Z
LAST-MODIFIED:20250719T060406Z
UID:10000898-1752944400-1752951600@reenaseniorliving.com
SUMMARY:Resident Guided - Social Time
DESCRIPTION:
URL:https://reenaseniorliving.com/event-calendar/resident-guided-social-time-68/
LOCATION:Activity Room
CATEGORIES:Assisted Living
END:VEVENT
BEGIN:VEVENT
DTSTART;TZID=America/Chicago:20250720T080000
DTEND;TZID=America/Chicago:20250720T113000
DTSTAMP:20260422T165434
CREATED:20250621T050408Z
LAST-MODIFIED:20250715T060402Z
UID:10000916-1752998400-1753011000@reenaseniorliving.com
SUMMARY:Biking Time - Open House
DESCRIPTION:Pop in for a few minutes right before lunch. Start with 2-3 minutes.
URL:https://reenaseniorliving.com/event-calendar/biking-time-open-house-20/
LOCATION:Activity Room
CATEGORIES:Assisted Living
END:VEVENT
BEGIN:VEVENT
DTSTART;TZID=America/Chicago:20250720T130000
DTEND;TZID=America/Chicago:20250720T140000
DTSTAMP:20260422T165434
CREATED:20250621T023450Z
LAST-MODIFIED:20250720T060406Z
UID:10000908-1753016400-1753020000@reenaseniorliving.com
SUMMARY:Communion (Catholic Rounds from Andy or Tom)
DESCRIPTION:Volunteer makes rounds to all those who wish to receive communion.
URL:https://reenaseniorliving.com/event-calendar/communion-catholic-rounds-from-andy-or-tom-10/
LOCATION:Reena
CATEGORIES:Assisted Living,Legacy Court
END:VEVENT
BEGIN:VEVENT
DTSTART;TZID=America/Chicago:20250720T170000
DTEND;TZID=America/Chicago:20250720T190000
DTSTAMP:20260422T165434
CREATED:20250621T050408Z
LAST-MODIFIED:20250720T060406Z
UID:10000917-1753030800-1753038000@reenaseniorliving.com
SUMMARY:Resident Guided - Social Time
DESCRIPTION:
URL:https://reenaseniorliving.com/event-calendar/resident-guided-social-time-69/
LOCATION:Activity Room
CATEGORIES:Assisted Living
END:VEVENT
BEGIN:VEVENT
DTSTART;TZID=America/Chicago:20250721T085000
DTEND;TZID=America/Chicago:20250721T090500
DTSTAMP:20260422T165434
CREATED:20250624T050425Z
LAST-MODIFIED:20250721T060403Z
UID:10000961-1753087800-1753088700@reenaseniorliving.com
SUMMARY:Green Thumbs and Patio Social Time.
DESCRIPTION:Garden and Social Time.
URL:https://reenaseniorliving.com/event-calendar/green-thumbs-and-patio-social-time-22/
LOCATION:Activity Room Patio
CATEGORIES:Assisted Living
END:VEVENT
BEGIN:VEVENT
DTSTART;TZID=America/Chicago:20250721T091500
DTEND;TZID=America/Chicago:20250721T094500
DTSTAMP:20260422T165434
CREATED:20250622T050445Z
LAST-MODIFIED:20250721T060403Z
UID:10000927-1753089300-1753091100@reenaseniorliving.com
SUMMARY:Movement Class with Kayla
DESCRIPTION:
URL:https://reenaseniorliving.com/event-calendar/movement-class-with-kayla-2/
LOCATION:Activity Room
CATEGORIES:Assisted Living
END:VEVENT
BEGIN:VEVENT
DTSTART;TZID=America/Chicago:20250721T101500
DTEND;TZID=America/Chicago:20250721T113000
DTSTAMP:20260422T165434
CREATED:20250622T050445Z
LAST-MODIFIED:20250721T060403Z
UID:10000928-1753092900-1753097400@reenaseniorliving.com
SUMMARY:Trinity Lutheran Guests Visit with Coffee Social Hour - All are welcome.
DESCRIPTION:Coffee will be offered. Please join us.
URL:https://reenaseniorliving.com/event-calendar/trinity-lutheran-guests-visit-with-coffee-social-hour-all-are-welcome-3/
LOCATION:AR
CATEGORIES:Assisted Living
END:VEVENT
BEGIN:VEVENT
DTSTART;TZID=America/Chicago:20250721T103000
DTEND;TZID=America/Chicago:20250721T110000
DTSTAMP:20260422T165434
CREATED:20250622T050445Z
LAST-MODIFIED:20250625T050412Z
UID:10000929-1753093800-1753095600@reenaseniorliving.com
SUMMARY:Green Thumbs and Patio Social Time.
DESCRIPTION:Garden and Social Time.
URL:https://reenaseniorliving.com/event-calendar/green-thumbs-and-patio-social-time-18/
LOCATION:Activity Room Patio
CATEGORIES:Assisted Living
END:VEVENT
BEGIN:VEVENT
DTSTART;TZID=America/Chicago:20250721T104500
DTEND;TZID=America/Chicago:20250721T123000
DTSTAMP:20260422T165434
CREATED:20250702T053447Z
LAST-MODIFIED:20250715T060403Z
UID:10001126-1753094700-1753101000@reenaseniorliving.com
SUMMARY:Lunch at Pine Cone in Johnson Creek - Sign up - Pay only for what you buy. Reasonable prices.
DESCRIPTION:
URL:https://reenaseniorliving.com/event-calendar/lunch-at-pine-cone-in-johnson-creek-sign-up-pay-only-for-what-you-buy-reasonable-prices-2/
LOCATION:Bus Trip
CATEGORIES:Assisted Living
END:VEVENT
BEGIN:VEVENT
DTSTART;TZID=America/Chicago:20250721T123000
DTEND;TZID=America/Chicago:20250721T130000
DTSTAMP:20260422T165434
CREATED:20250622T050446Z
LAST-MODIFIED:20250721T060403Z
UID:10000930-1753101000-1753102800@reenaseniorliving.com
SUMMARY:Rosary with Volunteer Dorothy
DESCRIPTION:
URL:https://reenaseniorliving.com/event-calendar/rosary-with-volunteer-dorothy-10/
LOCATION:Pub
CATEGORIES:Assisted Living
END:VEVENT
BEGIN:VEVENT
DTSTART;TZID=America/Chicago:20250721T133000
DTEND;TZID=America/Chicago:20250721T143000
DTSTAMP:20260422T165434
CREATED:20250622T050446Z
LAST-MODIFIED:20250721T060403Z
UID:10000931-1753104600-1753108200@reenaseniorliving.com
SUMMARY:Bingo
DESCRIPTION:
URL:https://reenaseniorliving.com/event-calendar/bingo-18/
LOCATION:AR
CATEGORIES:Assisted Living
END:VEVENT
BEGIN:VEVENT
DTSTART;TZID=America/Chicago:20250721T170000
DTEND;TZID=America/Chicago:20250721T190000
DTSTAMP:20260422T165434
CREATED:20250622T050446Z
LAST-MODIFIED:20250721T060403Z
UID:10000932-1753117200-1753124400@reenaseniorliving.com
SUMMARY:Resident Guided - Social Time
DESCRIPTION:
URL:https://reenaseniorliving.com/event-calendar/resident-guided-social-time-70/
LOCATION:Activity Room
CATEGORIES:Assisted Living
END:VEVENT
BEGIN:VEVENT
DTSTART;TZID=America/Chicago:20250722T085000
DTEND;TZID=America/Chicago:20250722T090500
DTSTAMP:20260422T165434
CREATED:20250626T050421Z
LAST-MODIFIED:20250722T060401Z
UID:10001031-1753174200-1753175100@reenaseniorliving.com
SUMMARY:Green Thumbs Garden Group
DESCRIPTION:
URL:https://reenaseniorliving.com/event-calendar/green-thumbs-garden-group-10/
LOCATION:Activity Room Patio
CATEGORIES:Assisted Living
END:VEVENT
BEGIN:VEVENT
DTSTART;TZID=America/Chicago:20250722T091500
DTEND;TZID=America/Chicago:20250722T094500
DTSTAMP:20260422T165434
CREATED:20250623T050450Z
LAST-MODIFIED:20250722T060401Z
UID:10000944-1753175700-1753177500@reenaseniorliving.com
SUMMARY:Movement Class with Kayla
DESCRIPTION:
URL:https://reenaseniorliving.com/event-calendar/movement-class-with-kayla-3/
LOCATION:Activity Room
CATEGORIES:Assisted Living
END:VEVENT
BEGIN:VEVENT
DTSTART;TZID=America/Chicago:20250722T094500
DTEND;TZID=America/Chicago:20250722T101000
DTSTAMP:20260422T165434
CREATED:20250623T050450Z
LAST-MODIFIED:20250722T060401Z
UID:10000945-1753177500-1753179000@reenaseniorliving.com
SUMMARY:Strength Class - Intermediate Class
DESCRIPTION:
URL:https://reenaseniorliving.com/event-calendar/strength-class-intermediate-class-20/
LOCATION:Activity Room
CATEGORIES:Assisted Living
END:VEVENT
BEGIN:VEVENT
DTSTART;TZID=America/Chicago:20250722T103000
DTEND;TZID=America/Chicago:20250722T110000
DTSTAMP:20260422T165434
CREATED:20250623T050450Z
LAST-MODIFIED:20250625T050412Z
UID:10000946-1753180200-1753182000@reenaseniorliving.com
SUMMARY:Green Thumbs and Patio Social Time.
DESCRIPTION:Garden and Social Time.
URL:https://reenaseniorliving.com/event-calendar/green-thumbs-and-patio-social-time-19/
LOCATION:Activity Room Patio
CATEGORIES:Assisted Living
END:VEVENT
BEGIN:VEVENT
DTSTART;TZID=America/Chicago:20250722T110000
DTEND;TZID=America/Chicago:20250722T112000
DTSTAMP:20260422T165434
CREATED:20250626T050421Z
LAST-MODIFIED:20250715T060403Z
UID:10001032-1753182000-1753183200@reenaseniorliving.com
SUMMARY:We are creating a resource binder of our flowers & plants. Come see how we're doing. 20min.
DESCRIPTION:
URL:https://reenaseniorliving.com/event-calendar/plant-identifier-project-with-dawn-we-will-create-a-resource-binder-of-our-plants-over-4-weeks-3/
LOCATION:Activity Room
CATEGORIES:Assisted Living
END:VEVENT
BEGIN:VEVENT
DTSTART;TZID=America/Chicago:20250722T130000
DTEND;TZID=America/Chicago:20250722T140000
DTSTAMP:20260422T165434
CREATED:20250623T050450Z
LAST-MODIFIED:20250722T060402Z
UID:10000947-1753189200-1753192800@reenaseniorliving.com
SUMMARY:Grip Competition - Come join the team! We are the Reena Rockers!
DESCRIPTION:
URL:https://reenaseniorliving.com/event-calendar/grip-practice-come-join-the-team-we-are-the-reena-rockers-4/
LOCATION:Activity Room
CATEGORIES:Assisted Living
END:VEVENT
BEGIN:VEVENT
DTSTART;TZID=America/Chicago:20250722T143000
DTEND;TZID=America/Chicago:20250722T154500
DTSTAMP:20260422T165434
CREATED:20250623T050450Z
LAST-MODIFIED:20250722T060402Z
UID:10000948-1753194600-1753199100@reenaseniorliving.com
SUMMARY:Birthday Party! Carrot Cake with Cream Cheese Frosting. Highlights of our Birthday Guest's Lives.
DESCRIPTION:Cake and Beverage. Community Members with birthdays this month will have time to share something about themselves. It will be followed with music and singing at 3:00.
URL:https://reenaseniorliving.com/event-calendar/birthday-party-2/
LOCATION:Activity Room
CATEGORIES:Assisted Living
END:VEVENT
BEGIN:VEVENT
DTSTART;TZID=America/Chicago:20250722T170000
DTEND;TZID=America/Chicago:20250722T190000
DTSTAMP:20260422T165434
CREATED:20250623T050450Z
LAST-MODIFIED:20250722T060402Z
UID:10000949-1753203600-1753210800@reenaseniorliving.com
SUMMARY:Resident Guided - Social Time
DESCRIPTION:
URL:https://reenaseniorliving.com/event-calendar/resident-guided-social-time-71/
LOCATION:Activity Room
CATEGORIES:Assisted Living
END:VEVENT
BEGIN:VEVENT
DTSTART;TZID=America/Chicago:20250723T091500
DTEND;TZID=America/Chicago:20250723T094500
DTSTAMP:20260422T165434
CREATED:20250624T050425Z
LAST-MODIFIED:20250723T060402Z
UID:10000962-1753262100-1753263900@reenaseniorliving.com
SUMMARY:Movement Class with Kayla
DESCRIPTION:
URL:https://reenaseniorliving.com/event-calendar/movement-class-with-kayla-4/
LOCATION:Activity Room
CATEGORIES:Assisted Living
END:VEVENT
BEGIN:VEVENT
DTSTART;TZID=America/Chicago:20250723T100000
DTEND;TZID=America/Chicago:20250723T101500
DTSTAMP:20260422T165434
CREATED:20250624T023418Z
LAST-MODIFIED:20250723T060402Z
UID:10000950-1753264800-1753265700@reenaseniorliving.com
SUMMARY:Sing along before Catholic Service.
DESCRIPTION:We will assist you to go next door.
URL:https://reenaseniorliving.com/event-calendar/sing-along-before-catholic-service-8/
LOCATION:Legacy Court
CATEGORIES:Assisted Living,Legacy Court
END:VEVENT
BEGIN:VEVENT
DTSTART;TZID=America/Chicago:20250723T101500
DTEND;TZID=America/Chicago:20250723T111500
DTSTAMP:20260422T165434
CREATED:20250624T023418Z
LAST-MODIFIED:20250723T060402Z
UID:10000951-1753265700-1753269300@reenaseniorliving.com
SUMMARY:Catholic Service
DESCRIPTION:
URL:https://reenaseniorliving.com/event-calendar/catholic-service-10/
LOCATION:Legacy Court
CATEGORIES:Assisted Living,Legacy Court
END:VEVENT
BEGIN:VEVENT
DTSTART;TZID=America/Chicago:20250723T123000
DTEND;TZID=America/Chicago:20250723T124500
DTSTAMP:20260422T165434
CREATED:20250624T050425Z
LAST-MODIFIED:20250625T050413Z
UID:10000963-1753273800-1753274700@reenaseniorliving.com
SUMMARY:Reading of Agnus Dei with volunteer Dorothy
DESCRIPTION:
URL:https://reenaseniorliving.com/event-calendar/reading-of-agnus-dei-with-volunteer-dorothy-5/
LOCATION:Pub
CATEGORIES:Assisted Living
END:VEVENT
END:VCALENDAR