BEGIN:VCALENDAR
VERSION:2.0
PRODID:-//Reena Senior Living - ECPv6.11.2.1//NONSGML v1.0//EN
CALSCALE:GREGORIAN
METHOD:PUBLISH
X-WR-CALNAME:Reena Senior Living
X-ORIGINAL-URL:https://reenaseniorliving.com
X-WR-CALDESC:Events for Reena Senior Living
REFRESH-INTERVAL;VALUE=DURATION:PT1H
X-Robots-Tag:noindex
X-PUBLISHED-TTL:PT1H
BEGIN:VTIMEZONE
TZID:America/Chicago
BEGIN:DAYLIGHT
TZOFFSETFROM:-0600
TZOFFSETTO:-0500
TZNAME:CDT
DTSTART:20250309T080000
END:DAYLIGHT
BEGIN:STANDARD
TZOFFSETFROM:-0500
TZOFFSETTO:-0600
TZNAME:CST
DTSTART:20251102T070000
END:STANDARD
END:VTIMEZONE
BEGIN:VEVENT
DTSTART;TZID=America/Chicago:20250808T130000
DTEND;TZID=America/Chicago:20250808T140000
DTSTAMP:20260422T175727
CREATED:20250710T060425Z
LAST-MODIFIED:20250808T060412Z
UID:10001231-1754658000-1754661600@reenaseniorliving.com
SUMMARY:The Big Show - Review the week of Grip Competition!
DESCRIPTION:
URL:https://reenaseniorliving.com/event-calendar/the-big-show-review-the-week-of-grip-competition-4/
LOCATION:Activity Room
CATEGORIES:Assisted Living,Legacy Court
END:VEVENT
BEGIN:VEVENT
DTSTART;TZID=America/Chicago:20250808T133000
DTEND;TZID=America/Chicago:20250808T140000
DTSTAMP:20260422T175727
CREATED:20250710T060425Z
LAST-MODIFIED:20250718T060525Z
UID:10001230-1754659800-1754661600@reenaseniorliving.com
SUMMARY:Story of Christ reading with volunteer Dorothy
DESCRIPTION:
URL:https://reenaseniorliving.com/event-calendar/story-of-christ-reading-with-volunteer-dorothy-10/
LOCATION:Pub
CATEGORIES:Assisted Living
END:VEVENT
BEGIN:VEVENT
DTSTART;TZID=America/Chicago:20250808T150000
DTEND;TZID=America/Chicago:20250808T151500
DTSTAMP:20260422T175727
CREATED:20250710T060425Z
LAST-MODIFIED:20250808T060412Z
UID:10001232-1754665200-1754666100@reenaseniorliving.com
SUMMARY:Your weekly activity packets will be delivered.
DESCRIPTION:
URL:https://reenaseniorliving.com/event-calendar/your-weekly-activity-packets-will-be-delivered-13/
LOCATION:Activity Room
CATEGORIES:Assisted Living
END:VEVENT
BEGIN:VEVENT
DTSTART;TZID=America/Chicago:20250808T170000
DTEND;TZID=America/Chicago:20250808T190000
DTSTAMP:20260422T175727
CREATED:20250710T060425Z
LAST-MODIFIED:20250808T060412Z
UID:10001233-1754672400-1754679600@reenaseniorliving.com
SUMMARY:Resident Guided - Social Time
DESCRIPTION:
URL:https://reenaseniorliving.com/event-calendar/resident-guided-social-time-87/
LOCATION:Activity Room
CATEGORIES:Assisted Living
END:VEVENT
BEGIN:VEVENT
DTSTART;TZID=America/Chicago:20250809T080000
DTEND;TZID=America/Chicago:20250809T113000
DTSTAMP:20260422T175727
CREATED:20250711T060408Z
LAST-MODIFIED:20250715T060407Z
UID:10001253-1754726400-1754739000@reenaseniorliving.com
SUMMARY:Biking Time - Open House
DESCRIPTION:Pop in for a few minutes right before lunch. Start with 2-3 minutes.
URL:https://reenaseniorliving.com/event-calendar/biking-time-open-house-24/
LOCATION:Activity Room
CATEGORIES:Assisted Living
END:VEVENT
BEGIN:VEVENT
DTSTART;TZID=America/Chicago:20250809T103000
DTEND;TZID=America/Chicago:20250809T113000
DTSTAMP:20260422T175727
CREATED:20250731T060413Z
LAST-MODIFIED:20250809T060411Z
UID:10001583-1754735400-1754739000@reenaseniorliving.com
SUMMARY:Coffee & Horse Racing with Laurie
DESCRIPTION:Social Time with Coffee
URL:https://reenaseniorliving.com/event-calendar/coffee-horse-racing-with-laurie/
LOCATION:Cafe
CATEGORIES:Assisted Living
END:VEVENT
BEGIN:VEVENT
DTSTART;TZID=America/Chicago:20250809T123000
DTEND;TZID=America/Chicago:20250809T125000
DTSTAMP:20260422T175727
CREATED:20250711T060408Z
LAST-MODIFIED:20250809T060411Z
UID:10001254-1754742600-1754743800@reenaseniorliving.com
SUMMARY:Green Thumbs Garden Group
DESCRIPTION:
URL:https://reenaseniorliving.com/event-calendar/green-thumbs-garden-group-22/
LOCATION:Activity Room Patio
CATEGORIES:Assisted Living
END:VEVENT
BEGIN:VEVENT
DTSTART;TZID=America/Chicago:20250809T170000
DTEND;TZID=America/Chicago:20250809T190000
DTSTAMP:20260422T175727
CREATED:20250711T060408Z
LAST-MODIFIED:20250731T060414Z
UID:10001255-1754758800-1754766000@reenaseniorliving.com
SUMMARY:Resident Guided - Social Time
DESCRIPTION:
URL:https://reenaseniorliving.com/event-calendar/resident-guided-social-time-88/
LOCATION:Activity Room
CATEGORIES:Assisted Living
END:VEVENT
BEGIN:VEVENT
DTSTART;TZID=America/Chicago:20250810T080000
DTEND;TZID=America/Chicago:20250810T113000
DTSTAMP:20260422T175727
CREATED:20250712T060418Z
LAST-MODIFIED:20250715T060407Z
UID:10001258-1754812800-1754825400@reenaseniorliving.com
SUMMARY:Biking Time - Open House
DESCRIPTION:Pop in for a few minutes right before lunch. Start with 2-3 minutes.
URL:https://reenaseniorliving.com/event-calendar/biking-time-open-house-25/
LOCATION:Activity Room
CATEGORIES:Assisted Living
END:VEVENT
BEGIN:VEVENT
DTSTART;TZID=America/Chicago:20250810T130000
DTEND;TZID=America/Chicago:20250810T140000
DTSTAMP:20260422T175727
CREATED:20250712T031954Z
LAST-MODIFIED:20250810T060428Z
UID:10001256-1754830800-1754834400@reenaseniorliving.com
SUMMARY:Communion (Catholic Rounds from Andy or Tom)
DESCRIPTION:Volunteer makes rounds to all those who wish to receive communion.
URL:https://reenaseniorliving.com/event-calendar/communion-catholic-rounds-from-andy-or-tom-13/
LOCATION:Reena
CATEGORIES:Assisted Living,Legacy Court
END:VEVENT
BEGIN:VEVENT
DTSTART;TZID=America/Chicago:20250810T170000
DTEND;TZID=America/Chicago:20250810T190000
DTSTAMP:20260422T175727
CREATED:20250712T060418Z
LAST-MODIFIED:20250805T060502Z
UID:10001259-1754845200-1754852400@reenaseniorliving.com
SUMMARY:Resident Guided - Social Time
DESCRIPTION:
URL:https://reenaseniorliving.com/event-calendar/resident-guided-social-time-89/
LOCATION:Activity Room
CATEGORIES:Assisted Living
END:VEVENT
BEGIN:VEVENT
DTSTART;TZID=America/Chicago:20250811T091500
DTEND;TZID=America/Chicago:20250811T094500
DTSTAMP:20260422T175727
CREATED:20250713T060510Z
LAST-MODIFIED:20250811T060514Z
UID:10001271-1754903700-1754905500@reenaseniorliving.com
SUMMARY:Movement Class with Kayla
DESCRIPTION:
URL:https://reenaseniorliving.com/event-calendar/movement-class-with-kayla-19/
LOCATION:Activity Room
CATEGORIES:Assisted Living
END:VEVENT
BEGIN:VEVENT
DTSTART;TZID=America/Chicago:20250811T100000
DTEND;TZID=America/Chicago:20250811T104000
DTSTAMP:20260422T175727
CREATED:20250713T060510Z
LAST-MODIFIED:20250811T060514Z
UID:10001270-1754906400-1754908800@reenaseniorliving.com
SUMMARY:Green Thumbs and Patio Social Time.
DESCRIPTION:Garden and Social Time.
URL:https://reenaseniorliving.com/event-calendar/green-thumbs-and-patio-social-time-25/
LOCATION:Activity Room Patio
CATEGORIES:Assisted Living
END:VEVENT
BEGIN:VEVENT
DTSTART;TZID=America/Chicago:20250811T101500
DTEND;TZID=America/Chicago:20250811T110000
DTSTAMP:20260422T175727
CREATED:20250713T031921Z
LAST-MODIFIED:20250811T060514Z
UID:10001261-1754907300-1754910000@reenaseniorliving.com
SUMMARY:Lutheran Service with Julie - Theatre - Basement - AL ONLY this week.
DESCRIPTION:
URL:https://reenaseniorliving.com/event-calendar/lutheran-service-with-julie-legacy-court-3/
LOCATION:Theatre
CATEGORIES:Assisted Living,Legacy Court
END:VEVENT
BEGIN:VEVENT
DTSTART;TZID=America/Chicago:20250811T101500
DTEND;TZID=America/Chicago:20250811T111500
DTSTAMP:20260422T175727
CREATED:20250713T060510Z
LAST-MODIFIED:20250729T060411Z
UID:10001272-1754907300-1754910900@reenaseniorliving.com
SUMMARY:Coffee in the Cafe - The Cafe is adjoined to the Dining Room
DESCRIPTION:
URL:https://reenaseniorliving.com/event-calendar/coffee-in-the-cafe-the-cafe-is-adjoined-to-the-dining-room-2/
LOCATION:Cafe
CATEGORIES:Assisted Living
END:VEVENT
BEGIN:VEVENT
DTSTART;TZID=America/Chicago:20250811T123000
DTEND;TZID=America/Chicago:20250811T130000
DTSTAMP:20260422T175727
CREATED:20250713T060510Z
LAST-MODIFIED:20250718T060526Z
UID:10001273-1754915400-1754917200@reenaseniorliving.com
SUMMARY:Rosary with Volunteer Dorothy
DESCRIPTION:
URL:https://reenaseniorliving.com/event-calendar/rosary-with-volunteer-dorothy-13/
LOCATION:Pub
CATEGORIES:Assisted Living
END:VEVENT
BEGIN:VEVENT
DTSTART;TZID=America/Chicago:20250811T130000
DTEND;TZID=America/Chicago:20250811T151500
DTSTAMP:20260422T175727
CREATED:20250806T060526Z
LAST-MODIFIED:20250811T060514Z
UID:10001664-1754917200-1754925300@reenaseniorliving.com
SUMMARY:Nail Spa Day - Sign-up
DESCRIPTION:
URL:https://reenaseniorliving.com/event-calendar/nail-spa-day-sign-up-4/
LOCATION:Activity Room
CATEGORIES:Assisted Living
END:VEVENT
BEGIN:VEVENT
DTSTART;TZID=America/Chicago:20250811T133000
DTEND;TZID=America/Chicago:20250811T143000
DTSTAMP:20260422T175727
CREATED:20250713T060510Z
LAST-MODIFIED:20250730T060429Z
UID:10001274-1754919000-1754922600@reenaseniorliving.com
SUMMARY:Bingo
DESCRIPTION:
URL:https://reenaseniorliving.com/event-calendar/bingo-25/
LOCATION:AR
CATEGORIES:Assisted Living
END:VEVENT
BEGIN:VEVENT
DTSTART;TZID=America/Chicago:20250811T140000
DTEND;TZID=America/Chicago:20250811T151500
DTSTAMP:20260422T175727
CREATED:20250731T060414Z
LAST-MODIFIED:20250805T060502Z
UID:10001584-1754920800-1754925300@reenaseniorliving.com
SUMMARY:1950's Closed Caption 11min video reminiscing & A Rifleman episode
DESCRIPTION:
URL:https://reenaseniorliving.com/event-calendar/1950s-closed-caption-11min-video-reminiscing-a-rifleman-episode/
LOCATION:Activity Room
CATEGORIES:Assisted Living
END:VEVENT
BEGIN:VEVENT
DTSTART;TZID=America/Chicago:20250811T170000
DTEND;TZID=America/Chicago:20250811T190000
DTSTAMP:20260422T175727
CREATED:20250713T060510Z
LAST-MODIFIED:20250805T060502Z
UID:10001275-1754931600-1754938800@reenaseniorliving.com
SUMMARY:Resident Guided - Social Time
DESCRIPTION:
URL:https://reenaseniorliving.com/event-calendar/resident-guided-social-time-90/
LOCATION:Activity Room
CATEGORIES:Assisted Living
END:VEVENT
BEGIN:VEVENT
DTSTART;TZID=America/Chicago:20250811T183000
DTEND;TZID=America/Chicago:20250811T193000
DTSTAMP:20260422T175727
CREATED:20250731T060414Z
LAST-MODIFIED:20250807T060400Z
UID:10001585-1754937000-1754940600@reenaseniorliving.com
SUMMARY:Marshmallow Roast on Pond Patio with Dawn
DESCRIPTION:
URL:https://reenaseniorliving.com/event-calendar/marshmallow-roast-on-pond-patio/
LOCATION:Pond Patio
CATEGORIES:Assisted Living
END:VEVENT
BEGIN:VEVENT
DTSTART;TZID=America/Chicago:20250812T091500
DTEND;TZID=America/Chicago:20250812T094500
DTSTAMP:20260422T175727
CREATED:20250714T060426Z
LAST-MODIFIED:20250812T060410Z
UID:10001289-1754990100-1754991900@reenaseniorliving.com
SUMMARY:Movement Class with Kayla
DESCRIPTION:
URL:https://reenaseniorliving.com/event-calendar/movement-class-with-kayla-20/
LOCATION:Activity Room
CATEGORIES:Assisted Living
END:VEVENT
BEGIN:VEVENT
DTSTART;TZID=America/Chicago:20250812T094500
DTEND;TZID=America/Chicago:20250812T101000
DTSTAMP:20260422T175727
CREATED:20250714T060426Z
LAST-MODIFIED:20250812T060410Z
UID:10001288-1754991900-1754993400@reenaseniorliving.com
SUMMARY:Strength Class - Intermediate Class
DESCRIPTION:
URL:https://reenaseniorliving.com/event-calendar/strength-class-intermediate-class-26/
LOCATION:Activity Room
CATEGORIES:Assisted Living
END:VEVENT
BEGIN:VEVENT
DTSTART;TZID=America/Chicago:20250812T101500
DTEND;TZID=America/Chicago:20250812T104500
DTSTAMP:20260422T175727
CREATED:20250714T060425Z
LAST-MODIFIED:20250812T060410Z
UID:10001287-1754993700-1754995500@reenaseniorliving.com
SUMMARY:Green Thumbs Garden Group
DESCRIPTION:
URL:https://reenaseniorliving.com/event-calendar/green-thumbs-garden-group-23/
LOCATION:Activity Room Patio
CATEGORIES:Assisted Living
END:VEVENT
BEGIN:VEVENT
DTSTART;TZID=America/Chicago:20250812T130000
DTEND;TZID=America/Chicago:20250812T140000
DTSTAMP:20260422T175727
CREATED:20250714T060426Z
LAST-MODIFIED:20250812T060410Z
UID:10001290-1755003600-1755007200@reenaseniorliving.com
SUMMARY:Grip Competition - Go Reena Rockers! This week we meet in the Cafe next to the Dining Room.
DESCRIPTION:
URL:https://reenaseniorliving.com/event-calendar/grip-competition-come-join-the-team-we-are-the-reena-rockers-3/
LOCATION:Cafe
CATEGORIES:Assisted Living
END:VEVENT
BEGIN:VEVENT
DTSTART;TZID=America/Chicago:20250812T140000
DTEND;TZID=America/Chicago:20250812T143000
DTSTAMP:20260422T175727
CREATED:20250807T060400Z
LAST-MODIFIED:20250812T060410Z
UID:10001680-1755007200-1755009000@reenaseniorliving.com
SUMMARY:Milk and Cookies - Post Game
DESCRIPTION:
URL:https://reenaseniorliving.com/event-calendar/milk-and-cookies-post-game/
LOCATION:Cafe
CATEGORIES:Assisted Living
END:VEVENT
BEGIN:VEVENT
DTSTART;TZID=America/Chicago:20250812T141500
DTEND;TZID=America/Chicago:20250812T150000
DTSTAMP:20260422T175727
CREATED:20250730T034906Z
LAST-MODIFIED:20250805T060503Z
UID:10001535-1755008100-1755010800@reenaseniorliving.com
SUMMARY:Sing a long Fun with Anne on Keyboard.
DESCRIPTION:
URL:https://reenaseniorliving.com/event-calendar/sing-a-long-fun-with-anne-on-keyboard/
LOCATION:Activity Room
CATEGORIES:Assisted Living,Legacy Court
END:VEVENT
BEGIN:VEVENT
DTSTART;TZID=America/Chicago:20250812T170000
DTEND;TZID=America/Chicago:20250812T190000
DTSTAMP:20260422T175727
CREATED:20250714T060426Z
LAST-MODIFIED:20250806T060526Z
UID:10001291-1755018000-1755025200@reenaseniorliving.com
SUMMARY:Resident Guided - Social Time
DESCRIPTION:
URL:https://reenaseniorliving.com/event-calendar/resident-guided-social-time-91/
LOCATION:Activity Room
CATEGORIES:Assisted Living
END:VEVENT
BEGIN:VEVENT
DTSTART;TZID=America/Chicago:20250812T180000
DTEND;TZID=America/Chicago:20250812T200000
DTSTAMP:20260422T175727
CREATED:20250807T060400Z
LAST-MODIFIED:20250812T060410Z
UID:10001681-1755021600-1755028800@reenaseniorliving.com
SUMMARY:Social and Game Time - Library is on 2nd floor - Balcony Area
DESCRIPTION:
URL:https://reenaseniorliving.com/event-calendar/social-and-game-time-library-is-on-2nd-floor-balcony-area/
LOCATION:Library
CATEGORIES:Assisted Living
END:VEVENT
BEGIN:VEVENT
DTSTART;TZID=America/Chicago:20250813T091500
DTEND;TZID=America/Chicago:20250813T094500
DTSTAMP:20260422T175727
CREATED:20250715T060408Z
LAST-MODIFIED:20250813T060504Z
UID:10001301-1755076500-1755078300@reenaseniorliving.com
SUMMARY:Movement Class with Kayla
DESCRIPTION:
URL:https://reenaseniorliving.com/event-calendar/movement-class-with-kayla-21/
LOCATION:Activity Room
CATEGORIES:Assisted Living
END:VEVENT
END:VCALENDAR