BEGIN:VCALENDAR
VERSION:2.0
PRODID:-//Reena Senior Living - ECPv6.11.2.1//NONSGML v1.0//EN
CALSCALE:GREGORIAN
METHOD:PUBLISH
X-ORIGINAL-URL:https://reenaseniorliving.com
X-WR-CALDESC:Events for Reena Senior Living
REFRESH-INTERVAL;VALUE=DURATION:PT1H
X-Robots-Tag:noindex
X-PUBLISHED-TTL:PT1H
BEGIN:VTIMEZONE
TZID:America/Chicago
BEGIN:DAYLIGHT
TZOFFSETFROM:-0600
TZOFFSETTO:-0500
TZNAME:CDT
DTSTART:20250309T080000
END:DAYLIGHT
BEGIN:STANDARD
TZOFFSETFROM:-0500
TZOFFSETTO:-0600
TZNAME:CST
DTSTART:20251102T070000
END:STANDARD
END:VTIMEZONE
BEGIN:VEVENT
DTSTART;TZID=America/Chicago:20250728T133000
DTEND;TZID=America/Chicago:20250728T143000
DTSTAMP:20260422T173134
CREATED:20250629T051928Z
LAST-MODIFIED:20250728T060410Z
UID:10001079-1753709400-1753713000@reenaseniorliving.com
SUMMARY:Bingo
DESCRIPTION:
URL:https://reenaseniorliving.com/event-calendar/bingo-21/
LOCATION:AR
CATEGORIES:Assisted Living
END:VEVENT
BEGIN:VEVENT
DTSTART;TZID=America/Chicago:20250728T150000
DTEND;TZID=America/Chicago:20250728T160000
DTSTAMP:20260422T173134
CREATED:20250629T051928Z
LAST-MODIFIED:20250728T060410Z
UID:10001080-1753714800-1753718400@reenaseniorliving.com
SUMMARY:Checkers with Local Students
DESCRIPTION:
URL:https://reenaseniorliving.com/event-calendar/intergenerational-checkers-with-mai-joshua-ayyanna/
LOCATION:Activity Room
CATEGORIES:Assisted Living
END:VEVENT
BEGIN:VEVENT
DTSTART;TZID=America/Chicago:20250728T161500
DTEND;TZID=America/Chicago:20250728T163500
DTSTAMP:20260422T173134
CREATED:20250716T060404Z
LAST-MODIFIED:20250728T060410Z
UID:10001313-1753719300-1753720500@reenaseniorliving.com
SUMMARY:Violin Playing by Ayyanna - 4:15 - 4:30
DESCRIPTION:
URL:https://reenaseniorliving.com/event-calendar/violin-playing-by-ayyanna-as-you-come-down-to-dine-415-430/
LOCATION:Cafe
CATEGORIES:Assisted Living
END:VEVENT
BEGIN:VEVENT
DTSTART;TZID=America/Chicago:20250728T170000
DTEND;TZID=America/Chicago:20250728T190000
DTSTAMP:20260422T173134
CREATED:20250629T051928Z
LAST-MODIFIED:20250728T060411Z
UID:10001081-1753722000-1753729200@reenaseniorliving.com
SUMMARY:Resident Guided - Social Time
DESCRIPTION:
URL:https://reenaseniorliving.com/event-calendar/resident-guided-social-time-76/
LOCATION:Activity Room
CATEGORIES:Assisted Living
END:VEVENT
BEGIN:VEVENT
DTSTART;TZID=America/Chicago:20250729T085000
DTEND;TZID=America/Chicago:20250729T090500
DTSTAMP:20260422T173134
CREATED:20250630T053456Z
LAST-MODIFIED:20250729T060410Z
UID:10001093-1753779000-1753779900@reenaseniorliving.com
SUMMARY:Green Thumbs Garden Group
DESCRIPTION:
URL:https://reenaseniorliving.com/event-calendar/green-thumbs-garden-group-13/
LOCATION:Activity Room Patio
CATEGORIES:Assisted Living
END:VEVENT
BEGIN:VEVENT
DTSTART;TZID=America/Chicago:20250729T091500
DTEND;TZID=America/Chicago:20250729T094500
DTSTAMP:20260422T173134
CREATED:20250630T053456Z
LAST-MODIFIED:20250729T060410Z
UID:10001094-1753780500-1753782300@reenaseniorliving.com
SUMMARY:Movement Class with Kayla
DESCRIPTION:
URL:https://reenaseniorliving.com/event-calendar/movement-class-with-kayla-8/
LOCATION:Activity Room
CATEGORIES:Assisted Living
END:VEVENT
BEGIN:VEVENT
DTSTART;TZID=America/Chicago:20250729T094500
DTEND;TZID=America/Chicago:20250729T101000
DTSTAMP:20260422T173134
CREATED:20250630T053456Z
LAST-MODIFIED:20250729T060410Z
UID:10001095-1753782300-1753783800@reenaseniorliving.com
SUMMARY:Strength Class - Intermediate Class
DESCRIPTION:
URL:https://reenaseniorliving.com/event-calendar/strength-class-intermediate-class-22/
LOCATION:Activity Room
CATEGORIES:Assisted Living
END:VEVENT
BEGIN:VEVENT
DTSTART;TZID=America/Chicago:20250729T110000
DTEND;TZID=America/Chicago:20250729T112000
DTSTAMP:20260422T173134
CREATED:20250630T053456Z
LAST-MODIFIED:20250715T060404Z
UID:10001096-1753786800-1753788000@reenaseniorliving.com
SUMMARY:We are creating a resource binder of our flowers & plants. Come see how we're doing. 20min.
DESCRIPTION:
URL:https://reenaseniorliving.com/event-calendar/plant-identifier-project-with-dawn-we-will-create-a-resource-binder-of-our-plants-over-4-weeks-4/
LOCATION:Activity Room
CATEGORIES:Assisted Living
END:VEVENT
BEGIN:VEVENT
DTSTART;TZID=America/Chicago:20250729T130000
DTEND;TZID=America/Chicago:20250729T140000
DTSTAMP:20260422T173134
CREATED:20250630T053456Z
LAST-MODIFIED:20250729T060410Z
UID:10001097-1753794000-1753797600@reenaseniorliving.com
SUMMARY:Grip Competition - Come join the team! We are the Reena Rockers!
DESCRIPTION:
URL:https://reenaseniorliving.com/event-calendar/grip-competition-come-join-the-team-we-are-the-reena-rockers/
LOCATION:Activity Room
CATEGORIES:Assisted Living
END:VEVENT
BEGIN:VEVENT
DTSTART;TZID=America/Chicago:20250729T141500
DTEND;TZID=America/Chicago:20250729T150000
DTSTAMP:20260422T173134
CREATED:20250725T060402Z
LAST-MODIFIED:20250729T060410Z
UID:10001473-1753798500-1753801200@reenaseniorliving.com
SUMMARY:History - WWII Rationing - Old Videos and Pictures on our large TV
DESCRIPTION:As requested\, let’s review and discuss the history of WWII regarding what was rationed.
URL:https://reenaseniorliving.com/event-calendar/history-wwii-rationing-old-videos-and-pictures-on-our-large-tv/
LOCATION:Activity Room
CATEGORIES:Assisted Living
END:VEVENT
BEGIN:VEVENT
DTSTART;TZID=America/Chicago:20250729T170000
DTEND;TZID=America/Chicago:20250729T190000
DTSTAMP:20260422T173134
CREATED:20250630T053456Z
LAST-MODIFIED:20250729T060410Z
UID:10001098-1753808400-1753815600@reenaseniorliving.com
SUMMARY:Resident Guided - Social Time
DESCRIPTION:
URL:https://reenaseniorliving.com/event-calendar/resident-guided-social-time-77/
LOCATION:Activity Room
CATEGORIES:Assisted Living
END:VEVENT
BEGIN:VEVENT
DTSTART;TZID=America/Chicago:20250730T091500
DTEND;TZID=America/Chicago:20250730T094500
DTSTAMP:20260422T173134
CREATED:20250701T053410Z
LAST-MODIFIED:20250730T060428Z
UID:10001115-1753866900-1753868700@reenaseniorliving.com
SUMMARY:Movement Class with Kayla
DESCRIPTION:
URL:https://reenaseniorliving.com/event-calendar/movement-class-with-kayla-10/
LOCATION:Activity Room
CATEGORIES:Assisted Living
END:VEVENT
BEGIN:VEVENT
DTSTART;TZID=America/Chicago:20250730T100000
DTEND;TZID=America/Chicago:20250730T101500
DTSTAMP:20260422T173134
CREATED:20250701T030442Z
LAST-MODIFIED:20250730T060428Z
UID:10001103-1753869600-1753870500@reenaseniorliving.com
SUMMARY:Sing along before Catholic Service.
DESCRIPTION:We will assist you to go next door.
URL:https://reenaseniorliving.com/event-calendar/sing-along-before-catholic-service-9/
LOCATION:Legacy Court
CATEGORIES:Assisted Living,Legacy Court
END:VEVENT
BEGIN:VEVENT
DTSTART;TZID=America/Chicago:20250730T101500
DTEND;TZID=America/Chicago:20250730T104500
DTSTAMP:20260422T173134
CREATED:20250730T060427Z
LAST-MODIFIED:20250730T060428Z
UID:10001547-1753870500-1753872300@reenaseniorliving.com
SUMMARY:Green Thumbs Garden Group
DESCRIPTION:
URL:https://reenaseniorliving.com/event-calendar/green-thumbs-garden-group-33/
LOCATION:Activity Room Patio
CATEGORIES:Assisted Living
END:VEVENT
BEGIN:VEVENT
DTSTART;TZID=America/Chicago:20250730T101500
DTEND;TZID=America/Chicago:20250730T111500
DTSTAMP:20260422T173134
CREATED:20250701T030442Z
LAST-MODIFIED:20250730T060428Z
UID:10001104-1753870500-1753874100@reenaseniorliving.com
SUMMARY:Catholic Service
DESCRIPTION:
URL:https://reenaseniorliving.com/event-calendar/catholic-service-11/
LOCATION:Legacy Court
CATEGORIES:Assisted Living,Legacy Court
END:VEVENT
BEGIN:VEVENT
DTSTART;TZID=America/Chicago:20250730T130000
DTEND;TZID=America/Chicago:20250730T143000
DTSTAMP:20260422T173134
CREATED:20250701T053410Z
LAST-MODIFIED:20250701T053410Z
UID:10001116-1753880400-1753885800@reenaseniorliving.com
SUMMARY:Abstract Acyrlic Art with Kayla - Sign-up - Sample on Credenza
DESCRIPTION:
URL:https://reenaseniorliving.com/event-calendar/abstract-acyrlic-art-with-kayla-sign-up-sample-on-credenza/
LOCATION:Activity Room
CATEGORIES:Assisted Living
END:VEVENT
BEGIN:VEVENT
DTSTART;TZID=America/Chicago:20250730T130000
DTEND;TZID=America/Chicago:20250730T150000
DTSTAMP:20260422T173134
CREATED:20250702T053449Z
LAST-MODIFIED:20250730T060428Z
UID:10001127-1753880400-1753887600@reenaseniorliving.com
SUMMARY:Movie Day - Vote Result - State Fair with Jeanne Crain & Dana Andrews - Snack will be served.
DESCRIPTION:
URL:https://reenaseniorliving.com/event-calendar/movie-day-vote-for-your-movie-choice-in-ar-beverage-and-snack-will-be-served-3/
LOCATION:Theatre
CATEGORIES:Assisted Living
END:VEVENT
BEGIN:VEVENT
DTSTART;TZID=America/Chicago:20250730T170000
DTEND;TZID=America/Chicago:20250730T190000
DTSTAMP:20260422T173134
CREATED:20250701T053410Z
LAST-MODIFIED:20250730T060428Z
UID:10001117-1753894800-1753902000@reenaseniorliving.com
SUMMARY:Resident Guided - Social Time
DESCRIPTION:
URL:https://reenaseniorliving.com/event-calendar/resident-guided-social-time-78/
LOCATION:Activity Room
CATEGORIES:Assisted Living
END:VEVENT
BEGIN:VEVENT
DTSTART;TZID=America/Chicago:20250731T091500
DTEND;TZID=America/Chicago:20250731T094500
DTSTAMP:20260422T173134
CREATED:20250702T053449Z
LAST-MODIFIED:20250731T060412Z
UID:10001129-1753953300-1753955100@reenaseniorliving.com
SUMMARY:Movement Class with Kayla
DESCRIPTION:Gentle Movement\, Strength\, Mobility\, Balance\, & More.
URL:https://reenaseniorliving.com/event-calendar/movement-class-with-kayla-11/
LOCATION:Activity Room
CATEGORIES:Assisted Living
END:VEVENT
BEGIN:VEVENT
DTSTART;TZID=America/Chicago:20250731T094500
DTEND;TZID=America/Chicago:20250731T101000
DTSTAMP:20260422T173134
CREATED:20250702T053449Z
LAST-MODIFIED:20250731T060412Z
UID:10001128-1753955100-1753956600@reenaseniorliving.com
SUMMARY:Strength Class - Intermediate Class
DESCRIPTION:
URL:https://reenaseniorliving.com/event-calendar/strength-class-intermediate-class-23/
LOCATION:Activity Room
CATEGORIES:Assisted Living
END:VEVENT
BEGIN:VEVENT
DTSTART;TZID=America/Chicago:20250731T130000
DTEND;TZID=America/Chicago:20250731T143000
DTSTAMP:20260422T173134
CREATED:20250702T053449Z
LAST-MODIFIED:20250731T060412Z
UID:10001130-1753966800-1753972200@reenaseniorliving.com
SUMMARY:Abstract Acyrlic Art with Kayla - Sign-up - Sample on Credenza
DESCRIPTION:
URL:https://reenaseniorliving.com/event-calendar/abstract-acyrlic-art-with-kayla-sign-up-sample-on-credenza-2/
LOCATION:Activity Room
CATEGORIES:Assisted Living
END:VEVENT
BEGIN:VEVENT
DTSTART;TZID=America/Chicago:20250731T143000
DTEND;TZID=America/Chicago:20250731T153000
DTSTAMP:20260422T173134
CREATED:20250725T060402Z
LAST-MODIFIED:20250731T060412Z
UID:10001474-1753972200-1753975800@reenaseniorliving.com
SUMMARY:Let's Bake Bread
DESCRIPTION:
URL:https://reenaseniorliving.com/event-calendar/lets-bake-bread-2/
LOCATION:Activity Room
CATEGORIES:Assisted Living
END:VEVENT
BEGIN:VEVENT
DTSTART;TZID=America/Chicago:20250731T170000
DTEND;TZID=America/Chicago:20250731T190000
DTSTAMP:20260422T173134
CREATED:20250702T053449Z
LAST-MODIFIED:20250731T060412Z
UID:10001131-1753981200-1753988400@reenaseniorliving.com
SUMMARY:Resident Guided - Social Time
DESCRIPTION:
URL:https://reenaseniorliving.com/event-calendar/resident-guided-social-time-79/
LOCATION:Activity Room
CATEGORIES:Assisted Living
END:VEVENT
BEGIN:VEVENT
DTSTART;TZID=America/Chicago:20250801T091500
DTEND;TZID=America/Chicago:20250801T094500
DTSTAMP:20260422T173134
CREATED:20250703T054909Z
LAST-MODIFIED:20250801T060406Z
UID:10001145-1754039700-1754041500@reenaseniorliving.com
SUMMARY:Movement Class with Kayla
DESCRIPTION:
URL:https://reenaseniorliving.com/event-calendar/movement-class-with-kayla-13/
LOCATION:Activity Room
CATEGORIES:Assisted Living
END:VEVENT
BEGIN:VEVENT
DTSTART;TZID=America/Chicago:20250801T093000
DTEND;TZID=America/Chicago:20250801T094500
DTSTAMP:20260422T173134
CREATED:20250703T030423Z
LAST-MODIFIED:20250801T034921Z
UID:10001137-1754040600-1754041500@reenaseniorliving.com
SUMMARY:Grip Practice - Come join the team.
DESCRIPTION:
URL:https://reenaseniorliving.com/event-calendar/grip-practice-come-join-the-team/
LOCATION:Activity Room
CATEGORIES:Assisted Living,Legacy Court
END:VEVENT
BEGIN:VEVENT
DTSTART;TZID=America/Chicago:20250801T100000
DTEND;TZID=America/Chicago:20250801T103000
DTSTAMP:20260422T173134
CREATED:20250703T054909Z
LAST-MODIFIED:20250801T060406Z
UID:10001144-1754042400-1754044200@reenaseniorliving.com
SUMMARY:Green Thumbs Garden Group
DESCRIPTION:
URL:https://reenaseniorliving.com/event-calendar/green-thumbs-garden-group-14/
LOCATION:Activity Room Patio
CATEGORIES:Assisted Living
END:VEVENT
BEGIN:VEVENT
DTSTART;TZID=America/Chicago:20250801T101500
DTEND;TZID=America/Chicago:20250801T104500
DTSTAMP:20260422T173134
CREATED:20250703T054909Z
LAST-MODIFIED:20250729T060409Z
UID:10001146-1754043300-1754045100@reenaseniorliving.com
SUMMARY:Coffee & Corn Hole with Kayla in Cafe
DESCRIPTION:Social Time with Coffee
URL:https://reenaseniorliving.com/event-calendar/coffee-social-time-2/
LOCATION:Cafe
CATEGORIES:Assisted Living
END:VEVENT
BEGIN:VEVENT
DTSTART;TZID=America/Chicago:20250801T124500
DTEND;TZID=America/Chicago:20250801T130000
DTSTAMP:20260422T173134
CREATED:20250725T060403Z
LAST-MODIFIED:20250801T060406Z
UID:10001475-1754052300-1754053200@reenaseniorliving.com
SUMMARY:Grip Practice
DESCRIPTION:
URL:https://reenaseniorliving.com/event-calendar/grip-practice-9/
LOCATION:Activity Room
CATEGORIES:Assisted Living
END:VEVENT
BEGIN:VEVENT
DTSTART;TZID=America/Chicago:20250801T130000
DTEND;TZID=America/Chicago:20250801T140000
DTSTAMP:20260422T173134
CREATED:20250703T054909Z
LAST-MODIFIED:20250801T060406Z
UID:10001148-1754053200-1754056800@reenaseniorliving.com
SUMMARY:The Big Show - Review the week of Grip Competition!
DESCRIPTION:
URL:https://reenaseniorliving.com/event-calendar/the-big-show-review-the-week-of-grip-competition-3/
LOCATION:Activity Room
CATEGORIES:Assisted Living,Legacy Court
END:VEVENT
BEGIN:VEVENT
DTSTART;TZID=America/Chicago:20250801T133000
DTEND;TZID=America/Chicago:20250801T140000
DTSTAMP:20260422T173134
CREATED:20250703T054909Z
LAST-MODIFIED:20250722T060402Z
UID:10001147-1754055000-1754056800@reenaseniorliving.com
SUMMARY:Story of Christ reading with volunteer Dorothy
DESCRIPTION:
URL:https://reenaseniorliving.com/event-calendar/story-of-christ-reading-with-volunteer-dorothy-9/
LOCATION:Pub
CATEGORIES:Assisted Living
END:VEVENT
END:VCALENDAR