BEGIN:VCALENDAR
VERSION:2.0
PRODID:-//Reena Senior Living - ECPv6.11.2.1//NONSGML v1.0//EN
CALSCALE:GREGORIAN
METHOD:PUBLISH
X-ORIGINAL-URL:https://reenaseniorliving.com
X-WR-CALDESC:Events for Reena Senior Living
REFRESH-INTERVAL;VALUE=DURATION:PT1H
X-Robots-Tag:noindex
X-PUBLISHED-TTL:PT1H
BEGIN:VTIMEZONE
TZID:America/Chicago
BEGIN:DAYLIGHT
TZOFFSETFROM:-0600
TZOFFSETTO:-0500
TZNAME:CDT
DTSTART:20250309T080000
END:DAYLIGHT
BEGIN:STANDARD
TZOFFSETFROM:-0500
TZOFFSETTO:-0600
TZNAME:CST
DTSTART:20251102T070000
END:STANDARD
END:VTIMEZONE
BEGIN:VEVENT
DTSTART;TZID=America/Chicago:20250909T094500
DTEND;TZID=America/Chicago:20250909T100000
DTSTAMP:20260422T173130
CREATED:20250811T060518Z
LAST-MODIFIED:20250909T070401Z
UID:10001736-1757411100-1757412000@reenaseniorliving.com
SUMMARY:Chair Dance Sock Hop Themed Music!
DESCRIPTION:
URL:https://reenaseniorliving.com/event-calendar/strength-class-intermediate-class-34/
LOCATION:Activity Room
CATEGORIES:Assisted Living
END:VEVENT
BEGIN:VEVENT
DTSTART;TZID=America/Chicago:20250909T101500
DTEND;TZID=America/Chicago:20250909T104500
DTSTAMP:20260422T173130
CREATED:20250811T060519Z
LAST-MODIFIED:20250905T070420Z
UID:10001737-1757412900-1757414700@reenaseniorliving.com
SUMMARY:Green Thumbs Garden Group
DESCRIPTION:
URL:https://reenaseniorliving.com/event-calendar/green-thumbs-garden-group-45/
LOCATION:Activity Room Patio
CATEGORIES:Assisted Living
END:VEVENT
BEGIN:VEVENT
DTSTART;TZID=America/Chicago:20250909T101500
DTEND;TZID=America/Chicago:20250909T110000
DTSTAMP:20260422T173130
CREATED:20250906T070431Z
LAST-MODIFIED:20250909T070401Z
UID:10002077-1757412900-1757415600@reenaseniorliving.com
SUMMARY:Let's Bake Bread for Alzheimer's Fundraising!
DESCRIPTION:
URL:https://reenaseniorliving.com/event-calendar/lets-bake-bread-for-alzheimers-fundraising/
LOCATION:Activity Room
CATEGORIES:Assisted Living
END:VEVENT
BEGIN:VEVENT
DTSTART;TZID=America/Chicago:20250909T130000
DTEND;TZID=America/Chicago:20250909T140000
DTSTAMP:20260422T173130
CREATED:20250811T040413Z
LAST-MODIFIED:20250905T070420Z
UID:10001730-1757422800-1757426400@reenaseniorliving.com
SUMMARY:Final 4 Grip Challenge
DESCRIPTION:
URL:https://reenaseniorliving.com/event-calendar/final-4-grip-challenge/
LOCATION:Activity Room
CATEGORIES:Assisted Living,Legacy Court
END:VEVENT
BEGIN:VEVENT
DTSTART;TZID=America/Chicago:20250909T130000
DTEND;TZID=America/Chicago:20250909T140000
DTSTAMP:20260422T173130
CREATED:20250811T060519Z
LAST-MODIFIED:20250905T070420Z
UID:10001738-1757422800-1757426400@reenaseniorliving.com
SUMMARY:Grip Competition - Come join the team!
DESCRIPTION:
URL:https://reenaseniorliving.com/event-calendar/grip-competition-come-join-the-team-we-are-the-reena-rockers-7/
LOCATION:Activity Room
CATEGORIES:Assisted Living
END:VEVENT
BEGIN:VEVENT
DTSTART;TZID=America/Chicago:20250909T133000
DTEND;TZID=America/Chicago:20250909T144500
DTSTAMP:20260422T173130
CREATED:20250906T070431Z
LAST-MODIFIED:20250909T070401Z
UID:10002078-1757424600-1757429100@reenaseniorliving.com
SUMMARY:Sock Hop Party! Milkshakes and Karaoke!
DESCRIPTION:
URL:https://reenaseniorliving.com/event-calendar/sock-hop-party-milkshakes-and-karaoke/
LOCATION:Activity Room
CATEGORIES:Assisted Living
END:VEVENT
BEGIN:VEVENT
DTSTART;TZID=America/Chicago:20250909T170000
DTEND;TZID=America/Chicago:20250909T190000
DTSTAMP:20260422T173130
CREATED:20250811T060519Z
LAST-MODIFIED:20250909T070401Z
UID:10001739-1757437200-1757444400@reenaseniorliving.com
SUMMARY:Social and Game Time - Balcony\, Activity Room or Pub Spaces
DESCRIPTION:
URL:https://reenaseniorliving.com/event-calendar/social-and-game-time-library-is-on-2nd-floor-balcony-area-6/
LOCATION:Library
CATEGORIES:Assisted Living
END:VEVENT
BEGIN:VEVENT
DTSTART;TZID=America/Chicago:20250910T091500
DTEND;TZID=America/Chicago:20250910T094500
DTSTAMP:20260422T173130
CREATED:20250812T060416Z
LAST-MODIFIED:20250829T064931Z
UID:10001750-1757495700-1757497500@reenaseniorliving.com
SUMMARY:Movement Class with Kayla
DESCRIPTION:
URL:https://reenaseniorliving.com/event-calendar/movement-class-with-kayla-41/
LOCATION:Activity Room
CATEGORIES:Assisted Living
END:VEVENT
BEGIN:VEVENT
DTSTART;TZID=America/Chicago:20250910T091500
DTEND;TZID=America/Chicago:20250910T094500
DTSTAMP:20260422T173130
CREATED:20250906T070431Z
LAST-MODIFIED:20250910T070401Z
UID:10002079-1757495700-1757497500@reenaseniorliving.com
SUMMARY:Movement Class with Kayla
DESCRIPTION:
URL:https://reenaseniorliving.com/event-calendar/movement-class-with-kayla-58/
LOCATION:Activity Room
CATEGORIES:Assisted Living
END:VEVENT
BEGIN:VEVENT
DTSTART;TZID=America/Chicago:20250910T100000
DTEND;TZID=America/Chicago:20250910T101500
DTSTAMP:20260422T173130
CREATED:20250812T040507Z
LAST-MODIFIED:20250910T070401Z
UID:10001741-1757498400-1757499300@reenaseniorliving.com
SUMMARY:Sing along before Catholic Service.
DESCRIPTION:We will assist you to go next door.
URL:https://reenaseniorliving.com/event-calendar/sing-along-before-catholic-service-15/
LOCATION:Legacy Court
CATEGORIES:Assisted Living,Legacy Court
END:VEVENT
BEGIN:VEVENT
DTSTART;TZID=America/Chicago:20250910T101500
DTEND;TZID=America/Chicago:20250910T105000
DTSTAMP:20260422T173130
CREATED:20250812T060416Z
LAST-MODIFIED:20250910T070401Z
UID:10001751-1757499300-1757501400@reenaseniorliving.com
SUMMARY:Non-Denominational Service with Chaplain Lee
DESCRIPTION:
URL:https://reenaseniorliving.com/event-calendar/non-denominational-service-with-chaplain-lee-3/
LOCATION:Theatre
CATEGORIES:Assisted Living
END:VEVENT
BEGIN:VEVENT
DTSTART;TZID=America/Chicago:20250910T101500
DTEND;TZID=America/Chicago:20250910T111500
DTSTAMP:20260422T173130
CREATED:20250812T040507Z
LAST-MODIFIED:20250910T070401Z
UID:10001742-1757499300-1757502900@reenaseniorliving.com
SUMMARY:Catholic Service
DESCRIPTION:
URL:https://reenaseniorliving.com/event-calendar/catholic-service-16/
LOCATION:Legacy Court
CATEGORIES:Assisted Living,Legacy Court
END:VEVENT
BEGIN:VEVENT
DTSTART;TZID=America/Chicago:20250910T123000
DTEND;TZID=America/Chicago:20250910T130000
DTSTAMP:20260422T173130
CREATED:20250812T060416Z
LAST-MODIFIED:20250905T070420Z
UID:10001752-1757507400-1757509200@reenaseniorliving.com
SUMMARY:Green Thumbs Garden Group
DESCRIPTION:
URL:https://reenaseniorliving.com/event-calendar/green-thumbs-garden-group-46/
LOCATION:Activity Room Patio
CATEGORIES:Assisted Living
END:VEVENT
BEGIN:VEVENT
DTSTART;TZID=America/Chicago:20250910T130000
DTEND;TZID=America/Chicago:20250910T133000
DTSTAMP:20260422T173130
CREATED:20250906T050403Z
LAST-MODIFIED:20250910T070401Z
UID:10002059-1757509200-1757511000@reenaseniorliving.com
SUMMARY:Slot Machine with Staff.
DESCRIPTION:
URL:https://reenaseniorliving.com/event-calendar/slot-machine-with-staff/
LOCATION:Cafe
CATEGORIES:Assisted Living,Legacy Court
END:VEVENT
BEGIN:VEVENT
DTSTART;TZID=America/Chicago:20250910T130000
DTEND;TZID=America/Chicago:20250910T134500
DTSTAMP:20260422T173130
CREATED:20250906T070431Z
LAST-MODIFIED:20250910T070401Z
UID:10002080-1757509200-1757511900@reenaseniorliving.com
SUMMARY:Blackjack! Pub
DESCRIPTION:
URL:https://reenaseniorliving.com/event-calendar/blackjack-pub/
LOCATION:Pub
CATEGORIES:Assisted Living
END:VEVENT
BEGIN:VEVENT
DTSTART;TZID=America/Chicago:20250910T133000
DTEND;TZID=America/Chicago:20250910T140000
DTSTAMP:20260422T173130
CREATED:20250906T050403Z
LAST-MODIFIED:20250910T070401Z
UID:10002060-1757511000-1757512800@reenaseniorliving.com
SUMMARY:Cup Swipe with Jennifer! Who can launch the cup off her head the furthest?
DESCRIPTION:
URL:https://reenaseniorliving.com/event-calendar/cup-swipe-with-jennifer-who-can-launch-the-cup-off-her-head-the-furthest/
LOCATION:Cafe
CATEGORIES:Assisted Living,Legacy Court
END:VEVENT
BEGIN:VEVENT
DTSTART;TZID=America/Chicago:20250910T140000
DTEND;TZID=America/Chicago:20250910T160000
DTSTAMP:20260422T173130
CREATED:20250906T070431Z
LAST-MODIFIED:20250910T070401Z
UID:10002081-1757512800-1757520000@reenaseniorliving.com
SUMMARY:Brewer Party with Beverages and Snacks! Fresh Popcorn!
DESCRIPTION:
URL:https://reenaseniorliving.com/event-calendar/brewer-party-with-beverages-and-snacks-fresh-popcorn/
LOCATION:Activity Room
CATEGORIES:Assisted Living
END:VEVENT
BEGIN:VEVENT
DTSTART;TZID=America/Chicago:20250910T143000
DTEND;TZID=America/Chicago:20250910T153000
DTSTAMP:20260422T173130
CREATED:20250812T040507Z
LAST-MODIFIED:20250905T070420Z
UID:10001748-1757514600-1757518200@reenaseniorliving.com
SUMMARY:Second Chances
DESCRIPTION:
URL:https://reenaseniorliving.com/event-calendar/second-chances-2/
LOCATION:Lobby
CATEGORIES:Assisted Living,Legacy Court
END:VEVENT
BEGIN:VEVENT
DTSTART;TZID=America/Chicago:20250910T170000
DTEND;TZID=America/Chicago:20250910T190000
DTSTAMP:20260422T173130
CREATED:20250812T060416Z
LAST-MODIFIED:20250905T070420Z
UID:10001753-1757523600-1757530800@reenaseniorliving.com
SUMMARY:Social and Game Time - Balcony\, Activity Room or Pub Spaces
DESCRIPTION:
URL:https://reenaseniorliving.com/event-calendar/social-and-game-time-library-is-on-2nd-floor-balcony-area-7/
LOCATION:Library
CATEGORIES:Assisted Living
END:VEVENT
BEGIN:VEVENT
DTSTART;TZID=America/Chicago:20250910T173000
DTEND;TZID=America/Chicago:20250910T190000
DTSTAMP:20260422T173130
CREATED:20250812T060416Z
LAST-MODIFIED:20250905T070420Z
UID:10001754-1757525400-1757530800@reenaseniorliving.com
SUMMARY:Hand & Foot\, Garbage\, or Jenga with your peers. (AR)
DESCRIPTION:
URL:https://reenaseniorliving.com/event-calendar/corn-hole-game-connect-four-jenga-are-set-up-in-the-activity-room-for-you-5/
LOCATION:Activity Room
CATEGORIES:Assisted Living
END:VEVENT
BEGIN:VEVENT
DTSTART;TZID=America/Chicago:20250911T091500
DTEND;TZID=America/Chicago:20250911T094500
DTSTAMP:20260422T173130
CREATED:20250813T060508Z
LAST-MODIFIED:20250911T070402Z
UID:10001765-1757582100-1757583900@reenaseniorliving.com
SUMMARY:Movement Class with Kayla
DESCRIPTION:Gentle Movement\, Strength\, Mobility\, Balance\, & More.
URL:https://reenaseniorliving.com/event-calendar/movement-class-with-kayla-42/
LOCATION:Activity Room
CATEGORIES:Assisted Living
END:VEVENT
BEGIN:VEVENT
DTSTART;TZID=America/Chicago:20250911T094500
DTEND;TZID=America/Chicago:20250911T101000
DTSTAMP:20260422T173130
CREATED:20250813T060508Z
LAST-MODIFIED:20250905T070420Z
UID:10001766-1757583900-1757585400@reenaseniorliving.com
SUMMARY:Strength Class - Intermediate Class
DESCRIPTION:
URL:https://reenaseniorliving.com/event-calendar/strength-class-intermediate-class-35/
LOCATION:Activity Room
CATEGORIES:Assisted Living
END:VEVENT
BEGIN:VEVENT
DTSTART;TZID=America/Chicago:20250911T101500
DTEND;TZID=America/Chicago:20250911T113000
DTSTAMP:20260422T173130
CREATED:20250906T070432Z
LAST-MODIFIED:20250911T070402Z
UID:10002082-1757585700-1757590200@reenaseniorliving.com
SUMMARY:Cyanotype Creation! It's as easy and 1\,2\,3! Come try it.
DESCRIPTION:
URL:https://reenaseniorliving.com/event-calendar/cyanotype-creation-its-as-easy-and-123-come-try-it-2/
LOCATION:Activity Room
CATEGORIES:Assisted Living
END:VEVENT
BEGIN:VEVENT
DTSTART;TZID=America/Chicago:20250911T130000
DTEND;TZID=America/Chicago:20250911T140000
DTSTAMP:20260422T173130
CREATED:20250813T040504Z
LAST-MODIFIED:20250911T070402Z
UID:10001761-1757595600-1757599200@reenaseniorliving.com
SUMMARY:Monarch Presentation & Butterfly Release - with Karen
DESCRIPTION:Karen
URL:https://reenaseniorliving.com/event-calendar/monarch-presentation-butterfly-release-with-karen/
LOCATION:Activity Room
CATEGORIES:Assisted Living,Legacy Court
END:VEVENT
BEGIN:VEVENT
DTSTART;TZID=America/Chicago:20250911T143000
DTEND;TZID=America/Chicago:20250911T145000
DTSTAMP:20260422T173130
CREATED:20250906T070432Z
LAST-MODIFIED:20250911T070402Z
UID:10002083-1757601000-1757602200@reenaseniorliving.com
SUMMARY:Shinrin-Yoku with Dawn on the AR Patio
DESCRIPTION:
URL:https://reenaseniorliving.com/event-calendar/shinrin-yoku-with-dawn-on-the-ar-patio/
LOCATION:Activity Room
CATEGORIES:Assisted Living
END:VEVENT
BEGIN:VEVENT
DTSTART;TZID=America/Chicago:20250911T160000
DTEND;TZID=America/Chicago:20250911T163000
DTSTAMP:20260422T173130
CREATED:20250906T070432Z
LAST-MODIFIED:20250911T070402Z
UID:10002084-1757606400-1757608200@reenaseniorliving.com
SUMMARY:Under the Sea Video followed by Devils Lake State Park 14minute video.
DESCRIPTION:
URL:https://reenaseniorliving.com/event-calendar/under-the-sea-video-followed-by-devils-lake-state-park-14minute-video/
CATEGORIES:Assisted Living
END:VEVENT
BEGIN:VEVENT
DTSTART;TZID=America/Chicago:20250911T170000
DTEND;TZID=America/Chicago:20250911T190000
DTSTAMP:20260422T173130
CREATED:20250813T060508Z
LAST-MODIFIED:20250905T070420Z
UID:10001767-1757610000-1757617200@reenaseniorliving.com
SUMMARY:Social and Game Time - Balcony\, Activity Room or Pub Spaces
DESCRIPTION:
URL:https://reenaseniorliving.com/event-calendar/social-and-game-time-library-is-on-2nd-floor-balcony-area-8/
LOCATION:Library
CATEGORIES:Assisted Living
END:VEVENT
BEGIN:VEVENT
DTSTART;TZID=America/Chicago:20250912T091500
DTEND;TZID=America/Chicago:20250912T094500
DTSTAMP:20260422T173130
CREATED:20250814T061914Z
LAST-MODIFIED:20250912T070402Z
UID:10001779-1757668500-1757670300@reenaseniorliving.com
SUMMARY:Movement Class with Kayla
DESCRIPTION:
URL:https://reenaseniorliving.com/event-calendar/movement-class-with-kayla-43/
LOCATION:Activity Room
CATEGORIES:Assisted Living
END:VEVENT
BEGIN:VEVENT
DTSTART;TZID=America/Chicago:20250912T094500
DTEND;TZID=America/Chicago:20250912T100000
DTSTAMP:20260422T173130
CREATED:20250906T070432Z
LAST-MODIFIED:20250912T070402Z
UID:10002085-1757670300-1757671200@reenaseniorliving.com
SUMMARY:Gentle Qi Gong and Chair Yoga with Dawn
DESCRIPTION:
URL:https://reenaseniorliving.com/event-calendar/gentle-qi-gong-and-chair-yoga-with-dawn/
LOCATION:Activity Room
CATEGORIES:Assisted Living
END:VEVENT
BEGIN:VEVENT
DTSTART;TZID=America/Chicago:20250912T100000
DTEND;TZID=America/Chicago:20250912T103000
DTSTAMP:20260422T173130
CREATED:20250814T061914Z
LAST-MODIFIED:20250905T070421Z
UID:10001780-1757671200-1757673000@reenaseniorliving.com
SUMMARY:Green Thumbs Garden Group
DESCRIPTION:
URL:https://reenaseniorliving.com/event-calendar/green-thumbs-garden-group-48/
LOCATION:Activity Room Patio
CATEGORIES:Assisted Living
END:VEVENT
END:VCALENDAR