BEGIN:VCALENDAR
VERSION:2.0
PRODID:-//Reena Senior Living - ECPv6.11.2.1//NONSGML v1.0//EN
CALSCALE:GREGORIAN
METHOD:PUBLISH
X-WR-CALNAME:Reena Senior Living
X-ORIGINAL-URL:https://reenaseniorliving.com
X-WR-CALDESC:Events for Reena Senior Living
REFRESH-INTERVAL;VALUE=DURATION:PT1H
X-Robots-Tag:noindex
X-PUBLISHED-TTL:PT1H
BEGIN:VTIMEZONE
TZID:America/Chicago
BEGIN:DAYLIGHT
TZOFFSETFROM:-0600
TZOFFSETTO:-0500
TZNAME:CDT
DTSTART:20250309T080000
END:DAYLIGHT
BEGIN:STANDARD
TZOFFSETFROM:-0500
TZOFFSETTO:-0600
TZNAME:CST
DTSTART:20251102T070000
END:STANDARD
END:VTIMEZONE
BEGIN:VEVENT
DTSTART;TZID=America/Chicago:20251113T171500
DTEND;TZID=America/Chicago:20251113T190000
DTSTAMP:20260422T175652
CREATED:20251104T091906Z
LAST-MODIFIED:20251113T091902Z
UID:10003049-1763054100-1763060400@reenaseniorliving.com
SUMMARY:Hand & Foot Cards & Trouble the Board Game.
DESCRIPTION:
URL:https://reenaseniorliving.com/event-calendar/hand-foot-cards-trouble-the-board-game/
LOCATION:Activity Room
CATEGORIES:Assisted Living
END:VEVENT
BEGIN:VEVENT
DTSTART;TZID=America/Chicago:20251113T173000
DTEND;TZID=America/Chicago:20251113T193000
DTSTAMP:20260422T175652
CREATED:20251015T081933Z
LAST-MODIFIED:20251023T083406Z
UID:10002691-1763055000-1763062200@reenaseniorliving.com
SUMMARY:Resident Run Social Time - Balcony\, Activity Room or Pub.
DESCRIPTION:
URL:https://reenaseniorliving.com/event-calendar/resident-run-social-time-balcony-activity-room-or-pub-26/
LOCATION:Library
CATEGORIES:Assisted Living
END:VEVENT
BEGIN:VEVENT
DTSTART;TZID=America/Chicago:20251114T091500
DTEND;TZID=America/Chicago:20251114T094500
DTSTAMP:20260422T175652
CREATED:20251016T081906Z
LAST-MODIFIED:20251114T091913Z
UID:10002698-1763111700-1763113500@reenaseniorliving.com
SUMMARY:Movement Class with Kayla
DESCRIPTION:
URL:https://reenaseniorliving.com/event-calendar/movement-class-with-kayla-85/
LOCATION:Activity Room
CATEGORIES:Assisted Living
END:VEVENT
BEGIN:VEVENT
DTSTART;TZID=America/Chicago:20251114T094500
DTEND;TZID=America/Chicago:20251114T100000
DTSTAMP:20260422T175652
CREATED:20251017T081906Z
LAST-MODIFIED:20251024T083405Z
UID:10002724-1763113500-1763114400@reenaseniorliving.com
SUMMARY:*New Class - Balance in Main Floor Hallway - Fox Rehabilitation's Outline. Fall Prevention
DESCRIPTION:
URL:https://reenaseniorliving.com/event-calendar/new-class-balance-in-main-floor-hallway-fox-rehabilitations-outline-fall-prevention-4/
CATEGORIES:Assisted Living
END:VEVENT
BEGIN:VEVENT
DTSTART;TZID=America/Chicago:20251114T100000
DTEND;TZID=America/Chicago:20251114T103000
DTSTAMP:20260422T175652
CREATED:20251022T083419Z
LAST-MODIFIED:20251029T083405Z
UID:10002800-1763114400-1763116200@reenaseniorliving.com
SUMMARY:Biking Class - *New Class
DESCRIPTION:
URL:https://reenaseniorliving.com/event-calendar/biking-class-new-class-3/
LOCATION:Exercise Room Basement
CATEGORIES:Assisted Living
END:VEVENT
BEGIN:VEVENT
DTSTART;TZID=America/Chicago:20251114T100000
DTEND;TZID=America/Chicago:20251114T103000
DTSTAMP:20260422T175652
CREATED:20251030T084906Z
LAST-MODIFIED:20251103T090403Z
UID:10002917-1763114400-1763116200@reenaseniorliving.com
SUMMARY:Biking and Balance in the Exercise Room in the Basement
DESCRIPTION:
URL:https://reenaseniorliving.com/event-calendar/biking-and-balance-in-the-exercise-room-in-the-basement-2/
LOCATION:Exercise Room Basement
CATEGORIES:Assisted Living
END:VEVENT
BEGIN:VEVENT
DTSTART;TZID=America/Chicago:20251114T101500
DTEND;TZID=America/Chicago:20251114T111500
DTSTAMP:20260422T175652
CREATED:20251104T091906Z
LAST-MODIFIED:20251114T091913Z
UID:10003050-1763115300-1763118900@reenaseniorliving.com
SUMMARY:The Secrets of Glacier National Park. 48minutes
DESCRIPTION:
URL:https://reenaseniorliving.com/event-calendar/4k-nature/
LOCATION:Theatre
CATEGORIES:Assisted Living
END:VEVENT
BEGIN:VEVENT
DTSTART;TZID=America/Chicago:20251114T130000
DTEND;TZID=America/Chicago:20251114T134500
DTSTAMP:20260422T175652
CREATED:20251016T081906Z
LAST-MODIFIED:20251114T091913Z
UID:10002699-1763125200-1763127900@reenaseniorliving.com
SUMMARY:The Big Show - Weekly update on Lifespark Challenge
DESCRIPTION:
URL:https://reenaseniorliving.com/event-calendar/the-big-show-weekly-update-on-lifespark-challenge-6/
LOCATION:Activity Room
CATEGORIES:Assisted Living
END:VEVENT
BEGIN:VEVENT
DTSTART;TZID=America/Chicago:20251114T140000
DTEND;TZID=America/Chicago:20251114T150000
DTSTAMP:20260422T175652
CREATED:20251031T090404Z
LAST-MODIFIED:20251114T091913Z
UID:10002929-1763128800-1763132400@reenaseniorliving.com
SUMMARY:Drums Alive with Jen! Come on down and watch or Sign-up to participate. Room for 14
DESCRIPTION:
URL:https://reenaseniorliving.com/event-calendar/drums-alive-with-jen-come-on-down-and-join-the-fun/
LOCATION:Activity Room
CATEGORIES:Assisted Living
END:VEVENT
BEGIN:VEVENT
DTSTART;TZID=America/Chicago:20251114T150000
DTEND;TZID=America/Chicago:20251114T151500
DTSTAMP:20260422T175652
CREATED:20251016T081907Z
LAST-MODIFIED:20251114T091913Z
UID:10002700-1763132400-1763133300@reenaseniorliving.com
SUMMARY:Your weekly activity packets will be delivered.
DESCRIPTION:
URL:https://reenaseniorliving.com/event-calendar/your-weekly-activity-packets-will-be-delivered-27/
LOCATION:Activity Room
CATEGORIES:Assisted Living
END:VEVENT
BEGIN:VEVENT
DTSTART;TZID=America/Chicago:20251114T160500
DTEND;TZID=America/Chicago:20251114T162500
DTSTAMP:20260422T175652
CREATED:20251016T081907Z
LAST-MODIFIED:20251020T081906Z
UID:10002701-1763136300-1763137500@reenaseniorliving.com
SUMMARY:Qi gong Video- Therapy Group Guided Via YouTube
DESCRIPTION:
URL:https://reenaseniorliving.com/event-calendar/qi-gong-video-therapy-group-guided-via-youtube-14/
LOCATION:Activity Room
CATEGORIES:Assisted Living
END:VEVENT
BEGIN:VEVENT
DTSTART;TZID=America/Chicago:20251114T163000
DTEND;TZID=America/Chicago:20251114T171500
DTSTAMP:20260422T175652
CREATED:20251030T084906Z
LAST-MODIFIED:20251114T091913Z
UID:10002918-1763137800-1763140500@reenaseniorliving.com
SUMMARY:Live Cello and Violin with Supper
DESCRIPTION:
URL:https://reenaseniorliving.com/event-calendar/live-cello-and-violin-with-supper/
LOCATION:Cafe
CATEGORIES:Assisted Living
END:VEVENT
BEGIN:VEVENT
DTSTART;TZID=America/Chicago:20251114T173000
DTEND;TZID=America/Chicago:20251114T193000
DTSTAMP:20260422T175652
CREATED:20251016T081907Z
LAST-MODIFIED:20251106T091903Z
UID:10002702-1763141400-1763148600@reenaseniorliving.com
SUMMARY:Resident Run Social Time - Balcony\, Activity Room or Pub.
DESCRIPTION:
URL:https://reenaseniorliving.com/event-calendar/resident-run-social-time-balcony-activity-room-or-pub-27/
LOCATION:Library
CATEGORIES:Assisted Living
END:VEVENT
BEGIN:VEVENT
DTSTART;TZID=America/Chicago:20251115T100000
DTEND;TZID=America/Chicago:20251115T103000
DTSTAMP:20260422T175652
CREATED:20251025T083406Z
LAST-MODIFIED:20251115T091906Z
UID:10002855-1763200800-1763202600@reenaseniorliving.com
SUMMARY:Movement with Kayla
DESCRIPTION:
URL:https://reenaseniorliving.com/event-calendar/movement-with-kayla-11/
LOCATION:Activity Room
CATEGORIES:Assisted Living
END:VEVENT
BEGIN:VEVENT
DTSTART;TZID=America/Chicago:20251115T104500
DTEND;TZID=America/Chicago:20251115T111500
DTSTAMP:20260422T175652
CREATED:20251025T083406Z
LAST-MODIFIED:20251115T091906Z
UID:10002856-1763203500-1763205300@reenaseniorliving.com
SUMMARY:Biking Class with Kayla
DESCRIPTION:
URL:https://reenaseniorliving.com/event-calendar/biking-class-new-class-7/
LOCATION:Exercise Room Basement
CATEGORIES:Assisted Living
END:VEVENT
BEGIN:VEVENT
DTSTART;TZID=America/Chicago:20251115T173000
DTEND;TZID=America/Chicago:20251115T193000
DTSTAMP:20260422T175652
CREATED:20251017T081907Z
LAST-MODIFIED:20251115T091906Z
UID:10002725-1763227800-1763235000@reenaseniorliving.com
SUMMARY:Resident Run Social Time - Balcony\, Activity Room or Pub.
DESCRIPTION:
URL:https://reenaseniorliving.com/event-calendar/resident-run-social-time-balcony-activity-room-or-pub-28/
LOCATION:Library
CATEGORIES:Assisted Living
END:VEVENT
BEGIN:VEVENT
DTSTART;TZID=America/Chicago:20251116T130000
DTEND;TZID=America/Chicago:20251116T140000
DTSTAMP:20260422T175652
CREATED:20251018T061911Z
LAST-MODIFIED:20251116T091903Z
UID:10002726-1763298000-1763301600@reenaseniorliving.com
SUMMARY:Communion (Catholic Rounds from Andy or Tom)
DESCRIPTION:Volunteer makes rounds to all those who wish to receive communion.
URL:https://reenaseniorliving.com/event-calendar/communion-catholic-rounds-from-andy-or-tom-27/
LOCATION:Reena
CATEGORIES:Assisted Living,Legacy Court
END:VEVENT
BEGIN:VEVENT
DTSTART;TZID=America/Chicago:20251116T173000
DTEND;TZID=America/Chicago:20251116T193000
DTSTAMP:20260422T175652
CREATED:20251018T081906Z
LAST-MODIFIED:20251116T091903Z
UID:10002728-1763314200-1763321400@reenaseniorliving.com
SUMMARY:Resident Run Social Time - Balcony\, Activity Room or Pub.
DESCRIPTION:
URL:https://reenaseniorliving.com/event-calendar/resident-run-social-time-balcony-activity-room-or-pub-29/
LOCATION:Library
CATEGORIES:Assisted Living
END:VEVENT
BEGIN:VEVENT
DTSTART;TZID=America/Chicago:20251117T083000
DTEND;TZID=America/Chicago:20251117T111500
DTSTAMP:20260422T175652
CREATED:20251024T083405Z
LAST-MODIFIED:20251117T091904Z
UID:10002832-1763368200-1763378100@reenaseniorliving.com
SUMMARY:Vaccine Clinic Today - Your HHA will come get you when it's your turn. Order: 1rst\, 2nd\, 3rd floors
DESCRIPTION:
URL:https://reenaseniorliving.com/event-calendar/vaccine-clinic/
LOCATION:Activity Room
CATEGORIES:Assisted Living
END:VEVENT
BEGIN:VEVENT
DTSTART;TZID=America/Chicago:20251117T090000
DTEND;TZID=America/Chicago:20251117T100000
DTSTAMP:20260422T175652
CREATED:20251111T091902Z
LAST-MODIFIED:20251117T091904Z
UID:10003153-1763370000-1763373600@reenaseniorliving.com
SUMMARY:National Take a Hike Day. Slideshow will be playing during our Vaccine Clinic.
DESCRIPTION:
URL:https://reenaseniorliving.com/event-calendar/national-take-a-hike-day-slideshow-will-be-playing-during-our-vaccine-clinic/
CATEGORIES:Assisted Living
END:VEVENT
BEGIN:VEVENT
DTSTART;TZID=America/Chicago:20251117T091500
DTEND;TZID=America/Chicago:20251117T094500
DTSTAMP:20260422T175652
CREATED:20251019T081909Z
LAST-MODIFIED:20251023T083407Z
UID:10002738-1763370900-1763372700@reenaseniorliving.com
SUMMARY:Movement with Kayla
DESCRIPTION:
URL:https://reenaseniorliving.com/event-calendar/movement-with-kayla-10/
LOCATION:Activity Room
CATEGORIES:Assisted Living
END:VEVENT
BEGIN:VEVENT
DTSTART;TZID=America/Chicago:20251117T094500
DTEND;TZID=America/Chicago:20251117T100500
DTSTAMP:20260422T175652
CREATED:20251019T081909Z
LAST-MODIFIED:20251023T083407Z
UID:10002739-1763372700-1763373900@reenaseniorliving.com
SUMMARY:TRYathlon - Walk 5 minutes\, Bike 5 minutes\, Arm Bike 1-2 minutes\, close with Gentle Stretch
DESCRIPTION:
URL:https://reenaseniorliving.com/event-calendar/tryathlon-walk-5-minutes-bike-5-minutes-arm-bike-1-2-minutes-close-with-gentle-stretch-2/
LOCATION:Activity Room
CATEGORIES:Assisted Living
END:VEVENT
BEGIN:VEVENT
DTSTART;TZID=America/Chicago:20251117T101500
DTEND;TZID=America/Chicago:20251117T113000
DTSTAMP:20260422T175652
CREATED:20251019T081909Z
LAST-MODIFIED:20251110T091903Z
UID:10002740-1763374500-1763379000@reenaseniorliving.com
SUMMARY:Trinity Lutheran Visit with Coffee Social Hour
DESCRIPTION:Coffee will be offered. Please join us.
URL:https://reenaseniorliving.com/event-calendar/trinity-lutheran-visit-with-coffee-social-hour/
LOCATION:Cafe
CATEGORIES:Assisted Living
END:VEVENT
BEGIN:VEVENT
DTSTART;TZID=America/Chicago:20251117T130000
DTEND;TZID=America/Chicago:20251117T140000
DTSTAMP:20260422T175652
CREATED:20251019T081909Z
LAST-MODIFIED:20251117T091904Z
UID:10002741-1763384400-1763388000@reenaseniorliving.com
SUMMARY:Bingo
DESCRIPTION:
URL:https://reenaseniorliving.com/event-calendar/bingo-54/
LOCATION:Activity Room
CATEGORIES:Assisted Living
END:VEVENT
BEGIN:VEVENT
DTSTART;TZID=America/Chicago:20251117T173000
DTEND;TZID=America/Chicago:20251117T193000
DTSTAMP:20260422T175652
CREATED:20251019T081909Z
LAST-MODIFIED:20251117T091904Z
UID:10002742-1763400600-1763407800@reenaseniorliving.com
SUMMARY:Resident Run Social Time - Balcony\, Activity Room or Pub.
DESCRIPTION:
URL:https://reenaseniorliving.com/event-calendar/resident-run-social-time-balcony-activity-room-or-pub-30/
LOCATION:Library
CATEGORIES:Assisted Living
END:VEVENT
BEGIN:VEVENT
DTSTART;TZID=America/Chicago:20251118T080000
DTEND;TZID=America/Chicago:20251118T090000
DTSTAMP:20260422T175652
CREATED:20251025T083407Z
LAST-MODIFIED:20251118T091921Z
UID:10002857-1763452800-1763456400@reenaseniorliving.com
SUMMARY:National Apple Cider Day!
DESCRIPTION:
URL:https://reenaseniorliving.com/event-calendar/national-apple-cider-day/
CATEGORIES:Assisted Living
END:VEVENT
BEGIN:VEVENT
DTSTART;TZID=America/Chicago:20251118T091500
DTEND;TZID=America/Chicago:20251118T094500
DTSTAMP:20260422T175652
CREATED:20251020T081907Z
LAST-MODIFIED:20251118T091921Z
UID:10002751-1763457300-1763459100@reenaseniorliving.com
SUMMARY:Movement Class with Kayla
DESCRIPTION:
URL:https://reenaseniorliving.com/event-calendar/movement-class-with-kayla-87/
LOCATION:Activity Room
CATEGORIES:Assisted Living
END:VEVENT
BEGIN:VEVENT
DTSTART;TZID=America/Chicago:20251118T094500
DTEND;TZID=America/Chicago:20251118T101500
DTSTAMP:20260422T175652
CREATED:20251020T081907Z
LAST-MODIFIED:20251020T081907Z
UID:10002752-1763459100-1763460900@reenaseniorliving.com
SUMMARY:Qi gong Video- Therapy Group Guided Via YouTube
DESCRIPTION:
URL:https://reenaseniorliving.com/event-calendar/qi-gong-video-therapy-group-guided-via-youtube-15/
LOCATION:Activity Room
CATEGORIES:Assisted Living
END:VEVENT
BEGIN:VEVENT
DTSTART;TZID=America/Chicago:20251118T100000
DTEND;TZID=America/Chicago:20251118T104500
DTSTAMP:20260422T175652
CREATED:20251022T083420Z
LAST-MODIFIED:20251118T091921Z
UID:10002801-1763460000-1763462700@reenaseniorliving.com
SUMMARY:Fox Talk - Home for the Holidays.
DESCRIPTION:
URL:https://reenaseniorliving.com/event-calendar/fox-talk-preparing-for-the-holidays/
LOCATION:Activity Room
CATEGORIES:Assisted Living
END:VEVENT
BEGIN:VEVENT
DTSTART;TZID=America/Chicago:20251118T130000
DTEND;TZID=America/Chicago:20251118T134000
DTSTAMP:20260422T175652
CREATED:20251020T081907Z
LAST-MODIFIED:20251118T091921Z
UID:10002753-1763470800-1763473200@reenaseniorliving.com
SUMMARY:Deep Dive with Dr. Bill: Covid
DESCRIPTION:
URL:https://reenaseniorliving.com/event-calendar/deep-dive-with-dr-bill-the-heart-of-the-matter-heart-health/
LOCATION:Activity Room
CATEGORIES:Assisted Living
END:VEVENT
END:VCALENDAR