BEGIN:VCALENDAR
VERSION:2.0
PRODID:-//Reena Senior Living - ECPv6.11.2.1//NONSGML v1.0//EN
CALSCALE:GREGORIAN
METHOD:PUBLISH
X-ORIGINAL-URL:https://reenaseniorliving.com
X-WR-CALDESC:Events for Reena Senior Living
REFRESH-INTERVAL;VALUE=DURATION:PT1H
X-Robots-Tag:noindex
X-PUBLISHED-TTL:PT1H
BEGIN:VTIMEZONE
TZID:America/Chicago
BEGIN:DAYLIGHT
TZOFFSETFROM:-0600
TZOFFSETTO:-0500
TZNAME:CDT
DTSTART:20250309T080000
END:DAYLIGHT
BEGIN:STANDARD
TZOFFSETFROM:-0500
TZOFFSETTO:-0600
TZNAME:CST
DTSTART:20251102T070000
END:STANDARD
END:VTIMEZONE
BEGIN:VEVENT
DTSTART;TZID=America/Chicago:20250627T103000
DTEND;TZID=America/Chicago:20250627T110000
DTSTAMP:20260423T035900
CREATED:20250528T230427Z
LAST-MODIFIED:20250613T001902Z
UID:10000555-1751020200-1751022000@reenaseniorliving.com
SUMMARY:Coffee Social Time with Reminiscing
DESCRIPTION:Social Time with Coffee
URL:https://reenaseniorliving.com/event-calendar/coffee-social-time-with-reminiscing-7/
LOCATION:Activity Room
CATEGORIES:Assisted Living
END:VEVENT
BEGIN:VEVENT
DTSTART;TZID=America/Chicago:20250627T120000
DTEND;TZID=America/Chicago:20250627T121500
DTSTAMP:20260423T035900
CREATED:20250528T230427Z
LAST-MODIFIED:20250627T050703Z
UID:10000558-1751025600-1751026500@reenaseniorliving.com
SUMMARY:Your weekly activity packets will be delivered.
DESCRIPTION:
URL:https://reenaseniorliving.com/event-calendar/your-weekly-activity-packets-will-be-delivered-7/
LOCATION:Activity Room
CATEGORIES:Assisted Living
END:VEVENT
BEGIN:VEVENT
DTSTART;TZID=America/Chicago:20250627T123000
DTEND;TZID=America/Chicago:20250627T130000
DTSTAMP:20260423T035900
CREATED:20250529T232333Z
LAST-MODIFIED:20250627T050703Z
UID:10000581-1751027400-1751029200@reenaseniorliving.com
SUMMARY:Story of Christ reading with volunteer Dorothy
DESCRIPTION:
URL:https://reenaseniorliving.com/event-calendar/story-of-christ-reading-with-volunteer-dorothy-4/
LOCATION:Pub
CATEGORIES:Assisted Living
END:VEVENT
BEGIN:VEVENT
DTSTART;TZID=America/Chicago:20250627T130000
DTEND;TZID=America/Chicago:20250627T133000
DTSTAMP:20260423T035900
CREATED:20250614T000416Z
LAST-MODIFIED:20250619T045051Z
UID:10000793-1751029200-1751031000@reenaseniorliving.com
SUMMARY:Grip Practice - Come join the team. Roles vary\, come check it out.
DESCRIPTION:
URL:https://reenaseniorliving.com/event-calendar/grip-practice-come-join-the-team-roles-vary-come-check-it-out/
LOCATION:Activity Room
CATEGORIES:Assisted Living,Legacy Court
END:VEVENT
BEGIN:VEVENT
DTSTART;TZID=America/Chicago:20250627T130000
DTEND;TZID=America/Chicago:20250627T140000
DTSTAMP:20260423T035900
CREATED:20250528T230427Z
LAST-MODIFIED:20250602T233427Z
UID:10000557-1751029200-1751032800@reenaseniorliving.com
SUMMARY:The Big Show - Review the week!
DESCRIPTION:
URL:https://reenaseniorliving.com/event-calendar/the-big-show-review-the-week-6/
LOCATION:Activity Room
CATEGORIES:Assisted Living,Legacy Court
END:VEVENT
BEGIN:VEVENT
DTSTART;TZID=America/Chicago:20250627T130000
DTEND;TZID=America/Chicago:20250627T154500
DTSTAMP:20260423T035900
CREATED:20250620T050634Z
LAST-MODIFIED:20250627T050703Z
UID:10000892-1751029200-1751039100@reenaseniorliving.com
SUMMARY:Movie - Snack and Beverage provided
DESCRIPTION:
URL:https://reenaseniorliving.com/event-calendar/movie-snack-and-beverage-provided-2/
LOCATION:Theatre
CATEGORIES:Assisted Living
END:VEVENT
BEGIN:VEVENT
DTSTART;TZID=America/Chicago:20250627T140000
DTEND;TZID=America/Chicago:20250627T153000
DTSTAMP:20260423T035900
CREATED:20250603T233505Z
LAST-MODIFIED:20250619T045051Z
UID:10000663-1751032800-1751038200@reenaseniorliving.com
SUMMARY:Tie Blanket for FA Elementary School Nurses Station
DESCRIPTION:Part 1
URL:https://reenaseniorliving.com/event-calendar/tie-blanket-for-fa-elementary-school-nurses-station/
LOCATION:Activity Room
CATEGORIES:Assisted Living
END:VEVENT
BEGIN:VEVENT
DTSTART;TZID=America/Chicago:20250627T170000
DTEND;TZID=America/Chicago:20250627T190000
DTSTAMP:20260423T035900
CREATED:20250528T230427Z
LAST-MODIFIED:20250627T050703Z
UID:10000559-1751043600-1751050800@reenaseniorliving.com
SUMMARY:Resident Guided - Social Time
DESCRIPTION:
URL:https://reenaseniorliving.com/event-calendar/resident-guided-social-time-45/
LOCATION:Activity Room
CATEGORIES:Assisted Living
END:VEVENT
BEGIN:VEVENT
DTSTART;TZID=America/Chicago:20250628T103000
DTEND;TZID=America/Chicago:20250628T113000
DTSTAMP:20260423T035900
CREATED:20250620T050634Z
LAST-MODIFIED:20250628T050444Z
UID:10000893-1751106600-1751110200@reenaseniorliving.com
SUMMARY:Nails with Laurie - Sign-Up
DESCRIPTION:
URL:https://reenaseniorliving.com/event-calendar/nails-with-laurie-sign-up-3/
LOCATION:Activity Room
CATEGORIES:Assisted Living
END:VEVENT
BEGIN:VEVENT
DTSTART;TZID=America/Chicago:20250628T130000
DTEND;TZID=America/Chicago:20250628T133000
DTSTAMP:20260423T035900
CREATED:20250529T232334Z
LAST-MODIFIED:20250613T001903Z
UID:10000582-1751115600-1751117400@reenaseniorliving.com
SUMMARY:Biking Time - Open House
DESCRIPTION:Pop in for a few minutes right before lunch. Start with 2-3 minutes.
URL:https://reenaseniorliving.com/event-calendar/biking-time-open-house-13/
LOCATION:Activity Room
CATEGORIES:Assisted Living
END:VEVENT
BEGIN:VEVENT
DTSTART;TZID=America/Chicago:20250628T170000
DTEND;TZID=America/Chicago:20250628T190000
DTSTAMP:20260423T035900
CREATED:20250529T232334Z
LAST-MODIFIED:20250628T050444Z
UID:10000583-1751130000-1751137200@reenaseniorliving.com
SUMMARY:Resident Guided - Social Time
DESCRIPTION:
URL:https://reenaseniorliving.com/event-calendar/resident-guided-social-time-47/
LOCATION:Activity Room
CATEGORIES:Assisted Living
END:VEVENT
BEGIN:VEVENT
DTSTART;TZID=America/Chicago:20250629T110000
DTEND;TZID=America/Chicago:20250629T113000
DTSTAMP:20260423T035900
CREATED:20250530T233537Z
LAST-MODIFIED:20250629T051923Z
UID:10000607-1751194800-1751196600@reenaseniorliving.com
SUMMARY:Biking Time - Open House
DESCRIPTION:Pop in for a few minutes right before lunch. Start with 2-3 minutes.
URL:https://reenaseniorliving.com/event-calendar/biking-time-open-house-14/
LOCATION:Activity Room
CATEGORIES:Assisted Living
END:VEVENT
BEGIN:VEVENT
DTSTART;TZID=America/Chicago:20250629T130000
DTEND;TZID=America/Chicago:20250629T140000
DTSTAMP:20260423T035900
CREATED:20250530T231917Z
LAST-MODIFIED:20250629T051923Z
UID:10000601-1751202000-1751205600@reenaseniorliving.com
SUMMARY:Communion (Catholic Rounds from Andy or Tom)
DESCRIPTION:Volunteer makes rounds to all those who wish to receive communion.
URL:https://reenaseniorliving.com/event-calendar/communion-catholic-rounds-from-andy-or-tom-7/
LOCATION:Reena
CATEGORIES:Assisted Living,Legacy Court
END:VEVENT
BEGIN:VEVENT
DTSTART;TZID=America/Chicago:20250629T170000
DTEND;TZID=America/Chicago:20250629T190000
DTSTAMP:20260423T035900
CREATED:20250530T233537Z
LAST-MODIFIED:20250629T051923Z
UID:10000608-1751216400-1751223600@reenaseniorliving.com
SUMMARY:Resident Guided - Social Time
DESCRIPTION:
URL:https://reenaseniorliving.com/event-calendar/resident-guided-social-time-48/
LOCATION:Activity Room
CATEGORIES:Assisted Living
END:VEVENT
BEGIN:VEVENT
DTSTART;TZID=America/Chicago:20250630T085000
DTEND;TZID=America/Chicago:20250630T090500
DTSTAMP:20260423T035900
CREATED:20250531T233521Z
LAST-MODIFIED:20250630T053451Z
UID:10000622-1751273400-1751274300@reenaseniorliving.com
SUMMARY:Green Thumbs and Patio Social Time.
DESCRIPTION:Garden and Social Time.
URL:https://reenaseniorliving.com/event-calendar/green-thumbs-and-patio-social-time-9/
LOCATION:Activity Room Patio
CATEGORIES:Assisted Living
END:VEVENT
BEGIN:VEVENT
DTSTART;TZID=America/Chicago:20250630T091500
DTEND;TZID=America/Chicago:20250630T094500
DTSTAMP:20260423T035900
CREATED:20250531T233521Z
LAST-MODIFIED:20250630T053451Z
UID:10000620-1751274900-1751276700@reenaseniorliving.com
SUMMARY:Movement Class with Anne
DESCRIPTION:
URL:https://reenaseniorliving.com/event-calendar/movement-class-39/
LOCATION:Activity Room
CATEGORIES:Assisted Living
END:VEVENT
BEGIN:VEVENT
DTSTART;TZID=America/Chicago:20250630T094500
DTEND;TZID=America/Chicago:20250630T104500
DTSTAMP:20260423T035900
CREATED:20250531T231928Z
LAST-MODIFIED:20250630T030446Z
UID:10000611-1751276700-1751280300@reenaseniorliving.com
SUMMARY:Patriotic Sing-a-long
DESCRIPTION:
URL:https://reenaseniorliving.com/event-calendar/coffee-and-classic-tv-i-love-lucy/
LOCATION:Activity Room
CATEGORIES:Assisted Living,Legacy Court
END:VEVENT
BEGIN:VEVENT
DTSTART;TZID=America/Chicago:20250630T095000
DTEND;TZID=America/Chicago:20250630T101000
DTSTAMP:20260423T035900
CREATED:20250531T233521Z
LAST-MODIFIED:20250620T050634Z
UID:10000621-1751277000-1751278200@reenaseniorliving.com
SUMMARY:Outdoor Stroll
DESCRIPTION:
URL:https://reenaseniorliving.com/event-calendar/outdoor-stroll-14/
LOCATION:Activity Room
CATEGORIES:Assisted Living
END:VEVENT
BEGIN:VEVENT
DTSTART;TZID=America/Chicago:20250630T101500
DTEND;TZID=America/Chicago:20250630T111500
DTSTAMP:20260423T035900
CREATED:20250626T050416Z
LAST-MODIFIED:20250630T053451Z
UID:10001013-1751278500-1751282100@reenaseniorliving.com
SUMMARY:Coffee in the Cafe - The Cafe is the new space available for you adjoined to the Dining Room
DESCRIPTION:
URL:https://reenaseniorliving.com/event-calendar/coffee-in-the-cafe-the-cafe-is-the-new-space-available-for-you-adjoined-to-the-dining-room/
LOCATION:Cafe
CATEGORIES:Assisted Living
END:VEVENT
BEGIN:VEVENT
DTSTART;TZID=America/Chicago:20250630T123000
DTEND;TZID=America/Chicago:20250630T130000
DTSTAMP:20260423T035900
CREATED:20250531T233521Z
LAST-MODIFIED:20250630T053451Z
UID:10000623-1751286600-1751288400@reenaseniorliving.com
SUMMARY:Rosary with Volunteer Dorothy
DESCRIPTION:
URL:https://reenaseniorliving.com/event-calendar/rosary-with-volunteer-dorothy-7/
LOCATION:Pub
CATEGORIES:Assisted Living
END:VEVENT
BEGIN:VEVENT
DTSTART;TZID=America/Chicago:20250630T133000
DTEND;TZID=America/Chicago:20250630T143000
DTSTAMP:20260423T035900
CREATED:20250531T233521Z
LAST-MODIFIED:20250630T053451Z
UID:10000624-1751290200-1751293800@reenaseniorliving.com
SUMMARY:Bingo
DESCRIPTION:
URL:https://reenaseniorliving.com/event-calendar/bingo-12/
LOCATION:AR
CATEGORIES:Assisted Living
END:VEVENT
BEGIN:VEVENT
DTSTART;TZID=America/Chicago:20250630T170000
DTEND;TZID=America/Chicago:20250630T190000
DTSTAMP:20260423T035900
CREATED:20250531T233521Z
LAST-MODIFIED:20250630T053451Z
UID:10000625-1751302800-1751310000@reenaseniorliving.com
SUMMARY:Resident Guided - Social Time
DESCRIPTION:
URL:https://reenaseniorliving.com/event-calendar/resident-guided-social-time-49/
LOCATION:Activity Room
CATEGORIES:Assisted Living
END:VEVENT
BEGIN:VEVENT
DTSTART;TZID=America/Chicago:20250701T085000
DTEND;TZID=America/Chicago:20250701T090500
DTSTAMP:20260423T035900
CREATED:20250601T233446Z
LAST-MODIFIED:20250701T053406Z
UID:10000638-1751359800-1751360700@reenaseniorliving.com
SUMMARY:Green Thumbs and Patio Social Time.
DESCRIPTION:Garden and Social Time.
URL:https://reenaseniorliving.com/event-calendar/green-thumbs-and-patio-social-time-10/
LOCATION:Activity Room Patio
CATEGORIES:Assisted Living
END:VEVENT
BEGIN:VEVENT
DTSTART;TZID=America/Chicago:20250701T091500
DTEND;TZID=America/Chicago:20250701T094500
DTSTAMP:20260423T035900
CREATED:20250601T233446Z
LAST-MODIFIED:20250701T053406Z
UID:10000637-1751361300-1751363100@reenaseniorliving.com
SUMMARY:Movement Class with Kayla
DESCRIPTION:
URL:https://reenaseniorliving.com/event-calendar/movement-class-40/
LOCATION:Activity Room
CATEGORIES:Assisted Living
END:VEVENT
BEGIN:VEVENT
DTSTART;TZID=America/Chicago:20250701T094500
DTEND;TZID=America/Chicago:20250701T101000
DTSTAMP:20260423T035900
CREATED:20250601T233446Z
LAST-MODIFIED:20250701T053406Z
UID:10000636-1751363100-1751364600@reenaseniorliving.com
SUMMARY:Strength Class - Intermediate Class
DESCRIPTION:
URL:https://reenaseniorliving.com/event-calendar/strength-class-intermediate-class-14/
LOCATION:Activity Room
CATEGORIES:Assisted Living
END:VEVENT
BEGIN:VEVENT
DTSTART;TZID=America/Chicago:20250701T101500
DTEND;TZID=America/Chicago:20250701T104500
DTSTAMP:20260423T035900
CREATED:20250626T050417Z
LAST-MODIFIED:20250701T053406Z
UID:10001014-1751364900-1751366700@reenaseniorliving.com
SUMMARY:Kahn Academy - Declaration of Independance & Importance of Benjamin Franklin as a Founder - Videos
DESCRIPTION:
URL:https://reenaseniorliving.com/event-calendar/kahn-academy-declaration-of-independance-importance-of-benjamin-franklin-as-a-founder-videos/
LOCATION:Activity Room
CATEGORIES:Assisted Living
END:VEVENT
BEGIN:VEVENT
DTSTART;TZID=America/Chicago:20250701T121500
DTEND;TZID=America/Chicago:20250701T130000
DTSTAMP:20260423T035900
CREATED:20250601T233446Z
LAST-MODIFIED:20250701T053406Z
UID:10000639-1751372100-1751374800@reenaseniorliving.com
SUMMARY:Librarian Visit with Deb
DESCRIPTION:
URL:https://reenaseniorliving.com/event-calendar/librarian-visit-with-deb-2/
LOCATION:Activity Room
CATEGORIES:Assisted Living
END:VEVENT
BEGIN:VEVENT
DTSTART;TZID=America/Chicago:20250701T130000
DTEND;TZID=America/Chicago:20250701T133000
DTSTAMP:20260423T035900
CREATED:20250621T050403Z
LAST-MODIFIED:20250701T053407Z
UID:10000910-1751374800-1751376600@reenaseniorliving.com
SUMMARY:Grip Practice - Come join the team!
DESCRIPTION:
URL:https://reenaseniorliving.com/event-calendar/grip-practice-come-join-the-team-we-are-the-reena-rockers/
LOCATION:Activity Room
CATEGORIES:Assisted Living
END:VEVENT
BEGIN:VEVENT
DTSTART;TZID=America/Chicago:20250701T170000
DTEND;TZID=America/Chicago:20250701T190000
DTSTAMP:20260423T035900
CREATED:20250601T233446Z
LAST-MODIFIED:20250620T050635Z
UID:10000640-1751389200-1751396400@reenaseniorliving.com
SUMMARY:Resident Guided - Social Time
DESCRIPTION:
URL:https://reenaseniorliving.com/event-calendar/resident-guided-social-time-50/
LOCATION:Activity Room
CATEGORIES:Assisted Living
END:VEVENT
BEGIN:VEVENT
DTSTART;TZID=America/Chicago:20250701T190000
DTEND;TZID=America/Chicago:20250701T200000
DTSTAMP:20260423T035900
CREATED:20250621T050404Z
LAST-MODIFIED:20250625T050408Z
UID:10000911-1751396400-1751400000@reenaseniorliving.com
SUMMARY:Patio Fire and Social
DESCRIPTION:
URL:https://reenaseniorliving.com/event-calendar/patio-fire-and-social/
LOCATION:Pond Patio
CATEGORIES:Assisted Living
END:VEVENT
END:VCALENDAR