BEGIN:VCALENDAR
VERSION:2.0
PRODID:-//Reena Senior Living - ECPv6.11.2.1//NONSGML v1.0//EN
CALSCALE:GREGORIAN
METHOD:PUBLISH
X-WR-CALNAME:Reena Senior Living
X-ORIGINAL-URL:https://reenaseniorliving.com
X-WR-CALDESC:Events for Reena Senior Living
REFRESH-INTERVAL;VALUE=DURATION:PT1H
X-Robots-Tag:noindex
X-PUBLISHED-TTL:PT1H
BEGIN:VTIMEZONE
TZID:America/Chicago
BEGIN:DAYLIGHT
TZOFFSETFROM:-0600
TZOFFSETTO:-0500
TZNAME:CDT
DTSTART:20250309T080000
END:DAYLIGHT
BEGIN:STANDARD
TZOFFSETFROM:-0500
TZOFFSETTO:-0600
TZNAME:CST
DTSTART:20251102T070000
END:STANDARD
END:VTIMEZONE
BEGIN:VEVENT
DTSTART;TZID=America/Chicago:20250516T143000
DTEND;TZID=America/Chicago:20250516T160000
DTSTAMP:20260422T032927
CREATED:20250514T214943Z
LAST-MODIFIED:20250515T214935Z
UID:10000013-1747405800-1747411200@reenaseniorliving.com
SUMMARY:Cow Art Project with Kayla- For the Dairy Hoard Museum Contest
DESCRIPTION:
URL:https://reenaseniorliving.com/event-calendar/cow-art-project-with-kayla-for-the-dairy-hoard-museum-contest/
LOCATION:Activity Room
CATEGORIES:Assisted Living
END:VEVENT
BEGIN:VEVENT
DTSTART;TZID=America/Chicago:20250516T150000
DTEND;TZID=America/Chicago:20250516T151500
DTSTAMP:20260422T032927
CREATED:20250514T214943Z
LAST-MODIFIED:20250515T214935Z
UID:10000012-1747407600-1747408500@reenaseniorliving.com
SUMMARY:Your weekly activity packets will be delivered.
DESCRIPTION:
URL:https://reenaseniorliving.com/event-calendar/your-weekly-activity-packets-will-be-delivered/
LOCATION:Activity Room
CATEGORIES:Assisted Living
END:VEVENT
BEGIN:VEVENT
DTSTART;TZID=America/Chicago:20250516T170000
DTEND;TZID=America/Chicago:20250516T190000
DTSTAMP:20260422T032927
CREATED:20250514T214943Z
LAST-MODIFIED:20250516T214905Z
UID:10000014-1747414800-1747422000@reenaseniorliving.com
SUMMARY:Resident Guided - Social Time
DESCRIPTION:
URL:https://reenaseniorliving.com/event-calendar/resident-guided-social-time-3/
LOCATION:Activity Room
CATEGORIES:Assisted Living
END:VEVENT
BEGIN:VEVENT
DTSTART;TZID=America/Chicago:20250517T110000
DTEND;TZID=America/Chicago:20250517T113000
DTSTAMP:20260422T032927
CREATED:20250514T214943Z
LAST-MODIFIED:20250516T214905Z
UID:10000015-1747479600-1747481400@reenaseniorliving.com
SUMMARY:Biking Time - Open House
DESCRIPTION:Pop in for a few minutes right before lunch. Start with 2-3 minutes.
URL:https://reenaseniorliving.com/event-calendar/biking-time-open-house/
LOCATION:Activity Room
CATEGORIES:Assisted Living
END:VEVENT
BEGIN:VEVENT
DTSTART;TZID=America/Chicago:20250517T121500
DTEND;TZID=America/Chicago:20250517T143000
DTSTAMP:20260422T032927
CREATED:20250514T214943Z
LAST-MODIFIED:20250516T214905Z
UID:10000016-1747484100-1747492200@reenaseniorliving.com
SUMMARY:Fingernails Spa Day - sign up
DESCRIPTION:
URL:https://reenaseniorliving.com/event-calendar/fingernails-spa-day-sign-up/
LOCATION:Activity Room
CATEGORIES:Assisted Living
END:VEVENT
BEGIN:VEVENT
DTSTART;TZID=America/Chicago:20250517T170000
DTEND;TZID=America/Chicago:20250517T190000
DTSTAMP:20260422T032927
CREATED:20250514T214944Z
LAST-MODIFIED:20250517T214919Z
UID:10000017-1747501200-1747508400@reenaseniorliving.com
SUMMARY:Resident Guided - Social Time
DESCRIPTION:
URL:https://reenaseniorliving.com/event-calendar/resident-guided-social-time-4/
LOCATION:Activity Room
CATEGORIES:Assisted Living
END:VEVENT
BEGIN:VEVENT
DTSTART;TZID=America/Chicago:20250518T110000
DTEND;TZID=America/Chicago:20250518T113000
DTSTAMP:20260422T032927
CREATED:20250514T214944Z
LAST-MODIFIED:20250517T214919Z
UID:10000019-1747566000-1747567800@reenaseniorliving.com
SUMMARY:Biking Time - Open House
DESCRIPTION:Pop in for a few minutes right before lunch. Start with 2-3 minutes.
URL:https://reenaseniorliving.com/event-calendar/biking-time-open-house-2/
LOCATION:Activity Room
CATEGORIES:Assisted Living
END:VEVENT
BEGIN:VEVENT
DTSTART;TZID=America/Chicago:20250518T130000
DTEND;TZID=America/Chicago:20250518T140000
DTSTAMP:20260422T032927
CREATED:20250514T214944Z
LAST-MODIFIED:20250517T221928Z
UID:10000021-1747573200-1747576800@reenaseniorliving.com
SUMMARY:Communion (Catholic Rounds from Andy or Tom)
DESCRIPTION:Volunteer makes rounds to all those who wish to receive communion.
URL:https://reenaseniorliving.com/event-calendar/communion-catholic-rounds-from-andy-or-tom/
LOCATION:Reena
CATEGORIES:Assisted Living,Legacy Court
END:VEVENT
BEGIN:VEVENT
DTSTART;TZID=America/Chicago:20250518T170000
DTEND;TZID=America/Chicago:20250518T190000
DTSTAMP:20260422T032927
CREATED:20250514T214944Z
LAST-MODIFIED:20250518T214902Z
UID:10000023-1747587600-1747594800@reenaseniorliving.com
SUMMARY:Resident Guided - Social Time
DESCRIPTION:
URL:https://reenaseniorliving.com/event-calendar/resident-guided-social-time-5/
LOCATION:Activity Room
CATEGORIES:Assisted Living
END:VEVENT
BEGIN:VEVENT
DTSTART;TZID=America/Chicago:20250519T091500
DTEND;TZID=America/Chicago:20250519T094500
DTSTAMP:20260422T032927
CREATED:20250514T214944Z
LAST-MODIFIED:20250518T214902Z
UID:10000024-1747646100-1747647900@reenaseniorliving.com
SUMMARY:Movement Class
DESCRIPTION:
URL:https://reenaseniorliving.com/event-calendar/movement-class-3/
LOCATION:Activity Room
CATEGORIES:Assisted Living
END:VEVENT
BEGIN:VEVENT
DTSTART;TZID=America/Chicago:20250519T095000
DTEND;TZID=America/Chicago:20250519T101000
DTSTAMP:20260422T032927
CREATED:20250514T214944Z
LAST-MODIFIED:20250518T214902Z
UID:10000025-1747648200-1747649400@reenaseniorliving.com
SUMMARY:Outdoor Stroll
DESCRIPTION:
URL:https://reenaseniorliving.com/event-calendar/outdoor-stroll-2/
LOCATION:Activity Room
CATEGORIES:Assisted Living
END:VEVENT
BEGIN:VEVENT
DTSTART;TZID=America/Chicago:20250519T101500
DTEND;TZID=America/Chicago:20250519T113000
DTSTAMP:20260422T032927
CREATED:20250514T214944Z
LAST-MODIFIED:20250518T214902Z
UID:10000026-1747649700-1747654200@reenaseniorliving.com
SUMMARY:Trinity Lutheran Guests Visit with Coffee Social Hour - All are welcome.
DESCRIPTION:Coffee will be offered. Please join us.
URL:https://reenaseniorliving.com/event-calendar/trinity-lutheran-guests-visit-with-coffee-social-hour-all-are-welcome/
LOCATION:AR
CATEGORIES:Assisted Living
END:VEVENT
BEGIN:VEVENT
DTSTART;TZID=America/Chicago:20250519T123000
DTEND;TZID=America/Chicago:20250519T130000
DTSTAMP:20260422T032927
CREATED:20250514T214945Z
LAST-MODIFIED:20250518T214902Z
UID:10000027-1747657800-1747659600@reenaseniorliving.com
SUMMARY:Rosary with Volunteer Dorothy
DESCRIPTION:
URL:https://reenaseniorliving.com/event-calendar/rosary-with-volunteer-dorothy/
LOCATION:Pub
CATEGORIES:Assisted Living
END:VEVENT
BEGIN:VEVENT
DTSTART;TZID=America/Chicago:20250519T133000
DTEND;TZID=America/Chicago:20250519T140000
DTSTAMP:20260422T032927
CREATED:20250514T214945Z
LAST-MODIFIED:20250518T214902Z
UID:10000028-1747661400-1747663200@reenaseniorliving.com
SUMMARY:Birthday Party - Cake and Beverage.
DESCRIPTION:
URL:https://reenaseniorliving.com/event-calendar/birthday-party-cake-and-beverage/
LOCATION:Activity Room
CATEGORIES:Assisted Living
END:VEVENT
BEGIN:VEVENT
DTSTART;TZID=America/Chicago:20250519T141500
DTEND;TZID=America/Chicago:20250519T150000
DTSTAMP:20260422T032927
CREATED:20250514T214945Z
LAST-MODIFIED:20250518T214902Z
UID:10000029-1747664100-1747666800@reenaseniorliving.com
SUMMARY:Karaoke with Anne
DESCRIPTION:
URL:https://reenaseniorliving.com/event-calendar/karaoke-with-anne/
LOCATION:Activity Room
CATEGORIES:Assisted Living
END:VEVENT
BEGIN:VEVENT
DTSTART;TZID=America/Chicago:20250519T170000
DTEND;TZID=America/Chicago:20250519T190000
DTSTAMP:20260422T032927
CREATED:20250514T214945Z
LAST-MODIFIED:20250519T215021Z
UID:10000030-1747674000-1747681200@reenaseniorliving.com
SUMMARY:Resident Guided - Social Time
DESCRIPTION:
URL:https://reenaseniorliving.com/event-calendar/resident-guided-social-time-6/
LOCATION:Activity Room
CATEGORIES:Assisted Living
END:VEVENT
BEGIN:VEVENT
DTSTART;TZID=America/Chicago:20250520T091500
DTEND;TZID=America/Chicago:20250520T094500
DTSTAMP:20260422T032927
CREATED:20250514T214945Z
LAST-MODIFIED:20250519T215021Z
UID:10000032-1747732500-1747734300@reenaseniorliving.com
SUMMARY:Movement Class
DESCRIPTION:
URL:https://reenaseniorliving.com/event-calendar/movement-class-4/
LOCATION:Activity Room
CATEGORIES:Assisted Living
END:VEVENT
BEGIN:VEVENT
DTSTART;TZID=America/Chicago:20250520T094500
DTEND;TZID=America/Chicago:20250520T100000
DTSTAMP:20260422T032927
CREATED:20250514T214945Z
LAST-MODIFIED:20250519T215021Z
UID:10000031-1747734300-1747735200@reenaseniorliving.com
SUMMARY:Strength Class - Intermediate Class
DESCRIPTION:
URL:https://reenaseniorliving.com/event-calendar/strength-class-intermediate-class-2/
LOCATION:Activity Room
CATEGORIES:Assisted Living
END:VEVENT
BEGIN:VEVENT
DTSTART;TZID=America/Chicago:20250520T103000
DTEND;TZID=America/Chicago:20250520T113000
DTSTAMP:20260422T032927
CREATED:20250514T214945Z
LAST-MODIFIED:20250519T215021Z
UID:10000033-1747737000-1747740600@reenaseniorliving.com
SUMMARY:Coffee with the Cops - Captain Ben Lindsey and Colleagues
DESCRIPTION:Fort Atkinson Police Department will be here to engage with us. Come with your questions and enjoy our time with them.
URL:https://reenaseniorliving.com/event-calendar/coffee-with-the-cops-captain-ben-lindsey-and-colleagues/
LOCATION:Activity Room
CATEGORIES:Assisted Living
END:VEVENT
BEGIN:VEVENT
DTSTART;TZID=America/Chicago:20250520T130000
DTEND;TZID=America/Chicago:20250520T141500
DTSTAMP:20260422T032927
CREATED:20250514T214945Z
LAST-MODIFIED:20250519T215021Z
UID:10000034-1747746000-1747750500@reenaseniorliving.com
SUMMARY:Forklift Racing Day.
DESCRIPTION:
URL:https://reenaseniorliving.com/event-calendar/forklift-racing-day-2/
LOCATION:Theatre
CATEGORIES:Assisted Living
END:VEVENT
BEGIN:VEVENT
DTSTART;TZID=America/Chicago:20250520T150000
DTEND;TZID=America/Chicago:20250520T160000
DTSTAMP:20260422T032927
CREATED:20250514T214945Z
LAST-MODIFIED:20250519T215021Z
UID:10000035-1747753200-1747756800@reenaseniorliving.com
SUMMARY:Green Thumbs - AL patio garden social time. Outside Weather permitting.
DESCRIPTION:Let’s plan a garden. What would you like to see?
URL:https://reenaseniorliving.com/event-calendar/green-thumbs-lets-plan-our-patio-garden-today-outside-weather-permitting-or-in-activity-room/
LOCATION:Activity Room Patio
CATEGORIES:Assisted Living
END:VEVENT
BEGIN:VEVENT
DTSTART;TZID=America/Chicago:20250520T170000
DTEND;TZID=America/Chicago:20250520T190000
DTSTAMP:20260422T032927
CREATED:20250514T214945Z
LAST-MODIFIED:20250520T214902Z
UID:10000036-1747760400-1747767600@reenaseniorliving.com
SUMMARY:Resident Guided - Social Time
DESCRIPTION:
URL:https://reenaseniorliving.com/event-calendar/resident-guided-social-time-7/
LOCATION:Activity Room
CATEGORIES:Assisted Living
END:VEVENT
BEGIN:VEVENT
DTSTART;TZID=America/Chicago:20250521T091500
DTEND;TZID=America/Chicago:20250521T094500
DTSTAMP:20260422T032927
CREATED:20250514T214946Z
LAST-MODIFIED:20250520T214902Z
UID:10000038-1747818900-1747820700@reenaseniorliving.com
SUMMARY:Movement Class
DESCRIPTION:
URL:https://reenaseniorliving.com/event-calendar/movement-class-5/
LOCATION:Activity Room
CATEGORIES:Assisted Living
END:VEVENT
BEGIN:VEVENT
DTSTART;TZID=America/Chicago:20250521T094500
DTEND;TZID=America/Chicago:20250521T100000
DTSTAMP:20260422T032927
CREATED:20250514T214946Z
LAST-MODIFIED:20250520T221910Z
UID:10000037-1747820700-1747821600@reenaseniorliving.com
SUMMARY:National Meditation Day with Anne
DESCRIPTION:We will assist you to go next door.
URL:https://reenaseniorliving.com/event-calendar/national-meditation-day-with-anne/
LOCATION:Legacy Court
CATEGORIES:Assisted Living,Legacy Court
END:VEVENT
BEGIN:VEVENT
DTSTART;TZID=America/Chicago:20250521T101500
DTEND;TZID=America/Chicago:20250521T111500
DTSTAMP:20260422T032927
CREATED:20250514T214946Z
LAST-MODIFIED:20250520T221910Z
UID:10000039-1747822500-1747826100@reenaseniorliving.com
SUMMARY:Catholic Service
DESCRIPTION:
URL:https://reenaseniorliving.com/event-calendar/catholic-service/
LOCATION:Legacy Court
CATEGORIES:Assisted Living,Legacy Court
END:VEVENT
BEGIN:VEVENT
DTSTART;TZID=America/Chicago:20250521T123000
DTEND;TZID=America/Chicago:20250521T140000
DTSTAMP:20260422T032927
CREATED:20250514T214946Z
LAST-MODIFIED:20250520T214902Z
UID:10000041-1747830600-1747836000@reenaseniorliving.com
SUMMARY:National Meditation Day at Dorothy Carnes Rose Lake - Paved Path - benches & short stroll -  Sign up
DESCRIPTION:
URL:https://reenaseniorliving.com/event-calendar/national-meditation-day-lets-go-to-dorothy-carnes-and-enjoy-nature-paved-path-sign-up/
LOCATION:Activity Room
CATEGORIES:Assisted Living
END:VEVENT
BEGIN:VEVENT
DTSTART;TZID=America/Chicago:20250521T130000
DTEND;TZID=America/Chicago:20250521T133000
DTSTAMP:20260422T032927
CREATED:20250514T214946Z
LAST-MODIFIED:20250515T214933Z
UID:10000040-1747832400-1747834200@reenaseniorliving.com
SUMMARY:Lifespark Senior Living SPARKING CHANGE - Lifeguard Deep Dive
DESCRIPTION:
URL:https://reenaseniorliving.com/event-calendar/lifespark-senior-living-sparking-change-lifeguard-deep-dive/
LOCATION:Theatre
CATEGORIES:Assisted Living
END:VEVENT
BEGIN:VEVENT
DTSTART;TZID=America/Chicago:20250521T140000
DTEND;TZID=America/Chicago:20250521T145000
DTSTAMP:20260422T032927
CREATED:20250514T214946Z
LAST-MODIFIED:20250520T221910Z
UID:10000042-1747836000-1747839000@reenaseniorliving.com
SUMMARY:St. Paul's Lutheran Service
DESCRIPTION:
URL:https://reenaseniorliving.com/event-calendar/st-pauls-lutheran-service/
LOCATION:Legacy Court
CATEGORIES:Assisted Living,Legacy Court
END:VEVENT
BEGIN:VEVENT
DTSTART;TZID=America/Chicago:20250521T170000
DTEND;TZID=America/Chicago:20250521T190000
DTSTAMP:20260422T032927
CREATED:20250514T214946Z
LAST-MODIFIED:20250521T214928Z
UID:10000043-1747846800-1747854000@reenaseniorliving.com
SUMMARY:Resident Guided - Social Time
DESCRIPTION:
URL:https://reenaseniorliving.com/event-calendar/resident-guided-social-time-8/
LOCATION:Activity Room
CATEGORIES:Assisted Living
END:VEVENT
BEGIN:VEVENT
DTSTART;TZID=America/Chicago:20250521T170500
DTEND;TZID=America/Chicago:20250521T184500
DTSTAMP:20260422T032927
CREATED:20250514T214946Z
LAST-MODIFIED:20250521T214927Z
UID:10000044-1747847100-1747853100@reenaseniorliving.com
SUMMARY:Fingernails Spa Day - sign up
DESCRIPTION:
URL:https://reenaseniorliving.com/event-calendar/fingernails-spa-day-sign-up-2/
LOCATION:Activity Room
CATEGORIES:Assisted Living
END:VEVENT
END:VCALENDAR