BEGIN:VCALENDAR
VERSION:2.0
PRODID:-//Reena Senior Living - ECPv6.11.2.1//NONSGML v1.0//EN
CALSCALE:GREGORIAN
METHOD:PUBLISH
X-WR-CALNAME:Reena Senior Living
X-ORIGINAL-URL:https://reenaseniorliving.com
X-WR-CALDESC:Events for Reena Senior Living
REFRESH-INTERVAL;VALUE=DURATION:PT1H
X-Robots-Tag:noindex
X-PUBLISHED-TTL:PT1H
BEGIN:VTIMEZONE
TZID:America/Chicago
BEGIN:DAYLIGHT
TZOFFSETFROM:-0600
TZOFFSETTO:-0500
TZNAME:CDT
DTSTART:20250309T080000
END:DAYLIGHT
BEGIN:STANDARD
TZOFFSETFROM:-0500
TZOFFSETTO:-0600
TZNAME:CST
DTSTART:20251102T070000
END:STANDARD
END:VTIMEZONE
BEGIN:VEVENT
DTSTART;TZID=America/Chicago:20251022T173000
DTEND;TZID=America/Chicago:20251022T193000
DTSTAMP:20260421T210200
CREATED:20250923T071920Z
LAST-MODIFIED:20251009T074916Z
UID:10002371-1761154200-1761161400@reenaseniorliving.com
SUMMARY:Resident Run Social Time - Balcony\, Activity Room or Pub.
DESCRIPTION:
URL:https://reenaseniorliving.com/event-calendar/resident-run-social-time-balcony-activity-room-or-pub-4/
LOCATION:Library
CATEGORIES:Assisted Living
END:VEVENT
BEGIN:VEVENT
DTSTART;TZID=America/Chicago:20251023T091500
DTEND;TZID=America/Chicago:20251023T094500
DTSTAMP:20260421T210200
CREATED:20250924T071913Z
LAST-MODIFIED:20251023T083404Z
UID:10002386-1761210900-1761212700@reenaseniorliving.com
SUMMARY:Movement Class with Kayla
DESCRIPTION:Gentle Movement\, Strength\, Mobility\, Balance\, & More.
URL:https://reenaseniorliving.com/event-calendar/movement-class-with-kayla-72/
LOCATION:Activity Room
CATEGORIES:Assisted Living
END:VEVENT
BEGIN:VEVENT
DTSTART;TZID=America/Chicago:20251023T094500
DTEND;TZID=America/Chicago:20251023T101000
DTSTAMP:20260421T210200
CREATED:20250924T071914Z
LAST-MODIFIED:20251002T073414Z
UID:10002387-1761212700-1761214200@reenaseniorliving.com
SUMMARY:Biking with Music
DESCRIPTION:
URL:https://reenaseniorliving.com/event-calendar/biking-with-music-3/
LOCATION:Activity Room
CATEGORIES:Assisted Living
END:VEVENT
BEGIN:VEVENT
DTSTART;TZID=America/Chicago:20251023T094500
DTEND;TZID=America/Chicago:20251023T101500
DTSTAMP:20260421T210200
CREATED:20251010T074907Z
LAST-MODIFIED:20251023T083404Z
UID:10002620-1761212700-1761214500@reenaseniorliving.com
SUMMARY:*New Class - Balance in Main Floor Hallway - Fox Rehabilitation's Outline. Fall Prevention
DESCRIPTION:
URL:https://reenaseniorliving.com/event-calendar/balance-in-main-floor-hallway-fox-rehabilitations-outline-come-check-it-out/
CATEGORIES:Assisted Living
END:VEVENT
BEGIN:VEVENT
DTSTART;TZID=America/Chicago:20251023T103000
DTEND;TZID=America/Chicago:20251023T113000
DTSTAMP:20260421T210200
CREATED:20251010T074908Z
LAST-MODIFIED:20251023T083404Z
UID:10002621-1761215400-1761219000@reenaseniorliving.com
SUMMARY:Costume Check-Out Time
DESCRIPTION:
URL:https://reenaseniorliving.com/event-calendar/costume-check-out-time/
LOCATION:Activity Room
CATEGORIES:Assisted Living
END:VEVENT
BEGIN:VEVENT
DTSTART;TZID=America/Chicago:20251023T123000
DTEND;TZID=America/Chicago:20251023T133000
DTSTAMP:20260421T210200
CREATED:20251010T074908Z
LAST-MODIFIED:20251016T081901Z
UID:10002622-1761222600-1761226200@reenaseniorliving.com
SUMMARY:Green Thumbs Group
DESCRIPTION:
URL:https://reenaseniorliving.com/event-calendar/green-thumbs-group/
LOCATION:Activity Room
CATEGORIES:Assisted Living
END:VEVENT
BEGIN:VEVENT
DTSTART;TZID=America/Chicago:20251023T130000
DTEND;TZID=America/Chicago:20251023T133000
DTSTAMP:20260421T210200
CREATED:20251010T074908Z
LAST-MODIFIED:20251023T083404Z
UID:10002623-1761224400-1761226200@reenaseniorliving.com
SUMMARY:Outdoors TV with Jana Waller Bair
DESCRIPTION:
URL:https://reenaseniorliving.com/event-calendar/outdoors-tv-with-jana-waller-bair/
LOCATION:Activity Room
CATEGORIES:Assisted Living
END:VEVENT
BEGIN:VEVENT
DTSTART;TZID=America/Chicago:20251023T140000
DTEND;TZID=America/Chicago:20251023T150000
DTSTAMP:20260421T210200
CREATED:20251017T081901Z
LAST-MODIFIED:20251023T083405Z
UID:10002718-1761228000-1761231600@reenaseniorliving.com
SUMMARY:Diana Ross Documentary 45-minutes in the Theatre
DESCRIPTION:
URL:https://reenaseniorliving.com/event-calendar/diana-ross-documentary-45-minutes-in-the-theatre/
LOCATION:Theatre
CATEGORIES:Assisted Living
END:VEVENT
BEGIN:VEVENT
DTSTART;TZID=America/Chicago:20251023T143000
DTEND;TZID=America/Chicago:20251023T163000
DTSTAMP:20260421T210200
CREATED:20251010T074908Z
LAST-MODIFIED:20251016T081901Z
UID:10002624-1761229800-1761237000@reenaseniorliving.com
SUMMARY:Costume Check-Out Time - Need a Costume for Halloween Trick or Treating?
DESCRIPTION:
URL:https://reenaseniorliving.com/event-calendar/costume-check-out-time-need-a-costume-for-halloween-trick-or-treating-2/
LOCATION:Activity Room
CATEGORIES:Assisted Living
END:VEVENT
BEGIN:VEVENT
DTSTART;TZID=America/Chicago:20251023T173000
DTEND;TZID=America/Chicago:20251023T193000
DTSTAMP:20260421T210200
CREATED:20250924T071914Z
LAST-MODIFIED:20251009T074916Z
UID:10002388-1761240600-1761247800@reenaseniorliving.com
SUMMARY:Resident Run Social Time - Balcony\, Activity Room or Pub.
DESCRIPTION:
URL:https://reenaseniorliving.com/event-calendar/resident-run-social-time-balcony-activity-room-or-pub-5/
LOCATION:Library
CATEGORIES:Assisted Living
END:VEVENT
BEGIN:VEVENT
DTSTART;TZID=America/Chicago:20251024T091500
DTEND;TZID=America/Chicago:20251024T094500
DTSTAMP:20260421T210200
CREATED:20250925T071912Z
LAST-MODIFIED:20251024T083401Z
UID:10002396-1761297300-1761299100@reenaseniorliving.com
SUMMARY:Movement Class with Kayla
DESCRIPTION:
URL:https://reenaseniorliving.com/event-calendar/movement-class-with-kayla-73/
LOCATION:Activity Room
CATEGORIES:Assisted Living
END:VEVENT
BEGIN:VEVENT
DTSTART;TZID=America/Chicago:20251024T094500
DTEND;TZID=America/Chicago:20251024T101500
DTSTAMP:20260421T210200
CREATED:20251017T081901Z
LAST-MODIFIED:20251024T083401Z
UID:10002719-1761299100-1761300900@reenaseniorliving.com
SUMMARY:*New Class - Balance in Main Floor Hallway - Fox Rehabilitation's Outline. Fall Prevention
DESCRIPTION:
URL:https://reenaseniorliving.com/event-calendar/new-class-balance-in-main-floor-hallway-fox-rehabilitations-outline-fall-prevention/
CATEGORIES:Assisted Living
END:VEVENT
BEGIN:VEVENT
DTSTART;TZID=America/Chicago:20251024T095000
DTEND;TZID=America/Chicago:20251024T102000
DTSTAMP:20260421T210200
CREATED:20251003T073405Z
LAST-MODIFIED:20251016T081901Z
UID:10002500-1761299400-1761301200@reenaseniorliving.com
SUMMARY:Qi gong Video- Therapy Group Guided Via YouTube
DESCRIPTION:
URL:https://reenaseniorliving.com/event-calendar/qi-gong-video-therapy-group-guided-via-youtube-6/
LOCATION:Activity Room
CATEGORIES:Assisted Living
END:VEVENT
BEGIN:VEVENT
DTSTART;TZID=America/Chicago:20251024T123000
DTEND;TZID=America/Chicago:20251024T130000
DTSTAMP:20260421T210200
CREATED:20250925T071912Z
LAST-MODIFIED:20251024T083401Z
UID:10002397-1761309000-1761310800@reenaseniorliving.com
SUMMARY:Green Thumbs Garden Group
DESCRIPTION:
URL:https://reenaseniorliving.com/event-calendar/green-thumbs-garden-group-76/
LOCATION:Activity Room Patio
CATEGORIES:Assisted Living
END:VEVENT
BEGIN:VEVENT
DTSTART;TZID=America/Chicago:20251024T130000
DTEND;TZID=America/Chicago:20251024T134500
DTSTAMP:20260421T210200
CREATED:20251003T073405Z
LAST-MODIFIED:20251024T083401Z
UID:10002499-1761310800-1761313500@reenaseniorliving.com
SUMMARY:The Big Show - Weekly update on Lifespark Challenge
DESCRIPTION:
URL:https://reenaseniorliving.com/event-calendar/the-big-show-weekly-update-on-lifespark-challenge-3/
LOCATION:Activity Room
CATEGORIES:Assisted Living
END:VEVENT
BEGIN:VEVENT
DTSTART;TZID=America/Chicago:20251024T150000
DTEND;TZID=America/Chicago:20251024T151500
DTSTAMP:20260421T210200
CREATED:20250925T071912Z
LAST-MODIFIED:20251024T083401Z
UID:10002398-1761318000-1761318900@reenaseniorliving.com
SUMMARY:Your weekly activity packets will be delivered.
DESCRIPTION:
URL:https://reenaseniorliving.com/event-calendar/your-weekly-activity-packets-will-be-delivered-24/
LOCATION:Activity Room
CATEGORIES:Assisted Living
END:VEVENT
BEGIN:VEVENT
DTSTART;TZID=America/Chicago:20251024T173000
DTEND;TZID=America/Chicago:20251024T193000
DTSTAMP:20260421T210200
CREATED:20250925T071912Z
LAST-MODIFIED:20251024T083401Z
UID:10002399-1761327000-1761334200@reenaseniorliving.com
SUMMARY:Resident Run Social Time - Balcony\, Activity Room or Pub.
DESCRIPTION:
URL:https://reenaseniorliving.com/event-calendar/resident-run-social-time-balcony-activity-room-or-pub-6/
LOCATION:Library
CATEGORIES:Assisted Living
END:VEVENT
BEGIN:VEVENT
DTSTART;TZID=America/Chicago:20251025T091500
DTEND;TZID=America/Chicago:20251025T100000
DTSTAMP:20260421T210200
CREATED:20251017T081902Z
LAST-MODIFIED:20251025T083403Z
UID:10002720-1761383700-1761386400@reenaseniorliving.com
SUMMARY:Movement Class with Kayla
DESCRIPTION:
URL:https://reenaseniorliving.com/event-calendar/movement-class-with-kayla-86/
LOCATION:Activity Room
CATEGORIES:Assisted Living
END:VEVENT
BEGIN:VEVENT
DTSTART;TZID=America/Chicago:20251025T100000
DTEND;TZID=America/Chicago:20251025T113000
DTSTAMP:20260421T210200
CREATED:20251017T081902Z
LAST-MODIFIED:20251025T083403Z
UID:10002721-1761386400-1761391800@reenaseniorliving.com
SUMMARY:Costume Check-out and Coffee Social Hour
DESCRIPTION:
URL:https://reenaseniorliving.com/event-calendar/costume-check-out-and-coffee-social-hour/
LOCATION:Activity Room
CATEGORIES:Assisted Living
END:VEVENT
BEGIN:VEVENT
DTSTART;TZID=America/Chicago:20251025T173000
DTEND;TZID=America/Chicago:20251025T193000
DTSTAMP:20260421T210200
CREATED:20250926T071935Z
LAST-MODIFIED:20251025T083403Z
UID:10002403-1761413400-1761420600@reenaseniorliving.com
SUMMARY:Resident Run Social Time - Balcony\, Activity Room or Pub.
DESCRIPTION:
URL:https://reenaseniorliving.com/event-calendar/resident-run-social-time-balcony-activity-room-or-pub-7/
LOCATION:Library
CATEGORIES:Assisted Living
END:VEVENT
BEGIN:VEVENT
DTSTART;TZID=America/Chicago:20251026T124500
DTEND;TZID=America/Chicago:20251026T144500
DTSTAMP:20260421T210200
CREATED:20250927T071924Z
LAST-MODIFIED:20251016T081902Z
UID:10002406-1761482700-1761489900@reenaseniorliving.com
SUMMARY:Trick o Treating
DESCRIPTION:
URL:https://reenaseniorliving.com/event-calendar/trick-o-treating/
LOCATION:Lobby
CATEGORIES:Assisted Living
END:VEVENT
BEGIN:VEVENT
DTSTART;TZID=America/Chicago:20251026T124500
DTEND;TZID=America/Chicago:20251026T144500
DTSTAMP:20260421T210200
CREATED:20251015T061906Z
LAST-MODIFIED:20251026T083403Z
UID:10002679-1761482700-1761489900@reenaseniorliving.com
SUMMARY:TRICK OR TREAT DAY! SIGN-UP TO hand out candy or just come down to see all the fun!
DESCRIPTION:
URL:https://reenaseniorliving.com/event-calendar/trick-or-treat-day-sign-up-to-hand-out-candy-or-just-come-down-to-see-all-the-fun/
LOCATION:Lobby
CATEGORIES:Assisted Living,Legacy Court
END:VEVENT
BEGIN:VEVENT
DTSTART;TZID=America/Chicago:20251026T130000
DTEND;TZID=America/Chicago:20251026T140000
DTSTAMP:20260421T210200
CREATED:20250927T053417Z
LAST-MODIFIED:20251026T083403Z
UID:10002404-1761483600-1761487200@reenaseniorliving.com
SUMMARY:Communion (Catholic Rounds from Andy or Tom)
DESCRIPTION:Volunteer makes rounds to all those who wish to receive communion.
URL:https://reenaseniorliving.com/event-calendar/communion-catholic-rounds-from-andy-or-tom-24/
LOCATION:Reena
CATEGORIES:Assisted Living,Legacy Court
END:VEVENT
BEGIN:VEVENT
DTSTART;TZID=America/Chicago:20251026T173000
DTEND;TZID=America/Chicago:20251026T193000
DTSTAMP:20260421T210200
CREATED:20250927T071925Z
LAST-MODIFIED:20251026T083403Z
UID:10002407-1761499800-1761507000@reenaseniorliving.com
SUMMARY:Resident Run Social Time - Balcony\, Activity Room or Pub.
DESCRIPTION:
URL:https://reenaseniorliving.com/event-calendar/resident-run-social-time-balcony-activity-room-or-pub-8/
LOCATION:Library
CATEGORIES:Assisted Living
END:VEVENT
BEGIN:VEVENT
DTSTART;TZID=America/Chicago:20251026T191500
DTEND;TZID=America/Chicago:20251026T221500
DTSTAMP:20260421T210200
CREATED:20251024T064903Z
LAST-MODIFIED:20251026T083403Z
UID:10002818-1761506100-1761516900@reenaseniorliving.com
SUMMARY:Packers vs. Steelers
DESCRIPTION:
URL:https://reenaseniorliving.com/event-calendar/packers-vs-steelers/
LOCATION:TV
CATEGORIES:Assisted Living,Legacy Court
END:VEVENT
BEGIN:VEVENT
DTSTART;TZID=America/Chicago:20251027T091500
DTEND;TZID=America/Chicago:20251027T094500
DTSTAMP:20260421T210200
CREATED:20250928T071905Z
LAST-MODIFIED:20251027T083406Z
UID:10002418-1761556500-1761558300@reenaseniorliving.com
SUMMARY:Movement with Kayla
DESCRIPTION:
URL:https://reenaseniorliving.com/event-calendar/movement-with-kayla-7/
LOCATION:Activity Room
CATEGORIES:Assisted Living
END:VEVENT
BEGIN:VEVENT
DTSTART;TZID=America/Chicago:20251027T094500
DTEND;TZID=America/Chicago:20251027T100500
DTSTAMP:20260421T210200
CREATED:20251003T073405Z
LAST-MODIFIED:20251016T081902Z
UID:10002501-1761558300-1761559500@reenaseniorliving.com
SUMMARY:TRYathlon - Walk 5 minutes\, Bike 5 minutes\, Arm Bike 1-2 minutes\, close with Gentle Stretch
DESCRIPTION:
URL:https://reenaseniorliving.com/event-calendar/tryathlon-walk-5-minutes-bike-5-minutes-arm-bike-1-2-minutes-end-with-gentle-stretch-4/
LOCATION:Activity Room
CATEGORIES:Assisted Living
END:VEVENT
BEGIN:VEVENT
DTSTART;TZID=America/Chicago:20251027T101500
DTEND;TZID=America/Chicago:20251027T103500
DTSTAMP:20260421T210200
CREATED:20250928T071905Z
LAST-MODIFIED:20251009T074917Z
UID:10002419-1761560100-1761561300@reenaseniorliving.com
SUMMARY:Walking in Hallway - Prep for next challenge - Meeting with Dawn and Kayla
DESCRIPTION:
URL:https://reenaseniorliving.com/event-calendar/walking-in-hallway-prep-for-next-challenge-meeting-with-dawn-and-kayla-2/
LOCATION:Basement Hallway
CATEGORIES:Assisted Living
END:VEVENT
BEGIN:VEVENT
DTSTART;TZID=America/Chicago:20251027T101500
DTEND;TZID=America/Chicago:20251027T111500
DTSTAMP:20260421T210200
CREATED:20250928T071905Z
LAST-MODIFIED:20251027T083406Z
UID:10002420-1761560100-1761563700@reenaseniorliving.com
SUMMARY:Bingo
DESCRIPTION:
URL:https://reenaseniorliving.com/event-calendar/bingo-48/
LOCATION:Activity Room
CATEGORIES:Assisted Living
END:VEVENT
BEGIN:VEVENT
DTSTART;TZID=America/Chicago:20251027T173000
DTEND;TZID=America/Chicago:20251027T183000
DTSTAMP:20260421T210200
CREATED:20251021T081901Z
LAST-MODIFIED:20251027T083406Z
UID:10002766-1761586200-1761589800@reenaseniorliving.com
SUMMARY:Hand & Foot with Kayla
DESCRIPTION:
URL:https://reenaseniorliving.com/event-calendar/hand-foot-with-kayla/
LOCATION:Activity Room
CATEGORIES:Assisted Living
END:VEVENT
END:VCALENDAR