BEGIN:VCALENDAR
VERSION:2.0
PRODID:-//Reena Senior Living - ECPv6.11.2.1//NONSGML v1.0//EN
CALSCALE:GREGORIAN
METHOD:PUBLISH
X-WR-CALNAME:Reena Senior Living
X-ORIGINAL-URL:https://reenaseniorliving.com
X-WR-CALDESC:Events for Reena Senior Living
REFRESH-INTERVAL;VALUE=DURATION:PT1H
X-Robots-Tag:noindex
X-PUBLISHED-TTL:PT1H
BEGIN:VTIMEZONE
TZID:America/Chicago
BEGIN:DAYLIGHT
TZOFFSETFROM:-0600
TZOFFSETTO:-0500
TZNAME:CDT
DTSTART:20250309T080000
END:DAYLIGHT
BEGIN:STANDARD
TZOFFSETFROM:-0500
TZOFFSETTO:-0600
TZNAME:CST
DTSTART:20251102T070000
END:STANDARD
END:VTIMEZONE
BEGIN:VEVENT
DTSTART;TZID=America/Chicago:20251031T094500
DTEND;TZID=America/Chicago:20251031T101500
DTSTAMP:20260421T194601
CREATED:20251017T081903Z
LAST-MODIFIED:20251020T081902Z
UID:10002722-1761903900-1761905700@reenaseniorliving.com
SUMMARY:*New Class - Balance in Main Floor Hallway - Fox Rehabilitation's Outline. Fall Prevention
DESCRIPTION:
URL:https://reenaseniorliving.com/event-calendar/new-class-balance-in-main-floor-hallway-fox-rehabilitations-outline-fall-prevention-2/
CATEGORIES:Assisted Living
END:VEVENT
BEGIN:VEVENT
DTSTART;TZID=America/Chicago:20251031T100000
DTEND;TZID=America/Chicago:20251031T103000
DTSTAMP:20260421T194601
CREATED:20251022T083416Z
LAST-MODIFIED:20251031T090400Z
UID:10002797-1761904800-1761906600@reenaseniorliving.com
SUMMARY:Biking Class - *New Class
DESCRIPTION:
URL:https://reenaseniorliving.com/event-calendar/biking-class-new-class/
LOCATION:Exercise Room Basement
CATEGORIES:Assisted Living
END:VEVENT
BEGIN:VEVENT
DTSTART;TZID=America/Chicago:20251031T110000
DTEND;TZID=America/Chicago:20251031T113000
DTSTAMP:20260421T194601
CREATED:20251002T073416Z
LAST-MODIFIED:20251016T081903Z
UID:10002471-1761908400-1761910200@reenaseniorliving.com
SUMMARY:Green Thumbs Garden Group
DESCRIPTION:
URL:https://reenaseniorliving.com/event-calendar/green-thumbs-garden-group-78/
LOCATION:Activity Room Patio
CATEGORIES:Assisted Living
END:VEVENT
BEGIN:VEVENT
DTSTART;TZID=America/Chicago:20251031T110000
DTEND;TZID=America/Chicago:20251031T113000
DTSTAMP:20260421T194601
CREATED:20251022T083416Z
LAST-MODIFIED:20251031T090401Z
UID:10002798-1761908400-1761910200@reenaseniorliving.com
SUMMARY:Green Thumbs Garden Group
DESCRIPTION:
URL:https://reenaseniorliving.com/event-calendar/green-thumbs-garden-group-79/
LOCATION:Activity Room Patio
CATEGORIES:Assisted Living
END:VEVENT
BEGIN:VEVENT
DTSTART;TZID=America/Chicago:20251031T130000
DTEND;TZID=America/Chicago:20251031T134500
DTSTAMP:20260421T194601
CREATED:20251003T073406Z
LAST-MODIFIED:20251031T090401Z
UID:10002505-1761915600-1761918300@reenaseniorliving.com
SUMMARY:The Big Show - Weekly update on Lifespark Challenge
DESCRIPTION:
URL:https://reenaseniorliving.com/event-calendar/the-big-show-weekly-update-on-lifespark-challenge-4/
LOCATION:Activity Room
CATEGORIES:Assisted Living
END:VEVENT
BEGIN:VEVENT
DTSTART;TZID=America/Chicago:20251031T140000
DTEND;TZID=America/Chicago:20251031T153000
DTSTAMP:20260421T194601
CREATED:20251021T081902Z
LAST-MODIFIED:20251031T090401Z
UID:10002770-1761919200-1761924600@reenaseniorliving.com
SUMMARY:Halloween Party - Dress up if you choose - Brews and Booze with Clues Scavenger Hunt.
DESCRIPTION:
URL:https://reenaseniorliving.com/event-calendar/halloween-party-dress-up-if-you-choose-brews-and-booze-with-clues-scavenger-hunt/
LOCATION:Activity Room
CATEGORIES:Assisted Living
END:VEVENT
BEGIN:VEVENT
DTSTART;TZID=America/Chicago:20251031T160000
DTEND;TZID=America/Chicago:20251031T161500
DTSTAMP:20260421T194601
CREATED:20251002T073416Z
LAST-MODIFIED:20251031T090401Z
UID:10002472-1761926400-1761927300@reenaseniorliving.com
SUMMARY:Your weekly activity packets will be delivered.
DESCRIPTION:
URL:https://reenaseniorliving.com/event-calendar/your-weekly-activity-packets-will-be-delivered-25/
LOCATION:Activity Room
CATEGORIES:Assisted Living
END:VEVENT
BEGIN:VEVENT
DTSTART;TZID=America/Chicago:20251031T160500
DTEND;TZID=America/Chicago:20251031T162500
DTSTAMP:20260421T194601
CREATED:20251003T073407Z
LAST-MODIFIED:20251020T081902Z
UID:10002506-1761926700-1761927900@reenaseniorliving.com
SUMMARY:Qi gong Video- Therapy Group Guided Via YouTube
DESCRIPTION:
URL:https://reenaseniorliving.com/event-calendar/qi-gong-video-therapy-group-guided-via-youtube-8/
LOCATION:Activity Room
CATEGORIES:Assisted Living
END:VEVENT
BEGIN:VEVENT
DTSTART;TZID=America/Chicago:20251031T173000
DTEND;TZID=America/Chicago:20251031T193000
DTSTAMP:20260421T194601
CREATED:20251002T073416Z
LAST-MODIFIED:20251031T090401Z
UID:10002473-1761931800-1761939000@reenaseniorliving.com
SUMMARY:Resident Run Social Time - Balcony\, Activity Room or Pub.
DESCRIPTION:
URL:https://reenaseniorliving.com/event-calendar/resident-run-social-time-balcony-activity-room-or-pub-13/
LOCATION:Library
CATEGORIES:Assisted Living
END:VEVENT
BEGIN:VEVENT
DTSTART;TZID=America/Chicago:20251101T100000
DTEND;TZID=America/Chicago:20251101T114500
DTSTAMP:20260421T194601
CREATED:20251021T081902Z
LAST-MODIFIED:20251101T090401Z
UID:10002771-1761991200-1761997500@reenaseniorliving.com
SUMMARY:Nails with Laurie
DESCRIPTION:
URL:https://reenaseniorliving.com/event-calendar/nails-with-laurie-8/
LOCATION:Activity Room
CATEGORIES:Assisted Living
END:VEVENT
BEGIN:VEVENT
DTSTART;TZID=America/Chicago:20251101T124500
DTEND;TZID=America/Chicago:20251101T130000
DTSTAMP:20260421T194601
CREATED:20251021T081902Z
LAST-MODIFIED:20251024T083402Z
UID:10002772-1762001100-1762002000@reenaseniorliving.com
SUMMARY:Walking Group
DESCRIPTION:
URL:https://reenaseniorliving.com/event-calendar/walking-group-36/
LOCATION:Activity Room
CATEGORIES:Assisted Living
END:VEVENT
BEGIN:VEVENT
DTSTART;TZID=America/Chicago:20251101T173000
DTEND;TZID=America/Chicago:20251101T193000
DTSTAMP:20260421T194601
CREATED:20251003T073407Z
LAST-MODIFIED:20251101T090401Z
UID:10002507-1762018200-1762025400@reenaseniorliving.com
SUMMARY:Resident Run Social Time - Balcony\, Activity Room or Pub.
DESCRIPTION:
URL:https://reenaseniorliving.com/event-calendar/resident-run-social-time-balcony-activity-room-or-pub-14/
LOCATION:Library
CATEGORIES:Assisted Living
END:VEVENT
BEGIN:VEVENT
DTSTART;TZID=America/Chicago:20251102T070000
DTEND;TZID=America/Chicago:20251102T080000
DTSTAMP:20260421T194601
CREATED:20251004T054914Z
LAST-MODIFIED:20251102T090403Z
UID:10002508-1762066800-1762070400@reenaseniorliving.com
SUMMARY:Daylight Savings Time - Clocks Fall Back 1 hour
DESCRIPTION:
URL:https://reenaseniorliving.com/event-calendar/daylight-savings-time-clocks-fall-back-1-hour/
CATEGORIES:Assisted Living,Legacy Court
END:VEVENT
BEGIN:VEVENT
DTSTART;TZID=America/Chicago:20251102T120000
DTEND;TZID=America/Chicago:20251102T151500
DTSTAMP:20260421T194601
CREATED:20251024T064906Z
LAST-MODIFIED:20251102T090403Z
UID:10002820-1762084800-1762096500@reenaseniorliving.com
SUMMARY:Packers vs. Panthers
DESCRIPTION:
URL:https://reenaseniorliving.com/event-calendar/packers-vs-panthers/
LOCATION:TV
CATEGORIES:Assisted Living,Legacy Court
END:VEVENT
BEGIN:VEVENT
DTSTART;TZID=America/Chicago:20251102T130000
DTEND;TZID=America/Chicago:20251102T140000
DTSTAMP:20260421T194601
CREATED:20251004T054914Z
LAST-MODIFIED:20251102T090403Z
UID:10002509-1762088400-1762092000@reenaseniorliving.com
SUMMARY:Communion (Catholic Rounds from Andy or Tom)
DESCRIPTION:Volunteer makes rounds to all those who wish to receive communion.
URL:https://reenaseniorliving.com/event-calendar/communion-catholic-rounds-from-andy-or-tom-25/
LOCATION:Reena
CATEGORIES:Assisted Living,Legacy Court
END:VEVENT
BEGIN:VEVENT
DTSTART;TZID=America/Chicago:20251102T173000
DTEND;TZID=America/Chicago:20251102T193000
DTSTAMP:20260421T194601
CREATED:20251004T073423Z
LAST-MODIFIED:20251030T084904Z
UID:10002511-1762104600-1762111800@reenaseniorliving.com
SUMMARY:Resident Run Social Time - Balcony\, Activity Room or Pub.
DESCRIPTION:
URL:https://reenaseniorliving.com/event-calendar/resident-run-social-time-balcony-activity-room-or-pub-15/
LOCATION:Library
CATEGORIES:Assisted Living
END:VEVENT
BEGIN:VEVENT
DTSTART;TZID=America/Chicago:20251103T091500
DTEND;TZID=America/Chicago:20251103T094500
DTSTAMP:20260421T194601
CREATED:20251005T073408Z
LAST-MODIFIED:20251103T090401Z
UID:10002535-1762161300-1762163100@reenaseniorliving.com
SUMMARY:Movement with Kayla
DESCRIPTION:
URL:https://reenaseniorliving.com/event-calendar/movement-with-kayla-8/
LOCATION:Activity Room
CATEGORIES:Assisted Living
END:VEVENT
BEGIN:VEVENT
DTSTART;TZID=America/Chicago:20251103T094500
DTEND;TZID=America/Chicago:20251103T100500
DTSTAMP:20260421T194601
CREATED:20251005T073408Z
LAST-MODIFIED:20251023T083404Z
UID:10002536-1762163100-1762164300@reenaseniorliving.com
SUMMARY:TRYathlon - Walk 5 minutes\, Bike 5 minutes\, Arm Bike 1-2 minutes\, close with Gentle Stretch
DESCRIPTION:
URL:https://reenaseniorliving.com/event-calendar/tryathlon-walk-5-minutes-bike-5-minutes-arm-bike-1-2-minutes-end-with-gentle-stretch-5/
LOCATION:Activity Room
CATEGORIES:Assisted Living
END:VEVENT
BEGIN:VEVENT
DTSTART;TZID=America/Chicago:20251103T100000
DTEND;TZID=America/Chicago:20251103T103000
DTSTAMP:20260421T194601
CREATED:20251024T083402Z
LAST-MODIFIED:20251029T083403Z
UID:10002824-1762164000-1762165800@reenaseniorliving.com
SUMMARY:Biking Class - *New Class
DESCRIPTION:
URL:https://reenaseniorliving.com/event-calendar/biking-class-new-class-5/
LOCATION:Exercise Room Basement
CATEGORIES:Assisted Living
END:VEVENT
BEGIN:VEVENT
DTSTART;TZID=America/Chicago:20251103T100000
DTEND;TZID=America/Chicago:20251103T103000
DTSTAMP:20260421T194601
CREATED:20251030T084904Z
LAST-MODIFIED:20251031T090401Z
UID:10002912-1762164000-1762165800@reenaseniorliving.com
SUMMARY:Green Thumbs Watering and Dig up Bulbs on Patio
DESCRIPTION:
URL:https://reenaseniorliving.com/event-calendar/green-thumbs-watering-and-dig-up-bulbs-on-patio/
LOCATION:Activity Room
CATEGORIES:Assisted Living
END:VEVENT
BEGIN:VEVENT
DTSTART;TZID=America/Chicago:20251103T100000
DTEND;TZID=America/Chicago:20251103T110000
DTSTAMP:20260421T194601
CREATED:20251101T090400Z
LAST-MODIFIED:20251103T090401Z
UID:10002933-1762164000-1762167600@reenaseniorliving.com
SUMMARY:Norine Niedecker - PBS - Series 1\,2\, & 4 - Local Poet - 38 minutes - With Coffee
DESCRIPTION:
URL:https://reenaseniorliving.com/event-calendar/norine-niedecker-pbs-series-12-4-local-poet-38-minutes-with-coffee/
LOCATION:Activity Room
CATEGORIES:Assisted Living
END:VEVENT
BEGIN:VEVENT
DTSTART;TZID=America/Chicago:20251103T101500
DTEND;TZID=America/Chicago:20251103T103500
DTSTAMP:20260421T194601
CREATED:20251005T073408Z
LAST-MODIFIED:20251009T074919Z
UID:10002537-1762164900-1762166100@reenaseniorliving.com
SUMMARY:Walking in Hallway - Prep for next challenge - Meeting with Dawn and Kayla
DESCRIPTION:
URL:https://reenaseniorliving.com/event-calendar/walking-in-hallway-prep-for-next-challenge-meeting-with-dawn-and-kayla-3/
LOCATION:Basement Hallway
CATEGORIES:Assisted Living
END:VEVENT
BEGIN:VEVENT
DTSTART;TZID=America/Chicago:20251103T110000
DTEND;TZID=America/Chicago:20251103T150000
DTSTAMP:20260421T194601
CREATED:20251021T081903Z
LAST-MODIFIED:20251103T090401Z
UID:10002773-1762167600-1762182000@reenaseniorliving.com
SUMMARY:Return Costumes Today Please.
DESCRIPTION:
URL:https://reenaseniorliving.com/event-calendar/return-costumes/
LOCATION:Activity Room
CATEGORIES:Assisted Living
END:VEVENT
BEGIN:VEVENT
DTSTART;TZID=America/Chicago:20251103T123000
DTEND;TZID=America/Chicago:20251103T133000
DTSTAMP:20260421T194601
CREATED:20251024T083403Z
LAST-MODIFIED:20251028T083404Z
UID:10002825-1762173000-1762176600@reenaseniorliving.com
SUMMARY:Let's Make Caramels!
DESCRIPTION:
URL:https://reenaseniorliving.com/event-calendar/lets-make-caramels/
LOCATION:Activity Room
CATEGORIES:Assisted Living
END:VEVENT
BEGIN:VEVENT
DTSTART;TZID=America/Chicago:20251103T130000
DTEND;TZID=America/Chicago:20251103T132500
DTSTAMP:20260421T194601
CREATED:20251030T084904Z
LAST-MODIFIED:20251103T090401Z
UID:10002913-1762174800-1762176300@reenaseniorliving.com
SUMMARY:Arm Bike Practice with Reena Rocker Team.
DESCRIPTION:
URL:https://reenaseniorliving.com/event-calendar/arm-bike-practice-with-reena-rocker-team/
LOCATION:Activity Room
CATEGORIES:Assisted Living
END:VEVENT
BEGIN:VEVENT
DTSTART;TZID=America/Chicago:20251103T133000
DTEND;TZID=America/Chicago:20251103T141500
DTSTAMP:20260421T194601
CREATED:20251025T083404Z
LAST-MODIFIED:20251103T090401Z
UID:10002847-1762176600-1762179300@reenaseniorliving.com
SUMMARY:Review Deep Dive Lecture Notes with Kayla
DESCRIPTION:
URL:https://reenaseniorliving.com/event-calendar/review-deep-dive-lecture-notes-with-kayla/
LOCATION:Activity Room
CATEGORIES:Assisted Living
END:VEVENT
BEGIN:VEVENT
DTSTART;TZID=America/Chicago:20251103T140000
DTEND;TZID=America/Chicago:20251103T150000
DTSTAMP:20260421T194601
CREATED:20251005T054912Z
LAST-MODIFIED:20251023T083404Z
UID:10002530-1762178400-1762182000@reenaseniorliving.com
SUMMARY:Horse Country Music with Bill Bossingham
DESCRIPTION:
URL:https://reenaseniorliving.com/event-calendar/horse-country-music-with-bill-bossingham/
LOCATION:Dining Room AL
CATEGORIES:Assisted Living,Legacy Court
END:VEVENT
BEGIN:VEVENT
DTSTART;TZID=America/Chicago:20251103T173000
DTEND;TZID=America/Chicago:20251103T193000
DTSTAMP:20260421T194601
CREATED:20251005T073408Z
LAST-MODIFIED:20251031T090401Z
UID:10002538-1762191000-1762198200@reenaseniorliving.com
SUMMARY:Resident Run Social Time - Balcony\, Activity Room or Pub.
DESCRIPTION:
URL:https://reenaseniorliving.com/event-calendar/resident-run-social-time-balcony-activity-room-or-pub-16/
LOCATION:Library
CATEGORIES:Assisted Living
END:VEVENT
BEGIN:VEVENT
DTSTART;TZID=America/Chicago:20251104T091500
DTEND;TZID=America/Chicago:20251104T094500
DTSTAMP:20260421T194601
CREATED:20251006T074908Z
LAST-MODIFIED:20251104T091903Z
UID:10002549-1762247700-1762249500@reenaseniorliving.com
SUMMARY:Movement Class with Kayla
DESCRIPTION:
URL:https://reenaseniorliving.com/event-calendar/movement-class-with-kayla-78/
LOCATION:Activity Room
CATEGORIES:Assisted Living
END:VEVENT
BEGIN:VEVENT
DTSTART;TZID=America/Chicago:20251104T094500
DTEND;TZID=America/Chicago:20251104T101500
DTSTAMP:20260421T194601
CREATED:20251006T074908Z
LAST-MODIFIED:20251020T081903Z
UID:10002550-1762249500-1762251300@reenaseniorliving.com
SUMMARY:Qi gong Video- Therapy Group Guided Via YouTube
DESCRIPTION:
URL:https://reenaseniorliving.com/event-calendar/qi-gong-video-therapy-group-guided-via-youtube-9/
LOCATION:Activity Room
CATEGORIES:Assisted Living
END:VEVENT
END:VCALENDAR