BEGIN:VCALENDAR
VERSION:2.0
PRODID:-//Reena Senior Living - ECPv6.11.2.1//NONSGML v1.0//EN
CALSCALE:GREGORIAN
METHOD:PUBLISH
X-ORIGINAL-URL:https://reenaseniorliving.com
X-WR-CALDESC:Events for Reena Senior Living
REFRESH-INTERVAL;VALUE=DURATION:PT1H
X-Robots-Tag:noindex
X-PUBLISHED-TTL:PT1H
BEGIN:VTIMEZONE
TZID:America/Chicago
BEGIN:DAYLIGHT
TZOFFSETFROM:-0600
TZOFFSETTO:-0500
TZNAME:CDT
DTSTART:20250309T080000
END:DAYLIGHT
BEGIN:STANDARD
TZOFFSETFROM:-0500
TZOFFSETTO:-0600
TZNAME:CST
DTSTART:20251102T070000
END:STANDARD
END:VTIMEZONE
BEGIN:VEVENT
DTSTART;TZID=America/Chicago:20250522T104500
DTEND;TZID=America/Chicago:20250522T111500
DTSTAMP:20260422T032424
CREATED:20250514T214946Z
LAST-MODIFIED:20250521T214930Z
UID:10000047-1747910700-1747912500@reenaseniorliving.com
SUMMARY:Forklift Driving - Practice\, support\, pit crew
DESCRIPTION:
URL:https://reenaseniorliving.com/event-calendar/forklift-driving-practice-support-pit-crew/
LOCATION:Theatre
CATEGORIES:Assisted Living
END:VEVENT
BEGIN:VEVENT
DTSTART;TZID=America/Chicago:20250522T130000
DTEND;TZID=America/Chicago:20250522T141500
DTSTAMP:20260422T032424
CREATED:20250516T214905Z
LAST-MODIFIED:20250521T214930Z
UID:10000386-1747918800-1747923300@reenaseniorliving.com
SUMMARY:Hoard Museum Project for 11th annual Dairy Day - Cow Art Entry to finish.
DESCRIPTION:
URL:https://reenaseniorliving.com/event-calendar/hoard-museum-project-for-11th-annual-dairy-day-cow-art-entry-to-finish/
LOCATION:Activity Room
CATEGORIES:Assisted Living
END:VEVENT
BEGIN:VEVENT
DTSTART;TZID=America/Chicago:20250522T170000
DTEND;TZID=America/Chicago:20250522T190000
DTSTAMP:20260422T032424
CREATED:20250514T214946Z
LAST-MODIFIED:20250522T220413Z
UID:10000048-1747933200-1747940400@reenaseniorliving.com
SUMMARY:Resident Guided - Social Time
DESCRIPTION:
URL:https://reenaseniorliving.com/event-calendar/resident-guided-social-time-9/
LOCATION:Activity Room
CATEGORIES:Assisted Living
END:VEVENT
BEGIN:VEVENT
DTSTART;TZID=America/Chicago:20250523T091500
DTEND;TZID=America/Chicago:20250523T094500
DTSTAMP:20260422T032424
CREATED:20250514T214947Z
LAST-MODIFIED:20250522T220414Z
UID:10000049-1747991700-1747993500@reenaseniorliving.com
SUMMARY:Movement Class with Kayla
DESCRIPTION:
URL:https://reenaseniorliving.com/event-calendar/movement-class-7/
LOCATION:Activity Room
CATEGORIES:Assisted Living
END:VEVENT
BEGIN:VEVENT
DTSTART;TZID=America/Chicago:20250523T095000
DTEND;TZID=America/Chicago:20250523T101000
DTSTAMP:20260422T032425
CREATED:20250514T214947Z
LAST-MODIFIED:20250522T220415Z
UID:10000050-1747993800-1747995000@reenaseniorliving.com
SUMMARY:Outdoor Stroll
DESCRIPTION:
URL:https://reenaseniorliving.com/event-calendar/outdoor-stroll-3/
LOCATION:Activity Room
CATEGORIES:Assisted Living
END:VEVENT
BEGIN:VEVENT
DTSTART;TZID=America/Chicago:20250523T103000
DTEND;TZID=America/Chicago:20250523T110000
DTSTAMP:20260422T032425
CREATED:20250514T214947Z
LAST-MODIFIED:20250522T220415Z
UID:10000051-1747996200-1747998000@reenaseniorliving.com
SUMMARY:Coffee Social Time with Reminiscing
DESCRIPTION:Social Time with Coffee
URL:https://reenaseniorliving.com/event-calendar/coffee-social-time-with-reminiscing-2/
LOCATION:Activity Room
CATEGORIES:Assisted Living
END:VEVENT
BEGIN:VEVENT
DTSTART;TZID=America/Chicago:20250523T130000
DTEND;TZID=America/Chicago:20250523T140000
DTSTAMP:20260422T032425
CREATED:20250514T214947Z
LAST-MODIFIED:20250522T223411Z
UID:10000052-1748005200-1748008800@reenaseniorliving.com
SUMMARY:The Big Show - Review the week!
DESCRIPTION:
URL:https://reenaseniorliving.com/event-calendar/the-big-show-review-the-week-2/
LOCATION:Activity Room
CATEGORIES:Assisted Living,Legacy Court
END:VEVENT
BEGIN:VEVENT
DTSTART;TZID=America/Chicago:20250523T150000
DTEND;TZID=America/Chicago:20250523T151500
DTSTAMP:20260422T032425
CREATED:20250514T214947Z
LAST-MODIFIED:20250522T220417Z
UID:10000053-1748012400-1748013300@reenaseniorliving.com
SUMMARY:Your weekly activity packets will be delivered.
DESCRIPTION:
URL:https://reenaseniorliving.com/event-calendar/your-weekly-activity-packets-will-be-delivered-2/
LOCATION:Activity Room
CATEGORIES:Assisted Living
END:VEVENT
BEGIN:VEVENT
DTSTART;TZID=America/Chicago:20250523T170000
DTEND;TZID=America/Chicago:20250523T190000
DTSTAMP:20260422T032425
CREATED:20250514T214947Z
LAST-MODIFIED:20250523T221910Z
UID:10000054-1748019600-1748026800@reenaseniorliving.com
SUMMARY:Resident Guided - Social Time
DESCRIPTION:
URL:https://reenaseniorliving.com/event-calendar/resident-guided-social-time-10/
LOCATION:Activity Room
CATEGORIES:Assisted Living
END:VEVENT
BEGIN:VEVENT
DTSTART;TZID=America/Chicago:20250524T110000
DTEND;TZID=America/Chicago:20250524T113000
DTSTAMP:20260422T032425
CREATED:20250514T214947Z
LAST-MODIFIED:20250523T221913Z
UID:10000055-1748084400-1748086200@reenaseniorliving.com
SUMMARY:Biking Time - Open House
DESCRIPTION:Pop in for a few minutes right before lunch. Start with 2-3 minutes.
URL:https://reenaseniorliving.com/event-calendar/biking-time-open-house-3/
LOCATION:Activity Room
CATEGORIES:Assisted Living
END:VEVENT
BEGIN:VEVENT
DTSTART;TZID=America/Chicago:20250524T130000
DTEND;TZID=America/Chicago:20250524T140000
DTSTAMP:20260422T032425
CREATED:20250514T214947Z
LAST-MODIFIED:20250523T221914Z
UID:10000056-1748091600-1748095200@reenaseniorliving.com
SUMMARY:Bingo with Anne - Today patriotic and snack prizes
DESCRIPTION:
URL:https://reenaseniorliving.com/event-calendar/bingo/
LOCATION:AR
CATEGORIES:Assisted Living
END:VEVENT
BEGIN:VEVENT
DTSTART;TZID=America/Chicago:20250524T170000
DTEND;TZID=America/Chicago:20250524T190000
DTSTAMP:20260422T032425
CREATED:20250514T214947Z
LAST-MODIFIED:20250524T223537Z
UID:10000057-1748106000-1748113200@reenaseniorliving.com
SUMMARY:Resident Guided - Social Time
DESCRIPTION:
URL:https://reenaseniorliving.com/event-calendar/resident-guided-social-time-11/
LOCATION:Activity Room
CATEGORIES:Assisted Living
END:VEVENT
BEGIN:VEVENT
DTSTART;TZID=America/Chicago:20250525T110000
DTEND;TZID=America/Chicago:20250525T113000
DTSTAMP:20260422T032425
CREATED:20250514T214947Z
LAST-MODIFIED:20250524T223539Z
UID:10000058-1748170800-1748172600@reenaseniorliving.com
SUMMARY:Biking Time - Open House
DESCRIPTION:Pop in for a few minutes right before lunch. Start with 2-3 minutes.
URL:https://reenaseniorliving.com/event-calendar/biking-time-open-house-4/
LOCATION:Activity Room
CATEGORIES:Assisted Living
END:VEVENT
BEGIN:VEVENT
DTSTART;TZID=America/Chicago:20250525T130000
DTEND;TZID=America/Chicago:20250525T140000
DTSTAMP:20260422T032425
CREATED:20250514T214947Z
LAST-MODIFIED:20250524T230447Z
UID:10000059-1748178000-1748181600@reenaseniorliving.com
SUMMARY:Communion (Catholic Rounds from Andy or Tom)
DESCRIPTION:Volunteer makes rounds to all those who wish to receive communion.
URL:https://reenaseniorliving.com/event-calendar/communion-catholic-rounds-from-andy-or-tom-2/
LOCATION:Reena
CATEGORIES:Assisted Living,Legacy Court
END:VEVENT
BEGIN:VEVENT
DTSTART;TZID=America/Chicago:20250525T170000
DTEND;TZID=America/Chicago:20250525T190000
DTSTAMP:20260422T032425
CREATED:20250514T214947Z
LAST-MODIFIED:20250525T224959Z
UID:10000060-1748192400-1748199600@reenaseniorliving.com
SUMMARY:Resident Guided - Social Time
DESCRIPTION:
URL:https://reenaseniorliving.com/event-calendar/resident-guided-social-time-12/
LOCATION:Activity Room
CATEGORIES:Assisted Living
END:VEVENT
BEGIN:VEVENT
DTSTART;TZID=America/Chicago:20250526T091500
DTEND;TZID=America/Chicago:20250526T094500
DTSTAMP:20260422T032425
CREATED:20250514T214947Z
LAST-MODIFIED:20250525T225001Z
UID:10000061-1748250900-1748252700@reenaseniorliving.com
SUMMARY:Movement Class
DESCRIPTION:
URL:https://reenaseniorliving.com/event-calendar/movement-class-8/
LOCATION:Activity Room
CATEGORIES:Assisted Living
END:VEVENT
BEGIN:VEVENT
DTSTART;TZID=America/Chicago:20250526T100000
DTEND;TZID=America/Chicago:20250526T110000
DTSTAMP:20260422T032425
CREATED:20250514T214947Z
LAST-MODIFIED:20250525T225002Z
UID:10000062-1748253600-1748257200@reenaseniorliving.com
SUMMARY:Memorial Day Social with Kayla - Coffee and Snacks
DESCRIPTION:
URL:https://reenaseniorliving.com/event-calendar/coffee-and-social-hour-happy-memorial-day/
LOCATION:Activity Room
CATEGORIES:Assisted Living
END:VEVENT
BEGIN:VEVENT
DTSTART;TZID=America/Chicago:20250526T123000
DTEND;TZID=America/Chicago:20250526T130000
DTSTAMP:20260422T032425
CREATED:20250514T214947Z
LAST-MODIFIED:20250525T225003Z
UID:10000063-1748262600-1748264400@reenaseniorliving.com
SUMMARY:Rosary with Volunteer Dorothy
DESCRIPTION:
URL:https://reenaseniorliving.com/event-calendar/rosary-with-volunteer-dorothy-2/
LOCATION:Pub
CATEGORIES:Assisted Living
END:VEVENT
BEGIN:VEVENT
DTSTART;TZID=America/Chicago:20250526T170000
DTEND;TZID=America/Chicago:20250526T190000
DTSTAMP:20260422T032425
CREATED:20250514T214948Z
LAST-MODIFIED:20250526T230405Z
UID:10000064-1748278800-1748286000@reenaseniorliving.com
SUMMARY:Resident Guided - Social Time
DESCRIPTION:
URL:https://reenaseniorliving.com/event-calendar/resident-guided-social-time-13/
LOCATION:Activity Room
CATEGORIES:Assisted Living
END:VEVENT
BEGIN:VEVENT
DTSTART;TZID=America/Chicago:20250527T091500
DTEND;TZID=America/Chicago:20250527T094500
DTSTAMP:20260422T032425
CREATED:20250514T214948Z
LAST-MODIFIED:20250526T230405Z
UID:10000065-1748337300-1748339100@reenaseniorliving.com
SUMMARY:Movement Class
DESCRIPTION:
URL:https://reenaseniorliving.com/event-calendar/movement-class-9/
LOCATION:Activity Room
CATEGORIES:Assisted Living
END:VEVENT
BEGIN:VEVENT
DTSTART;TZID=America/Chicago:20250527T094500
DTEND;TZID=America/Chicago:20250527T100000
DTSTAMP:20260422T032425
CREATED:20250514T214948Z
LAST-MODIFIED:20250526T230405Z
UID:10000066-1748339100-1748340000@reenaseniorliving.com
SUMMARY:Strength Class - Intermediate Class
DESCRIPTION:
URL:https://reenaseniorliving.com/event-calendar/strength-class-intermediate-class-4/
LOCATION:Activity Room
CATEGORIES:Assisted Living
END:VEVENT
BEGIN:VEVENT
DTSTART;TZID=America/Chicago:20250527T100000
DTEND;TZID=America/Chicago:20250527T113000
DTSTAMP:20260422T032425
CREATED:20250514T214948Z
LAST-MODIFIED:20250526T230405Z
UID:10000067-1748340000-1748345400@reenaseniorliving.com
SUMMARY:Fingernails Spa Day with Anne - sign up
DESCRIPTION:
URL:https://reenaseniorliving.com/event-calendar/fingernails-spa-day-sign-up-3/
LOCATION:Activity Room
CATEGORIES:Assisted Living
END:VEVENT
BEGIN:VEVENT
DTSTART;TZID=America/Chicago:20250527T103000
DTEND;TZID=America/Chicago:20250527T113000
DTSTAMP:20260422T032425
CREATED:20250514T214948Z
LAST-MODIFIED:20250526T230405Z
UID:10000069-1748341800-1748345400@reenaseniorliving.com
SUMMARY:Green Thumbs and Patio Social Time. You don't need to garden to appreciate it. Join us.
DESCRIPTION:Garden and Social Time.
URL:https://reenaseniorliving.com/event-calendar/green-thumbs-and-patio-social-time-you-dont-need-to-garden-to-appreciate-it-join-us/
LOCATION:Activity Room Patio
CATEGORIES:Assisted Living
END:VEVENT
BEGIN:VEVENT
DTSTART;TZID=America/Chicago:20250527T130000
DTEND;TZID=America/Chicago:20250527T141500
DTSTAMP:20260422T032425
CREATED:20250514T214948Z
LAST-MODIFIED:20250526T230405Z
UID:10000068-1748350800-1748355300@reenaseniorliving.com
SUMMARY:Forklift Racing Day.
DESCRIPTION:
URL:https://reenaseniorliving.com/event-calendar/forklift-racing-day-3/
LOCATION:Theatre
CATEGORIES:Assisted Living
END:VEVENT
BEGIN:VEVENT
DTSTART;TZID=America/Chicago:20250527T170000
DTEND;TZID=America/Chicago:20250527T190000
DTSTAMP:20260422T032425
CREATED:20250514T214948Z
LAST-MODIFIED:20250527T230407Z
UID:10000070-1748365200-1748372400@reenaseniorliving.com
SUMMARY:Resident Guided - Social Time
DESCRIPTION:
URL:https://reenaseniorliving.com/event-calendar/resident-guided-social-time-14/
LOCATION:Activity Room
CATEGORIES:Assisted Living
END:VEVENT
BEGIN:VEVENT
DTSTART;TZID=America/Chicago:20250528T091500
DTEND;TZID=America/Chicago:20250528T094500
DTSTAMP:20260422T032425
CREATED:20250514T214948Z
LAST-MODIFIED:20250527T230408Z
UID:10000071-1748423700-1748425500@reenaseniorliving.com
SUMMARY:Movement Class
DESCRIPTION:
URL:https://reenaseniorliving.com/event-calendar/movement-class-10/
LOCATION:Activity Room
CATEGORIES:Assisted Living
END:VEVENT
BEGIN:VEVENT
DTSTART;TZID=America/Chicago:20250528T100000
DTEND;TZID=America/Chicago:20250528T101500
DTSTAMP:20260422T032425
CREATED:20250514T214948Z
LAST-MODIFIED:20250527T231931Z
UID:10000072-1748426400-1748427300@reenaseniorliving.com
SUMMARY:Sing along before Catholic Service.
DESCRIPTION:We will assist you to go next door.
URL:https://reenaseniorliving.com/event-calendar/sing-along-before-catholic-service/
LOCATION:Legacy Court
CATEGORIES:Assisted Living,Legacy Court
END:VEVENT
BEGIN:VEVENT
DTSTART;TZID=America/Chicago:20250528T101500
DTEND;TZID=America/Chicago:20250528T111500
DTSTAMP:20260422T032425
CREATED:20250514T214948Z
LAST-MODIFIED:20250527T231931Z
UID:10000073-1748427300-1748430900@reenaseniorliving.com
SUMMARY:Catholic Service
DESCRIPTION:
URL:https://reenaseniorliving.com/event-calendar/catholic-service-2/
LOCATION:Legacy Court
CATEGORIES:Assisted Living,Legacy Court
END:VEVENT
BEGIN:VEVENT
DTSTART;TZID=America/Chicago:20250528T123000
DTEND;TZID=America/Chicago:20250528T124500
DTSTAMP:20260422T032425
CREATED:20250514T214948Z
LAST-MODIFIED:20250527T230408Z
UID:10000074-1748435400-1748436300@reenaseniorliving.com
SUMMARY:Reading of Agnus Dei with volunteer Dorothy
DESCRIPTION:
URL:https://reenaseniorliving.com/event-calendar/reading-of-agnus-dei-with-volunteer-dorothy/
LOCATION:Pub
CATEGORIES:Assisted Living
END:VEVENT
BEGIN:VEVENT
DTSTART;TZID=America/Chicago:20250528T130000
DTEND;TZID=America/Chicago:20250528T133000
DTSTAMP:20260422T032425
CREATED:20250514T214948Z
LAST-MODIFIED:20250527T230408Z
UID:10000075-1748437200-1748439000@reenaseniorliving.com
SUMMARY:Lifespark Senior Living SPARKING CHANGE - Lifeguard Deep Dive
DESCRIPTION:
URL:https://reenaseniorliving.com/event-calendar/lifespark-senior-living-sparking-change-lifeguard-deep-dive-2/
LOCATION:Theatre
CATEGORIES:Assisted Living
END:VEVENT
END:VCALENDAR