BEGIN:VCALENDAR
VERSION:2.0
PRODID:-//Reena Senior Living - ECPv6.11.2.1//NONSGML v1.0//EN
CALSCALE:GREGORIAN
METHOD:PUBLISH
X-ORIGINAL-URL:https://reenaseniorliving.com
X-WR-CALDESC:Events for Reena Senior Living
REFRESH-INTERVAL;VALUE=DURATION:PT1H
X-Robots-Tag:noindex
X-PUBLISHED-TTL:PT1H
BEGIN:VTIMEZONE
TZID:America/Chicago
BEGIN:DAYLIGHT
TZOFFSETFROM:-0600
TZOFFSETTO:-0500
TZNAME:CDT
DTSTART:20250309T080000
END:DAYLIGHT
BEGIN:STANDARD
TZOFFSETFROM:-0500
TZOFFSETTO:-0600
TZNAME:CST
DTSTART:20251102T070000
END:STANDARD
END:VTIMEZONE
BEGIN:VEVENT
DTSTART;TZID=America/Chicago:20251008T100000
DTEND;TZID=America/Chicago:20251008T101500
DTSTAMP:20260421T210210
CREATED:20250909T050455Z
LAST-MODIFIED:20250916T070404Z
UID:10002116-1759917600-1759918500@reenaseniorliving.com
SUMMARY:Sing along before Catholic Service.
DESCRIPTION:We will assist you to go next door.
URL:https://reenaseniorliving.com/event-calendar/sing-along-before-catholic-service-19/
LOCATION:Legacy Court
CATEGORIES:Assisted Living,Legacy Court
END:VEVENT
BEGIN:VEVENT
DTSTART;TZID=America/Chicago:20251008T101500
DTEND;TZID=America/Chicago:20251008T105000
DTSTAMP:20260421T210210
CREATED:20250909T070406Z
LAST-MODIFIED:20251008T074905Z
UID:10002126-1759918500-1759920600@reenaseniorliving.com
SUMMARY:Non-Denominational Service with Chaplain Lee
DESCRIPTION:
URL:https://reenaseniorliving.com/event-calendar/non-denominational-service-with-chaplain-lee-4/
LOCATION:Theatre
CATEGORIES:Assisted Living
END:VEVENT
BEGIN:VEVENT
DTSTART;TZID=America/Chicago:20251008T101500
DTEND;TZID=America/Chicago:20251008T111500
DTSTAMP:20260421T210210
CREATED:20250909T050455Z
LAST-MODIFIED:20251008T074905Z
UID:10002117-1759918500-1759922100@reenaseniorliving.com
SUMMARY:Catholic Service
DESCRIPTION:
URL:https://reenaseniorliving.com/event-calendar/catholic-service-20/
LOCATION:Legacy Court
CATEGORIES:Assisted Living,Legacy Court
END:VEVENT
BEGIN:VEVENT
DTSTART;TZID=America/Chicago:20251008T123000
DTEND;TZID=America/Chicago:20251008T130000
DTSTAMP:20260421T210210
CREATED:20250909T070406Z
LAST-MODIFIED:20250916T070404Z
UID:10002127-1759926600-1759928400@reenaseniorliving.com
SUMMARY:Green Thumbs Garden Group
DESCRIPTION:
URL:https://reenaseniorliving.com/event-calendar/green-thumbs-garden-group-65/
LOCATION:Activity Room Patio
CATEGORIES:Assisted Living
END:VEVENT
BEGIN:VEVENT
DTSTART;TZID=America/Chicago:20251008T130000
DTEND;TZID=America/Chicago:20251008T140000
DTSTAMP:20260421T210210
CREATED:20250909T050456Z
LAST-MODIFIED:20250916T070404Z
UID:10002121-1759928400-1759932000@reenaseniorliving.com
SUMMARY:Spark Competition
DESCRIPTION:
URL:https://reenaseniorliving.com/event-calendar/spark-competition/
LOCATION:Activity Room
CATEGORIES:Assisted Living,Legacy Court
END:VEVENT
BEGIN:VEVENT
DTSTART;TZID=America/Chicago:20251008T173000
DTEND;TZID=America/Chicago:20251008T193000
DTSTAMP:20260421T210210
CREATED:20250917T071906Z
LAST-MODIFIED:20251008T074905Z
UID:10002275-1759944600-1759951800@reenaseniorliving.com
SUMMARY:Resident Run Social Time - Balcony\, Activity Room or Pub.
DESCRIPTION:
URL:https://reenaseniorliving.com/event-calendar/social-and-game-time-balcony-activity-room-or-pub-spaces-20/
LOCATION:Library
CATEGORIES:Assisted Living
END:VEVENT
BEGIN:VEVENT
DTSTART;TZID=America/Chicago:20251009T091500
DTEND;TZID=America/Chicago:20251009T094500
DTSTAMP:20260421T210210
CREATED:20250910T070406Z
LAST-MODIFIED:20251009T074915Z
UID:10002158-1760001300-1760003100@reenaseniorliving.com
SUMMARY:Movement Class with Kayla
DESCRIPTION:Gentle Movement\, Strength\, Mobility\, Balance\, & More.
URL:https://reenaseniorliving.com/event-calendar/movement-class-with-kayla-64/
LOCATION:Activity Room
CATEGORIES:Assisted Living
END:VEVENT
BEGIN:VEVENT
DTSTART;TZID=America/Chicago:20251009T094500
DTEND;TZID=America/Chicago:20251009T100000
DTSTAMP:20260421T210210
CREATED:20251003T073401Z
LAST-MODIFIED:20251009T074915Z
UID:10002481-1760003100-1760004000@reenaseniorliving.com
SUMMARY:Walking Group
DESCRIPTION:
URL:https://reenaseniorliving.com/event-calendar/walking-group-27/
LOCATION:Activity Room
CATEGORIES:Assisted Living
END:VEVENT
BEGIN:VEVENT
DTSTART;TZID=America/Chicago:20251009T094500
DTEND;TZID=America/Chicago:20251009T101000
DTSTAMP:20260421T210210
CREATED:20250910T070406Z
LAST-MODIFIED:20251002T073412Z
UID:10002159-1760003100-1760004600@reenaseniorliving.com
SUMMARY:Biking with Music
DESCRIPTION:
URL:https://reenaseniorliving.com/event-calendar/biking-with-music/
LOCATION:Activity Room
CATEGORIES:Assisted Living
END:VEVENT
BEGIN:VEVENT
DTSTART;TZID=America/Chicago:20251009T110000
DTEND;TZID=America/Chicago:20251009T112000
DTSTAMP:20260421T210210
CREATED:20251003T073401Z
LAST-MODIFIED:20251009T074915Z
UID:10002482-1760007600-1760008800@reenaseniorliving.com
SUMMARY:TRICK OR TREAT MEETING WITH DAWN
DESCRIPTION:
URL:https://reenaseniorliving.com/event-calendar/trick-or-treat-meeting-with-dawn/
LOCATION:Activity Room
CATEGORIES:Assisted Living
END:VEVENT
BEGIN:VEVENT
DTSTART;TZID=America/Chicago:20251009T130000
DTEND;TZID=America/Chicago:20251009T134500
DTSTAMP:20260421T210210
CREATED:20250917T051938Z
LAST-MODIFIED:20251009T074915Z
UID:10002235-1760014800-1760017500@reenaseniorliving.com
SUMMARY:TBD Possible Spark Competition Scrimmage.
DESCRIPTION:
URL:https://reenaseniorliving.com/event-calendar/spark-competition-3/
LOCATION:Activity Room
CATEGORIES:Assisted Living,Legacy Court
END:VEVENT
BEGIN:VEVENT
DTSTART;TZID=America/Chicago:20251009T133000
DTEND;TZID=America/Chicago:20251009T143000
DTSTAMP:20260421T210210
CREATED:20250910T070406Z
LAST-MODIFIED:20250916T070404Z
UID:10002160-1760016600-1760020200@reenaseniorliving.com
SUMMARY:Travelogue with Pat and Ken TBD Location
DESCRIPTION:
URL:https://reenaseniorliving.com/event-calendar/travelogue-with-pat-and-ken-tbd-location/
LOCATION:Theatre
CATEGORIES:Assisted Living
END:VEVENT
BEGIN:VEVENT
DTSTART;TZID=America/Chicago:20251009T140000
DTEND;TZID=America/Chicago:20251009T151500
DTSTAMP:20260421T210210
CREATED:20251003T073401Z
LAST-MODIFIED:20251009T074915Z
UID:10002483-1760018400-1760022900@reenaseniorliving.com
SUMMARY:Countryside Drive on our Bus - Sign up if you intend on going. We understand cancellations.
DESCRIPTION:With Dawn and Laurie
URL:https://reenaseniorliving.com/event-calendar/countryside-drive-on-our-bus-sign-up-if-you-intend-on-going-we-understand-cancellations/
CATEGORIES:Assisted Living
END:VEVENT
BEGIN:VEVENT
DTSTART;TZID=America/Chicago:20251009T173000
DTEND;TZID=America/Chicago:20251009T193000
DTSTAMP:20260421T210210
CREATED:20250917T071906Z
LAST-MODIFIED:20251009T074915Z
UID:10002276-1760031000-1760038200@reenaseniorliving.com
SUMMARY:Resident Run Social Time - Balcony\, Activity Room or Pub.
DESCRIPTION:
URL:https://reenaseniorliving.com/event-calendar/social-and-game-time-balcony-activity-room-or-pub-spaces-21/
LOCATION:Library
CATEGORIES:Assisted Living
END:VEVENT
BEGIN:VEVENT
DTSTART;TZID=America/Chicago:20251010T091500
DTEND;TZID=America/Chicago:20251010T094500
DTSTAMP:20260421T210210
CREATED:20250911T070407Z
LAST-MODIFIED:20251010T074905Z
UID:10002173-1760087700-1760089500@reenaseniorliving.com
SUMMARY:Movement Class with Kayla
DESCRIPTION:
URL:https://reenaseniorliving.com/event-calendar/movement-class-with-kayla-65/
LOCATION:Activity Room
CATEGORIES:Assisted Living
END:VEVENT
BEGIN:VEVENT
DTSTART;TZID=America/Chicago:20251010T100000
DTEND;TZID=America/Chicago:20251010T103000
DTSTAMP:20260421T210210
CREATED:20250911T070407Z
LAST-MODIFIED:20251010T074905Z
UID:10002174-1760090400-1760092200@reenaseniorliving.com
SUMMARY:Green Thumbs Garden Group
DESCRIPTION:
URL:https://reenaseniorliving.com/event-calendar/green-thumbs-garden-group-67/
LOCATION:Activity Room Patio
CATEGORIES:Assisted Living
END:VEVENT
BEGIN:VEVENT
DTSTART;TZID=America/Chicago:20251010T103000
DTEND;TZID=America/Chicago:20251010T110000
DTSTAMP:20260421T210210
CREATED:20251003T073402Z
LAST-MODIFIED:20251010T074905Z
UID:10002484-1760092200-1760094000@reenaseniorliving.com
SUMMARY:Wisconsin Heritage Hunting with Jana!
DESCRIPTION:
URL:https://reenaseniorliving.com/event-calendar/wisconsin-heritage-hunting-with-jana/
LOCATION:Activity Room
CATEGORIES:Assisted Living
END:VEVENT
BEGIN:VEVENT
DTSTART;TZID=America/Chicago:20251010T130000
DTEND;TZID=America/Chicago:20251010T134500
DTSTAMP:20260421T210210
CREATED:20251003T073402Z
LAST-MODIFIED:20251010T074905Z
UID:10002485-1760101200-1760103900@reenaseniorliving.com
SUMMARY:The Big Show - Weekly update on Lifespark Challenge
DESCRIPTION:
URL:https://reenaseniorliving.com/event-calendar/the-big-show-weekly-update-on-lifespark-challenge/
LOCATION:Activity Room
CATEGORIES:Assisted Living
END:VEVENT
BEGIN:VEVENT
DTSTART;TZID=America/Chicago:20251010T160500
DTEND;TZID=America/Chicago:20251010T162500
DTSTAMP:20260421T210210
CREATED:20251003T073402Z
LAST-MODIFIED:20251010T074905Z
UID:10002486-1760112300-1760113500@reenaseniorliving.com
SUMMARY:Qi gong Video- Therapy Group Guided Via YouTube
DESCRIPTION:
URL:https://reenaseniorliving.com/event-calendar/qi-gong-video-therapy-group-guided-via-youtube-2/
LOCATION:Activity Room
CATEGORIES:Assisted Living
END:VEVENT
BEGIN:VEVENT
DTSTART;TZID=America/Chicago:20251010T163000
DTEND;TZID=America/Chicago:20251010T164500
DTSTAMP:20260421T210210
CREATED:20250911T070407Z
LAST-MODIFIED:20251010T074905Z
UID:10002175-1760113800-1760114700@reenaseniorliving.com
SUMMARY:Your weekly activity packets will be delivered.
DESCRIPTION:
URL:https://reenaseniorliving.com/event-calendar/your-weekly-activity-packets-will-be-delivered-22/
LOCATION:Activity Room
CATEGORIES:Assisted Living
END:VEVENT
BEGIN:VEVENT
DTSTART;TZID=America/Chicago:20251010T173000
DTEND;TZID=America/Chicago:20251010T193000
DTSTAMP:20260421T210210
CREATED:20250917T071906Z
LAST-MODIFIED:20251010T074905Z
UID:10002277-1760117400-1760124600@reenaseniorliving.com
SUMMARY:Resident Run Social Time - Balcony\, Activity Room or Pub.
DESCRIPTION:
URL:https://reenaseniorliving.com/event-calendar/social-and-game-time-balcony-activity-room-or-pub-spaces-22/
LOCATION:Library
CATEGORIES:Assisted Living
END:VEVENT
BEGIN:VEVENT
DTSTART;TZID=America/Chicago:20251011T101500
DTEND;TZID=America/Chicago:20251011T113000
DTSTAMP:20260421T210210
CREATED:20251003T073402Z
LAST-MODIFIED:20251011T074904Z
UID:10002487-1760177700-1760182200@reenaseniorliving.com
SUMMARY:Nail Spa with Laurie - Please sign-up
DESCRIPTION:
URL:https://reenaseniorliving.com/event-calendar/nail-spa-with-laurie-please-sign-up/
LOCATION:Activity Room
CATEGORIES:Assisted Living
END:VEVENT
BEGIN:VEVENT
DTSTART;TZID=America/Chicago:20251011T173000
DTEND;TZID=America/Chicago:20251011T193000
DTSTAMP:20260421T210211
CREATED:20250917T071906Z
LAST-MODIFIED:20251011T074904Z
UID:10002278-1760203800-1760211000@reenaseniorliving.com
SUMMARY:Resident Run Social Time - Balcony\, Activity Room or Pub.
DESCRIPTION:
URL:https://reenaseniorliving.com/event-calendar/social-and-game-time-balcony-activity-room-or-pub-spaces-23/
LOCATION:Library
CATEGORIES:Assisted Living
END:VEVENT
BEGIN:VEVENT
DTSTART;TZID=America/Chicago:20251012T130000
DTEND;TZID=America/Chicago:20251012T140000
DTSTAMP:20260421T210211
CREATED:20250913T051912Z
LAST-MODIFIED:20251012T074922Z
UID:10002189-1760274000-1760277600@reenaseniorliving.com
SUMMARY:Communion (Catholic Rounds from Andy or Tom)
DESCRIPTION:Volunteer makes rounds to all those who wish to receive communion.
URL:https://reenaseniorliving.com/event-calendar/communion-catholic-rounds-from-andy-or-tom-22/
LOCATION:Reena
CATEGORIES:Assisted Living,Legacy Court
END:VEVENT
BEGIN:VEVENT
DTSTART;TZID=America/Chicago:20251012T173000
DTEND;TZID=America/Chicago:20251012T193000
DTSTAMP:20260421T210211
CREATED:20250917T071906Z
LAST-MODIFIED:20251012T074922Z
UID:10002279-1760290200-1760297400@reenaseniorliving.com
SUMMARY:Resident Run Social Time - Balcony\, Activity Room or Pub.
DESCRIPTION:
URL:https://reenaseniorliving.com/event-calendar/social-and-game-time-balcony-activity-room-or-pub-spaces-24/
LOCATION:Library
CATEGORIES:Assisted Living
END:VEVENT
BEGIN:VEVENT
DTSTART;TZID=America/Chicago:20251013T091500
DTEND;TZID=America/Chicago:20251013T094500
DTSTAMP:20260421T210211
CREATED:20250914T070405Z
LAST-MODIFIED:20251013T080407Z
UID:10002203-1760346900-1760348700@reenaseniorliving.com
SUMMARY:Movement with Kayla
DESCRIPTION:
URL:https://reenaseniorliving.com/event-calendar/movement-with-kayla-5/
LOCATION:Activity Room
CATEGORIES:Assisted Living
END:VEVENT
BEGIN:VEVENT
DTSTART;TZID=America/Chicago:20251013T094500
DTEND;TZID=America/Chicago:20251013T100500
DTSTAMP:20260421T210211
CREATED:20251003T073402Z
LAST-MODIFIED:20251013T080407Z
UID:10002488-1760348700-1760349900@reenaseniorliving.com
SUMMARY:TRYathlon - Walk 5 minutes\, Bike 5 minutes\, Arm Bike 1-2 minutes\, close with Gentle Stretch
DESCRIPTION:
URL:https://reenaseniorliving.com/event-calendar/tryathlon-walk-5-minutes-bike-5-minutes-arm-bike-1-2-minutes-end-with-gentle-stretch-2/
LOCATION:Activity Room
CATEGORIES:Assisted Living
END:VEVENT
BEGIN:VEVENT
DTSTART;TZID=America/Chicago:20251013T101500
DTEND;TZID=America/Chicago:20251013T103500
DTSTAMP:20260421T210211
CREATED:20250914T070405Z
LAST-MODIFIED:20251007T074907Z
UID:10002204-1760350500-1760351700@reenaseniorliving.com
SUMMARY:Walking in Hallway - Prep for next challenge - Meeting with Dawn and Kayla
DESCRIPTION:
URL:https://reenaseniorliving.com/event-calendar/walking-in-basement-hallway-prep-for-next-challenge-meeting-with-dawn-and-kayla-4/
LOCATION:Basement Hallway
CATEGORIES:Assisted Living
END:VEVENT
BEGIN:VEVENT
DTSTART;TZID=America/Chicago:20251013T101500
DTEND;TZID=America/Chicago:20251013T110000
DTSTAMP:20260421T210211
CREATED:20250914T051916Z
LAST-MODIFIED:20251013T080407Z
UID:10002195-1760350500-1760353200@reenaseniorliving.com
SUMMARY:Lutheran Service with Julie - Legacy Court
DESCRIPTION:
URL:https://reenaseniorliving.com/event-calendar/lutheran-service-with-julie-legacy-court-5/
LOCATION:Legacy Court
CATEGORIES:Assisted Living,Legacy Court
END:VEVENT
BEGIN:VEVENT
DTSTART;TZID=America/Chicago:20251013T123000
DTEND;TZID=America/Chicago:20251013T130000
DTSTAMP:20260421T210211
CREATED:20250920T071909Z
LAST-MODIFIED:20251013T080407Z
UID:10002324-1760358600-1760360400@reenaseniorliving.com
SUMMARY:Rosary with Dorothy.
DESCRIPTION:
URL:https://reenaseniorliving.com/event-calendar/rosary-with-dorothy-4/
LOCATION:Pub
CATEGORIES:Assisted Living
END:VEVENT
END:VCALENDAR