BEGIN:VCALENDAR
VERSION:2.0
PRODID:-//Reena Senior Living - ECPv6.11.2.1//NONSGML v1.0//EN
CALSCALE:GREGORIAN
METHOD:PUBLISH
X-ORIGINAL-URL:https://reenaseniorliving.com
X-WR-CALDESC:Events for Reena Senior Living
REFRESH-INTERVAL;VALUE=DURATION:PT1H
X-Robots-Tag:noindex
X-PUBLISHED-TTL:PT1H
BEGIN:VTIMEZONE
TZID:America/Chicago
BEGIN:DAYLIGHT
TZOFFSETFROM:-0600
TZOFFSETTO:-0500
TZNAME:CDT
DTSTART:20250309T080000
END:DAYLIGHT
BEGIN:STANDARD
TZOFFSETFROM:-0500
TZOFFSETTO:-0600
TZNAME:CST
DTSTART:20251102T070000
END:STANDARD
END:VTIMEZONE
BEGIN:VEVENT
DTSTART;TZID=America/Chicago:20251012T173000
DTEND;TZID=America/Chicago:20251012T193000
DTSTAMP:20260421T210210
CREATED:20250917T071906Z
LAST-MODIFIED:20251012T074922Z
UID:10002279-1760290200-1760297400@reenaseniorliving.com
SUMMARY:Resident Run Social Time - Balcony\, Activity Room or Pub.
DESCRIPTION:
URL:https://reenaseniorliving.com/event-calendar/social-and-game-time-balcony-activity-room-or-pub-spaces-24/
LOCATION:Library
CATEGORIES:Assisted Living
END:VEVENT
BEGIN:VEVENT
DTSTART;TZID=America/Chicago:20251013T091500
DTEND;TZID=America/Chicago:20251013T094500
DTSTAMP:20260421T210211
CREATED:20250914T070405Z
LAST-MODIFIED:20251013T080407Z
UID:10002203-1760346900-1760348700@reenaseniorliving.com
SUMMARY:Movement with Kayla
DESCRIPTION:
URL:https://reenaseniorliving.com/event-calendar/movement-with-kayla-5/
LOCATION:Activity Room
CATEGORIES:Assisted Living
END:VEVENT
BEGIN:VEVENT
DTSTART;TZID=America/Chicago:20251013T094500
DTEND;TZID=America/Chicago:20251013T100500
DTSTAMP:20260421T210211
CREATED:20251003T073402Z
LAST-MODIFIED:20251013T080407Z
UID:10002488-1760348700-1760349900@reenaseniorliving.com
SUMMARY:TRYathlon - Walk 5 minutes\, Bike 5 minutes\, Arm Bike 1-2 minutes\, close with Gentle Stretch
DESCRIPTION:
URL:https://reenaseniorliving.com/event-calendar/tryathlon-walk-5-minutes-bike-5-minutes-arm-bike-1-2-minutes-end-with-gentle-stretch-2/
LOCATION:Activity Room
CATEGORIES:Assisted Living
END:VEVENT
BEGIN:VEVENT
DTSTART;TZID=America/Chicago:20251013T101500
DTEND;TZID=America/Chicago:20251013T103500
DTSTAMP:20260421T210211
CREATED:20250914T070405Z
LAST-MODIFIED:20251007T074907Z
UID:10002204-1760350500-1760351700@reenaseniorliving.com
SUMMARY:Walking in Hallway - Prep for next challenge - Meeting with Dawn and Kayla
DESCRIPTION:
URL:https://reenaseniorliving.com/event-calendar/walking-in-basement-hallway-prep-for-next-challenge-meeting-with-dawn-and-kayla-4/
LOCATION:Basement Hallway
CATEGORIES:Assisted Living
END:VEVENT
BEGIN:VEVENT
DTSTART;TZID=America/Chicago:20251013T101500
DTEND;TZID=America/Chicago:20251013T110000
DTSTAMP:20260421T210211
CREATED:20250914T051916Z
LAST-MODIFIED:20251013T080407Z
UID:10002195-1760350500-1760353200@reenaseniorliving.com
SUMMARY:Lutheran Service with Julie - Legacy Court
DESCRIPTION:
URL:https://reenaseniorliving.com/event-calendar/lutheran-service-with-julie-legacy-court-5/
LOCATION:Legacy Court
CATEGORIES:Assisted Living,Legacy Court
END:VEVENT
BEGIN:VEVENT
DTSTART;TZID=America/Chicago:20251013T123000
DTEND;TZID=America/Chicago:20251013T130000
DTSTAMP:20260421T210211
CREATED:20250920T071909Z
LAST-MODIFIED:20251013T080407Z
UID:10002324-1760358600-1760360400@reenaseniorliving.com
SUMMARY:Rosary with Dorothy.
DESCRIPTION:
URL:https://reenaseniorliving.com/event-calendar/rosary-with-dorothy-4/
LOCATION:Pub
CATEGORIES:Assisted Living
END:VEVENT
BEGIN:VEVENT
DTSTART;TZID=America/Chicago:20251013T130000
DTEND;TZID=America/Chicago:20251013T150000
DTSTAMP:20260421T210211
CREATED:20251008T074904Z
LAST-MODIFIED:20251013T080407Z
UID:10002576-1760360400-1760367600@reenaseniorliving.com
SUMMARY:Green Thumbs - Winterizing & Transplanting - Activity Room and Patio - All are welcome.
DESCRIPTION:
URL:https://reenaseniorliving.com/event-calendar/green-thumbs-winterizing-transplanting/
LOCATION:Activity Room
CATEGORIES:Assisted Living
END:VEVENT
BEGIN:VEVENT
DTSTART;TZID=America/Chicago:20251013T133000
DTEND;TZID=America/Chicago:20251013T143000
DTSTAMP:20260421T210211
CREATED:20250914T070405Z
LAST-MODIFIED:20251007T074908Z
UID:10002205-1760362200-1760365800@reenaseniorliving.com
SUMMARY:Bingo
DESCRIPTION:
URL:https://reenaseniorliving.com/event-calendar/bingo-44/
LOCATION:Activity Room
CATEGORIES:Assisted Living
END:VEVENT
BEGIN:VEVENT
DTSTART;TZID=America/Chicago:20251013T173000
DTEND;TZID=America/Chicago:20251013T193000
DTSTAMP:20260421T210211
CREATED:20250917T071907Z
LAST-MODIFIED:20251013T080407Z
UID:10002280-1760376600-1760383800@reenaseniorliving.com
SUMMARY:Resident Run Social Time - Balcony\, Activity Room or Pub.
DESCRIPTION:
URL:https://reenaseniorliving.com/event-calendar/social-and-game-time-balcony-activity-room-or-pub-spaces-25/
LOCATION:Library
CATEGORIES:Assisted Living
END:VEVENT
BEGIN:VEVENT
DTSTART;TZID=America/Chicago:20251013T190000
DTEND;TZID=America/Chicago:20251013T202000
DTSTAMP:20260421T210211
CREATED:20251006T074903Z
LAST-MODIFIED:20251009T074913Z
UID:10002548-1760382000-1760386800@reenaseniorliving.com
SUMMARY:FAHS Orchestra and Choir Concert
DESCRIPTION:
URL:https://reenaseniorliving.com/event-calendar/fahs-orchestra-and-choir-concert/
LOCATION:Bus
CATEGORIES:Assisted Living
END:VEVENT
BEGIN:VEVENT
DTSTART;TZID=America/Chicago:20251014T091500
DTEND;TZID=America/Chicago:20251014T094500
DTSTAMP:20260421T210211
CREATED:20250915T070403Z
LAST-MODIFIED:20251014T080451Z
UID:10002216-1760433300-1760435100@reenaseniorliving.com
SUMMARY:Movement Class with Kayla
DESCRIPTION:
URL:https://reenaseniorliving.com/event-calendar/movement-class-with-kayla-66/
LOCATION:Activity Room
CATEGORIES:Assisted Living
END:VEVENT
BEGIN:VEVENT
DTSTART;TZID=America/Chicago:20251014T094500
DTEND;TZID=America/Chicago:20251014T101500
DTSTAMP:20260421T210211
CREATED:20250915T070404Z
LAST-MODIFIED:20250930T071920Z
UID:10002217-1760435100-1760436900@reenaseniorliving.com
SUMMARY:Qi gong Video- Therapy Group Guided Via YouTube
DESCRIPTION:
URL:https://reenaseniorliving.com/event-calendar/qi-gong-video-therapy-group-intermediate-class-3/
LOCATION:Activity Room
CATEGORIES:Assisted Living
END:VEVENT
BEGIN:VEVENT
DTSTART;TZID=America/Chicago:20251014T094500
DTEND;TZID=America/Chicago:20251014T111500
DTSTAMP:20260421T210211
CREATED:20251008T074904Z
LAST-MODIFIED:20251014T080451Z
UID:10002577-1760435100-1760440500@reenaseniorliving.com
SUMMARY:Green Thumbs Garden Group - Winterizing & Propagation
DESCRIPTION:
URL:https://reenaseniorliving.com/event-calendar/green-thumbs-garden-group-winterizing-propagation/
LOCATION:Activity Room
CATEGORIES:Assisted Living
END:VEVENT
BEGIN:VEVENT
DTSTART;TZID=America/Chicago:20251014T130000
DTEND;TZID=America/Chicago:20251014T134500
DTSTAMP:20260421T210211
CREATED:20250915T070404Z
LAST-MODIFIED:20251014T080451Z
UID:10002218-1760446800-1760449500@reenaseniorliving.com
SUMMARY:Dr. Bill - Deep Dive on The Heart of the Matter - Live
DESCRIPTION:
URL:https://reenaseniorliving.com/event-calendar/deep-dive-2/
LOCATION:Activity Room
CATEGORIES:Assisted Living
END:VEVENT
BEGIN:VEVENT
DTSTART;TZID=America/Chicago:20251014T134500
DTEND;TZID=America/Chicago:20251014T160000
DTSTAMP:20260421T210211
CREATED:20251003T073403Z
LAST-MODIFIED:20251014T080451Z
UID:10002490-1760449500-1760457600@reenaseniorliving.com
SUMMARY:Nail Spa Day - Sign-up
DESCRIPTION:
URL:https://reenaseniorliving.com/event-calendar/nail-spa-day-3/
LOCATION:Activity Room
CATEGORIES:Assisted Living
END:VEVENT
BEGIN:VEVENT
DTSTART;TZID=America/Chicago:20251014T141500
DTEND;TZID=America/Chicago:20251014T150000
DTSTAMP:20260421T210211
CREATED:20250915T051917Z
LAST-MODIFIED:20251002T073413Z
UID:10002214-1760451300-1760454000@reenaseniorliving.com
SUMMARY:Sing a Long Karaoke on TV with Anne
DESCRIPTION:
URL:https://reenaseniorliving.com/event-calendar/sing-a-long-karaoke-on-tv-with-anne-7/
LOCATION:Activity Room
CATEGORIES:Assisted Living,Legacy Court
END:VEVENT
BEGIN:VEVENT
DTSTART;TZID=America/Chicago:20251014T160000
DTEND;TZID=America/Chicago:20251014T163000
DTSTAMP:20260421T210211
CREATED:20250915T070404Z
LAST-MODIFIED:20251007T074908Z
UID:10002219-1760457600-1760459400@reenaseniorliving.com
SUMMARY:Green Thumbs Garden Group
DESCRIPTION:
URL:https://reenaseniorliving.com/event-calendar/green-thumbs-garden-group-68/
LOCATION:Activity Room Patio
CATEGORIES:Assisted Living
END:VEVENT
BEGIN:VEVENT
DTSTART;TZID=America/Chicago:20251014T160500
DTEND;TZID=America/Chicago:20251014T162500
DTSTAMP:20260421T210211
CREATED:20251003T073403Z
LAST-MODIFIED:20251014T080451Z
UID:10002489-1760457900-1760459100@reenaseniorliving.com
SUMMARY:Qi gong Video- Therapy Group Guided Via YouTube
DESCRIPTION:
URL:https://reenaseniorliving.com/event-calendar/qi-gong-video-therapy-group-guided-via-youtube-3/
LOCATION:Activity Room
CATEGORIES:Assisted Living
END:VEVENT
BEGIN:VEVENT
DTSTART;TZID=America/Chicago:20251014T173000
DTEND;TZID=America/Chicago:20251014T193000
DTSTAMP:20260421T210211
CREATED:20250917T071907Z
LAST-MODIFIED:20251014T080451Z
UID:10002281-1760463000-1760470200@reenaseniorliving.com
SUMMARY:Resident Run Social Time - Balcony\, Activity Room or Pub.
DESCRIPTION:
URL:https://reenaseniorliving.com/event-calendar/social-and-game-time-balcony-activity-room-or-pub-spaces-26/
LOCATION:Library
CATEGORIES:Assisted Living
END:VEVENT
BEGIN:VEVENT
DTSTART;TZID=America/Chicago:20251014T190500
DTEND;TZID=America/Chicago:20251014T220500
DTSTAMP:20260421T210211
CREATED:20251014T060450Z
LAST-MODIFIED:20251014T080451Z
UID:10002660-1760468700-1760479500@reenaseniorliving.com
SUMMARY:Brewers Play LA Dodger at 7:08pm
DESCRIPTION:
URL:https://reenaseniorliving.com/event-calendar/brewers-play-la-dodger-at-708pm/
LOCATION:TV
CATEGORIES:Assisted Living,Legacy Court
END:VEVENT
BEGIN:VEVENT
DTSTART;TZID=America/Chicago:20251015T090000
DTEND;TZID=America/Chicago:20251015T093000
DTSTAMP:20260421T210211
CREATED:20250920T051920Z
LAST-MODIFIED:20251009T074914Z
UID:10002315-1760518800-1760520600@reenaseniorliving.com
SUMMARY:I Love Lucy Day!
DESCRIPTION:
URL:https://reenaseniorliving.com/event-calendar/i-love-lucy-day/
CATEGORIES:Assisted Living,Legacy Court
END:VEVENT
BEGIN:VEVENT
DTSTART;TZID=America/Chicago:20251015T091500
DTEND;TZID=America/Chicago:20251015T094500
DTSTAMP:20260421T210211
CREATED:20250916T070405Z
LAST-MODIFIED:20251015T081925Z
UID:10002231-1760519700-1760521500@reenaseniorliving.com
SUMMARY:Movement Class with Kayla
DESCRIPTION:
URL:https://reenaseniorliving.com/event-calendar/movement-class-with-kayla-67/
LOCATION:Activity Room
CATEGORIES:Assisted Living
END:VEVENT
BEGIN:VEVENT
DTSTART;TZID=America/Chicago:20251015T094500
DTEND;TZID=America/Chicago:20251015T100000
DTSTAMP:20260421T210211
CREATED:20251003T073403Z
LAST-MODIFIED:20251007T074908Z
UID:10002491-1760521500-1760522400@reenaseniorliving.com
SUMMARY:Biking with Music
DESCRIPTION:
URL:https://reenaseniorliving.com/event-calendar/biking-with-music-5/
LOCATION:Activity Room
CATEGORIES:Assisted Living
END:VEVENT
BEGIN:VEVENT
DTSTART;TZID=America/Chicago:20251015T094500
DTEND;TZID=America/Chicago:20251015T100000
DTSTAMP:20260421T210211
CREATED:20251003T073403Z
LAST-MODIFIED:20251008T074905Z
UID:10002492-1760521500-1760522400@reenaseniorliving.com
SUMMARY:Walking Group
DESCRIPTION:
URL:https://reenaseniorliving.com/event-calendar/walking-group-28/
LOCATION:Activity Room
CATEGORIES:Assisted Living
END:VEVENT
BEGIN:VEVENT
DTSTART;TZID=America/Chicago:20251015T100000
DTEND;TZID=America/Chicago:20251015T101500
DTSTAMP:20260421T210211
CREATED:20250916T051918Z
LAST-MODIFIED:20251015T081925Z
UID:10002220-1760522400-1760523300@reenaseniorliving.com
SUMMARY:Sing along before Catholic Service.
DESCRIPTION:We will assist you to go next door.
URL:https://reenaseniorliving.com/event-calendar/sing-along-before-catholic-service-20/
LOCATION:Legacy Court
CATEGORIES:Assisted Living,Legacy Court
END:VEVENT
BEGIN:VEVENT
DTSTART;TZID=America/Chicago:20251015T101500
DTEND;TZID=America/Chicago:20251015T111500
DTSTAMP:20260421T210211
CREATED:20250916T051918Z
LAST-MODIFIED:20251015T081925Z
UID:10002221-1760523300-1760526900@reenaseniorliving.com
SUMMARY:Catholic Service at Legacy Court
DESCRIPTION:
URL:https://reenaseniorliving.com/event-calendar/catholic-service-21/
LOCATION:Legacy Court
CATEGORIES:Assisted Living,Legacy Court
END:VEVENT
BEGIN:VEVENT
DTSTART;TZID=America/Chicago:20251015T130000
DTEND;TZID=America/Chicago:20251015T140000
DTSTAMP:20260421T210211
CREATED:20250916T051918Z
LAST-MODIFIED:20251015T081925Z
UID:10002225-1760533200-1760536800@reenaseniorliving.com
SUMMARY:Arm Crank Intergenerational Week - Come join us!
DESCRIPTION:
URL:https://reenaseniorliving.com/event-calendar/spark-competition-2/
LOCATION:Activity Room
CATEGORIES:Assisted Living,Legacy Court
END:VEVENT
BEGIN:VEVENT
DTSTART;TZID=America/Chicago:20251015T140000
DTEND;TZID=America/Chicago:20251015T145000
DTSTAMP:20260421T210211
CREATED:20250916T051918Z
LAST-MODIFIED:20251015T081925Z
UID:10002226-1760536800-1760539800@reenaseniorliving.com
SUMMARY:St. Paul's Lutheran Service - Legacy Court
DESCRIPTION:
URL:https://reenaseniorliving.com/event-calendar/st-pauls-lutheran-service-6/
LOCATION:Legacy Court
CATEGORIES:Assisted Living,Legacy Court
END:VEVENT
BEGIN:VEVENT
DTSTART;TZID=America/Chicago:20251015T160000
DTEND;TZID=America/Chicago:20251015T163000
DTSTAMP:20260421T210211
CREATED:20250916T070405Z
LAST-MODIFIED:20251015T081926Z
UID:10002232-1760544000-1760545800@reenaseniorliving.com
SUMMARY:Green Thumbs Garden Group
DESCRIPTION:
URL:https://reenaseniorliving.com/event-calendar/green-thumbs-garden-group-69/
LOCATION:Activity Room Patio
CATEGORIES:Assisted Living
END:VEVENT
BEGIN:VEVENT
DTSTART;TZID=America/Chicago:20251015T173000
DTEND;TZID=America/Chicago:20251015T190000
DTSTAMP:20260421T210211
CREATED:20250916T070406Z
LAST-MODIFIED:20251015T081926Z
UID:10002233-1760549400-1760554800@reenaseniorliving.com
SUMMARY:Hand & Foot\, Garbage\, or Jenga with your peers. (AR)
DESCRIPTION:
URL:https://reenaseniorliving.com/event-calendar/hand-foot-garbage-or-jenga-with-your-peers-ar-2/
LOCATION:Activity Room
CATEGORIES:Assisted Living
END:VEVENT
END:VCALENDAR