BEGIN:VCALENDAR
VERSION:2.0
PRODID:-//Reena Senior Living - ECPv6.11.2.1//NONSGML v1.0//EN
CALSCALE:GREGORIAN
METHOD:PUBLISH
X-ORIGINAL-URL:https://reenaseniorliving.com
X-WR-CALDESC:Events for Reena Senior Living
REFRESH-INTERVAL;VALUE=DURATION:PT1H
X-Robots-Tag:noindex
X-PUBLISHED-TTL:PT1H
BEGIN:VTIMEZONE
TZID:America/Chicago
BEGIN:DAYLIGHT
TZOFFSETFROM:-0600
TZOFFSETTO:-0500
TZNAME:CDT
DTSTART:20250309T080000
END:DAYLIGHT
BEGIN:STANDARD
TZOFFSETFROM:-0500
TZOFFSETTO:-0600
TZNAME:CST
DTSTART:20251102T070000
END:STANDARD
END:VTIMEZONE
BEGIN:VEVENT
DTSTART;TZID=America/Chicago:20251017T130000
DTEND;TZID=America/Chicago:20251017T134500
DTSTAMP:20260421T210240
CREATED:20251003T073403Z
LAST-MODIFIED:20251017T081902Z
UID:10002493-1760706000-1760708700@reenaseniorliving.com
SUMMARY:The Big Show - Weekly update on Lifespark Challenge
DESCRIPTION:
URL:https://reenaseniorliving.com/event-calendar/the-big-show-weekly-update-on-lifespark-challenge-2/
LOCATION:Activity Room
CATEGORIES:Assisted Living
END:VEVENT
BEGIN:VEVENT
DTSTART;TZID=America/Chicago:20251017T140000
DTEND;TZID=America/Chicago:20251017T143000
DTSTAMP:20260421T210241
CREATED:20250918T071908Z
LAST-MODIFIED:20251017T081902Z
UID:10002302-1760709600-1760711400@reenaseniorliving.com
SUMMARY:Green Thumbs Garden Group
DESCRIPTION:
URL:https://reenaseniorliving.com/event-calendar/green-thumbs-garden-group-73/
LOCATION:Activity Room Patio
CATEGORIES:Assisted Living
END:VEVENT
BEGIN:VEVENT
DTSTART;TZID=America/Chicago:20251017T150000
DTEND;TZID=America/Chicago:20251017T151500
DTSTAMP:20260421T210241
CREATED:20250918T071908Z
LAST-MODIFIED:20251017T081903Z
UID:10002303-1760713200-1760714100@reenaseniorliving.com
SUMMARY:Your weekly activity packets will be delivered.
DESCRIPTION:
URL:https://reenaseniorliving.com/event-calendar/your-weekly-activity-packets-will-be-delivered-23/
LOCATION:Activity Room
CATEGORIES:Assisted Living
END:VEVENT
BEGIN:VEVENT
DTSTART;TZID=America/Chicago:20251017T160500
DTEND;TZID=America/Chicago:20251017T162500
DTSTAMP:20260421T210241
CREATED:20251003T073403Z
LAST-MODIFIED:20251017T081903Z
UID:10002494-1760717100-1760718300@reenaseniorliving.com
SUMMARY:Qi gong Video- Therapy Group Guided Via YouTube
DESCRIPTION:
URL:https://reenaseniorliving.com/event-calendar/qi-gong-video-therapy-group-guided-via-youtube-4/
LOCATION:Activity Room
CATEGORIES:Assisted Living
END:VEVENT
BEGIN:VEVENT
DTSTART;TZID=America/Chicago:20251017T173000
DTEND;TZID=America/Chicago:20251017T193000
DTSTAMP:20260421T210241
CREATED:20250918T071908Z
LAST-MODIFIED:20251017T081903Z
UID:10002304-1760722200-1760729400@reenaseniorliving.com
SUMMARY:Resident Run Social Time - Balcony\, Activity Room or Pub.
DESCRIPTION:
URL:https://reenaseniorliving.com/event-calendar/social-and-game-time-balcony-activity-room-or-pub-spaces-29/
LOCATION:Library
CATEGORIES:Assisted Living
END:VEVENT
BEGIN:VEVENT
DTSTART;TZID=America/Chicago:20251017T193800
DTEND;TZID=America/Chicago:20251017T223800
DTSTAMP:20260421T210241
CREATED:20251014T060527Z
LAST-MODIFIED:20251017T081903Z
UID:10002662-1760729880-1760740680@reenaseniorliving.com
SUMMARY:Brewers play LA Dodgers! Let's Go Brewers Let's Go!
DESCRIPTION:
URL:https://reenaseniorliving.com/event-calendar/brewers-play-la-dodgers-lets-go-brewers-lets-go/
CATEGORIES:Assisted Living,Legacy Court
END:VEVENT
BEGIN:VEVENT
DTSTART;TZID=America/Chicago:20251018T133000
DTEND;TZID=America/Chicago:20251018T143000
DTSTAMP:20260421T210241
CREATED:20251008T074906Z
LAST-MODIFIED:20251018T081901Z
UID:10002579-1760794200-1760797800@reenaseniorliving.com
SUMMARY:Bingo
DESCRIPTION:
URL:https://reenaseniorliving.com/event-calendar/bingo-50/
LOCATION:Activity Room
CATEGORIES:Assisted Living
END:VEVENT
BEGIN:VEVENT
DTSTART;TZID=America/Chicago:20251018T173000
DTEND;TZID=America/Chicago:20251018T193000
DTSTAMP:20260421T210241
CREATED:20250919T071907Z
LAST-MODIFIED:20251018T081901Z
UID:10002308-1760808600-1760815800@reenaseniorliving.com
SUMMARY:Resident Run Social Time - Balcony\, Activity Room or Pub.
DESCRIPTION:
URL:https://reenaseniorliving.com/event-calendar/social-and-game-time-balcony-activity-room-or-pub-spaces-30/
LOCATION:Library
CATEGORIES:Assisted Living
END:VEVENT
BEGIN:VEVENT
DTSTART;TZID=America/Chicago:20251018T190800
DTEND;TZID=America/Chicago:20251018T220800
DTSTAMP:20260421T210241
CREATED:20251014T060527Z
LAST-MODIFIED:20251018T081901Z
UID:10002663-1760814480-1760825280@reenaseniorliving.com
SUMMARY:Brewers Play!
DESCRIPTION:
URL:https://reenaseniorliving.com/event-calendar/brewers-play/
LOCATION:TV
CATEGORIES:Assisted Living,Legacy Court
END:VEVENT
BEGIN:VEVENT
DTSTART;TZID=America/Chicago:20251019T100000
DTEND;TZID=America/Chicago:20251019T110000
DTSTAMP:20260421T210241
CREATED:20251015T081925Z
LAST-MODIFIED:20251016T081900Z
UID:10002688-1760868000-1760871600@reenaseniorliving.com
SUMMARY:Trick or Treat - This week sign-up in the binder located in the Activity Room. When: Sun. Oct. 26th
DESCRIPTION:
URL:https://reenaseniorliving.com/event-calendar/trick-or-treat-this-week-sign-up-in-the-binder-located-in-the-activity-room-when-sun-oct-26th/
LOCATION:Activity Room
CATEGORIES:Assisted Living
END:VEVENT
BEGIN:VEVENT
DTSTART;TZID=America/Chicago:20251019T130000
DTEND;TZID=America/Chicago:20251019T140000
DTSTAMP:20260421T210241
CREATED:20250920T051922Z
LAST-MODIFIED:20251019T081903Z
UID:10002316-1760878800-1760882400@reenaseniorliving.com
SUMMARY:Communion (Catholic Rounds from Andy or Tom)
DESCRIPTION:Volunteer makes rounds to all those who wish to receive communion.
URL:https://reenaseniorliving.com/event-calendar/communion-catholic-rounds-from-andy-or-tom-23/
LOCATION:Reena
CATEGORIES:Assisted Living,Legacy Court
END:VEVENT
BEGIN:VEVENT
DTSTART;TZID=America/Chicago:20251019T173000
DTEND;TZID=America/Chicago:20251019T193000
DTSTAMP:20260421T210241
CREATED:20250920T071911Z
LAST-MODIFIED:20251019T081903Z
UID:10002325-1760895000-1760902200@reenaseniorliving.com
SUMMARY:Resident Run Social Time - Balcony\, Activity Room or Pub.
DESCRIPTION:
URL:https://reenaseniorliving.com/event-calendar/resident-run-social-time-balcony-activity-room-or-pub/
LOCATION:Library
CATEGORIES:Assisted Living
END:VEVENT
BEGIN:VEVENT
DTSTART;TZID=America/Chicago:20251020T091500
DTEND;TZID=America/Chicago:20251020T094500
DTSTAMP:20260421T210241
CREATED:20250921T071943Z
LAST-MODIFIED:20251020T081902Z
UID:10002336-1760951700-1760953500@reenaseniorliving.com
SUMMARY:Movement with Kayla
DESCRIPTION:
URL:https://reenaseniorliving.com/event-calendar/movement-with-kayla-6/
LOCATION:Activity Room
CATEGORIES:Assisted Living
END:VEVENT
BEGIN:VEVENT
DTSTART;TZID=America/Chicago:20251020T094500
DTEND;TZID=America/Chicago:20251020T100500
DTSTAMP:20260421T210241
CREATED:20251003T073404Z
LAST-MODIFIED:20251016T081900Z
UID:10002495-1760953500-1760954700@reenaseniorliving.com
SUMMARY:TRYathlon - Walk 5 minutes\, Bike 5 minutes\, Arm Bike 1-2 minutes\, close with Gentle Stretch
DESCRIPTION:
URL:https://reenaseniorliving.com/event-calendar/tryathlon-walk-5-minutes-bike-5-minutes-arm-bike-1-2-minutes-end-with-gentle-stretch-3/
LOCATION:Activity Room
CATEGORIES:Assisted Living
END:VEVENT
BEGIN:VEVENT
DTSTART;TZID=America/Chicago:20251020T101500
DTEND;TZID=America/Chicago:20251020T103500
DTSTAMP:20260421T210241
CREATED:20250921T071943Z
LAST-MODIFIED:20251009T074915Z
UID:10002338-1760955300-1760956500@reenaseniorliving.com
SUMMARY:Walking in Hallway - Prep for next challenge - Meeting with Dawn and Kayla
DESCRIPTION:
URL:https://reenaseniorliving.com/event-calendar/walking-in-hallway-prep-for-next-challenge-meeting-with-dawn-and-kayla/
LOCATION:Basement Hallway
CATEGORIES:Assisted Living
END:VEVENT
BEGIN:VEVENT
DTSTART;TZID=America/Chicago:20251020T101500
DTEND;TZID=America/Chicago:20251020T113000
DTSTAMP:20260421T210241
CREATED:20250921T071943Z
LAST-MODIFIED:20251020T081902Z
UID:10002337-1760955300-1760959800@reenaseniorliving.com
SUMMARY:Trinity Lutheran Visit with Coffee Social Hour
DESCRIPTION:Coffee will be offered. Please join us.
URL:https://reenaseniorliving.com/event-calendar/trinity-lutheran-guests-visit-with-coffee-social-hour-all-are-welcome-6/
LOCATION:Activity Room
CATEGORIES:Assisted Living
END:VEVENT
BEGIN:VEVENT
DTSTART;TZID=America/Chicago:20251020T123000
DTEND;TZID=America/Chicago:20251020T130000
DTSTAMP:20260421T210241
CREATED:20250921T071943Z
LAST-MODIFIED:20251020T081902Z
UID:10002339-1760963400-1760965200@reenaseniorliving.com
SUMMARY:Rosary with Dorothy.
DESCRIPTION:
URL:https://reenaseniorliving.com/event-calendar/rosary-with-dorothy-5/
LOCATION:Pub
CATEGORIES:Assisted Living
END:VEVENT
BEGIN:VEVENT
DTSTART;TZID=America/Chicago:20251020T130000
DTEND;TZID=America/Chicago:20251020T133000
DTSTAMP:20260421T210241
CREATED:20251017T081901Z
LAST-MODIFIED:20251020T081902Z
UID:10002715-1760965200-1760967000@reenaseniorliving.com
SUMMARY:Reminder - sign-up for Trick or Treating candy handout - We provide Candy & Costumes
DESCRIPTION:
URL:https://reenaseniorliving.com/event-calendar/reminder-sign-up-for-trick-or-treating-candy-handout-we-provide-candy-costumes/
LOCATION:Activity Room
CATEGORIES:Assisted Living
END:VEVENT
BEGIN:VEVENT
DTSTART;TZID=America/Chicago:20251020T133000
DTEND;TZID=America/Chicago:20251020T143000
DTSTAMP:20260421T210241
CREATED:20250921T071944Z
LAST-MODIFIED:20251020T081902Z
UID:10002340-1760967000-1760970600@reenaseniorliving.com
SUMMARY:Bingo
DESCRIPTION:
URL:https://reenaseniorliving.com/event-calendar/bingo-46/
LOCATION:Activity Room
CATEGORIES:Assisted Living
END:VEVENT
BEGIN:VEVENT
DTSTART;TZID=America/Chicago:20251020T150000
DTEND;TZID=America/Chicago:20251020T153500
DTSTAMP:20260421T210241
CREATED:20250921T071944Z
LAST-MODIFIED:20251020T081902Z
UID:10002341-1760972400-1760974500@reenaseniorliving.com
SUMMARY:Sing-a-long with guests from Three Pillars Senior Living
DESCRIPTION:
URL:https://reenaseniorliving.com/event-calendar/sing-a-long-with-guests-from-three-pillars-senior-living/
LOCATION:Activity Room
CATEGORIES:Assisted Living
END:VEVENT
BEGIN:VEVENT
DTSTART;TZID=America/Chicago:20251020T173000
DTEND;TZID=America/Chicago:20251020T193000
DTSTAMP:20260421T210241
CREATED:20250921T071944Z
LAST-MODIFIED:20251016T081900Z
UID:10002342-1760981400-1760988600@reenaseniorliving.com
SUMMARY:Resident Run Social Time - Balcony\, Activity Room or Pub.
DESCRIPTION:
URL:https://reenaseniorliving.com/event-calendar/resident-run-social-time-balcony-activity-room-or-pub-2/
LOCATION:Library
CATEGORIES:Assisted Living
END:VEVENT
BEGIN:VEVENT
DTSTART;TZID=America/Chicago:20251021T091500
DTEND;TZID=America/Chicago:20251021T094500
DTSTAMP:20260421T210241
CREATED:20250922T071906Z
LAST-MODIFIED:20251021T081902Z
UID:10002353-1761038100-1761039900@reenaseniorliving.com
SUMMARY:Movement Class with Kayla
DESCRIPTION:
URL:https://reenaseniorliving.com/event-calendar/movement-class-with-kayla-70/
LOCATION:Activity Room
CATEGORIES:Assisted Living
END:VEVENT
BEGIN:VEVENT
DTSTART;TZID=America/Chicago:20251021T100000
DTEND;TZID=America/Chicago:20251021T110000
DTSTAMP:20260421T210241
CREATED:20250922T071906Z
LAST-MODIFIED:20251021T081902Z
UID:10002354-1761040800-1761044400@reenaseniorliving.com
SUMMARY:Fox Talk - Fox Therapy will share the importance of balance followed by workshop with us.
DESCRIPTION:
URL:https://reenaseniorliving.com/event-calendar/fox-talk-fox-therapy-will-share-the-importance-of-balance-followed-by-workshop-with-us/
LOCATION:Activity Room
CATEGORIES:Assisted Living
END:VEVENT
BEGIN:VEVENT
DTSTART;TZID=America/Chicago:20251021T130000
DTEND;TZID=America/Chicago:20251021T134000
DTSTAMP:20260421T210241
CREATED:20250922T071906Z
LAST-MODIFIED:20251021T081902Z
UID:10002355-1761051600-1761054000@reenaseniorliving.com
SUMMARY:Deep Dive with Dr. Bill: The Heart of the Matter - Topic: Heart Health - Serving Fresh Blueberries
DESCRIPTION:
URL:https://reenaseniorliving.com/event-calendar/deep-dive-3/
LOCATION:Activity Room
CATEGORIES:Assisted Living
END:VEVENT
BEGIN:VEVENT
DTSTART;TZID=America/Chicago:20251021T140000
DTEND;TZID=America/Chicago:20251021T143000
DTSTAMP:20260421T210241
CREATED:20250922T071907Z
LAST-MODIFIED:20251009T074916Z
UID:10002356-1761055200-1761057000@reenaseniorliving.com
SUMMARY:Green Thumbs Garden Group
DESCRIPTION:
URL:https://reenaseniorliving.com/event-calendar/green-thumbs-garden-group-74/
LOCATION:Activity Room Patio
CATEGORIES:Assisted Living
END:VEVENT
BEGIN:VEVENT
DTSTART;TZID=America/Chicago:20251021T143000
DTEND;TZID=America/Chicago:20251021T160000
DTSTAMP:20260421T210241
CREATED:20251010T074907Z
LAST-MODIFIED:20251016T081901Z
UID:10002618-1761057000-1761062400@reenaseniorliving.com
SUMMARY:Movie in the Theatre - Vote in Activity Room Binder
DESCRIPTION:
URL:https://reenaseniorliving.com/event-calendar/movie-in-the-theatre-vote-in-activity-room-binder/
LOCATION:Theatre
CATEGORIES:Assisted Living
END:VEVENT
BEGIN:VEVENT
DTSTART;TZID=America/Chicago:20251021T160500
DTEND;TZID=America/Chicago:20251021T162500
DTSTAMP:20260421T210241
CREATED:20251003T073404Z
LAST-MODIFIED:20251009T074916Z
UID:10002496-1761062700-1761063900@reenaseniorliving.com
SUMMARY:Qi gong Video- Therapy Group Guided Via YouTube
DESCRIPTION:
URL:https://reenaseniorliving.com/event-calendar/qi-gong-video-therapy-group-guided-via-youtube-5/
LOCATION:Activity Room
CATEGORIES:Assisted Living
END:VEVENT
BEGIN:VEVENT
DTSTART;TZID=America/Chicago:20251021T170000
DTEND;TZID=America/Chicago:20251021T191500
DTSTAMP:20260421T210241
CREATED:20251017T081901Z
LAST-MODIFIED:20251021T081902Z
UID:10002716-1761066000-1761074100@reenaseniorliving.com
SUMMARY:Costume Check-Out Time with Laurie - Need a Costume for Halloween Trick or Treating?
DESCRIPTION:
URL:https://reenaseniorliving.com/event-calendar/costume-check-out-time-with-laurie-need-a-costume-for-halloween-trick-or-treating/
LOCATION:Activity Room
CATEGORIES:Assisted Living
END:VEVENT
BEGIN:VEVENT
DTSTART;TZID=America/Chicago:20251021T173000
DTEND;TZID=America/Chicago:20251021T193000
DTSTAMP:20260421T210241
CREATED:20250922T071907Z
LAST-MODIFIED:20251009T074916Z
UID:10002357-1761067800-1761075000@reenaseniorliving.com
SUMMARY:Resident Run Social Time - Balcony\, Activity Room or Pub.
DESCRIPTION:
URL:https://reenaseniorliving.com/event-calendar/resident-run-social-time-balcony-activity-room-or-pub-3/
LOCATION:Library
CATEGORIES:Assisted Living
END:VEVENT
BEGIN:VEVENT
DTSTART;TZID=America/Chicago:20251022T091500
DTEND;TZID=America/Chicago:20251022T094500
DTSTAMP:20260421T210241
CREATED:20250923T071920Z
LAST-MODIFIED:20251022T083415Z
UID:10002369-1761124500-1761126300@reenaseniorliving.com
SUMMARY:Movement Class with Kayla
DESCRIPTION:
URL:https://reenaseniorliving.com/event-calendar/movement-class-with-kayla-71/
LOCATION:Activity Room
CATEGORIES:Assisted Living
END:VEVENT
END:VCALENDAR