BEGIN:VCALENDAR
VERSION:2.0
PRODID:-//Reena Senior Living - ECPv6.11.2.1//NONSGML v1.0//EN
CALSCALE:GREGORIAN
METHOD:PUBLISH
X-ORIGINAL-URL:https://reenaseniorliving.com
X-WR-CALDESC:Events for Reena Senior Living
REFRESH-INTERVAL;VALUE=DURATION:PT1H
X-Robots-Tag:noindex
X-PUBLISHED-TTL:PT1H
BEGIN:VTIMEZONE
TZID:America/Chicago
BEGIN:DAYLIGHT
TZOFFSETFROM:-0600
TZOFFSETTO:-0500
TZNAME:CDT
DTSTART:20260308T080000
END:DAYLIGHT
BEGIN:STANDARD
TZOFFSETFROM:-0500
TZOFFSETTO:-0600
TZNAME:CST
DTSTART:20261101T070000
END:STANDARD
END:VTIMEZONE
BEGIN:VEVENT
DTSTART;TZID=America/Chicago:20260210T140000
DTEND;TZID=America/Chicago:20260210T143000
DTSTAMP:20260422T165434
CREATED:20260206T023407Z
LAST-MODIFIED:20260210T023405Z
UID:10004343-1770732000-1770733800@reenaseniorliving.com
SUMMARY:Lifespark Challenge Team Meeting
DESCRIPTION:
URL:https://reenaseniorliving.com/event-calendar/lifespark-challenge-team-meeting/
LOCATION:Activity Room
CATEGORIES:Assisted Living
END:VEVENT
BEGIN:VEVENT
DTSTART;TZID=America/Chicago:20260210T173000
DTEND;TZID=America/Chicago:20260210T193000
DTSTAMP:20260422T165434
CREATED:20260112T014917Z
LAST-MODIFIED:20260127T020416Z
UID:10003992-1770744600-1770751800@reenaseniorliving.com
SUMMARY:Resident Run Social Time in any Public Space.
DESCRIPTION:
URL:https://reenaseniorliving.com/event-calendar/resident-run-social-time-in-any-public-space-30/
CATEGORIES:Assisted Living
END:VEVENT
BEGIN:VEVENT
DTSTART;TZID=America/Chicago:20260210T174500
DTEND;TZID=America/Chicago:20260210T184500
DTSTAMP:20260422T165434
CREATED:20260112T014917Z
LAST-MODIFIED:20260210T023405Z
UID:10003991-1770745500-1770749100@reenaseniorliving.com
SUMMARY:Bingo Bash! Fun Prizes!
DESCRIPTION:
URL:https://reenaseniorliving.com/event-calendar/game-night-3/
LOCATION:Activity Room
CATEGORIES:Assisted Living
END:VEVENT
BEGIN:VEVENT
DTSTART;TZID=America/Chicago:20260211T091500
DTEND;TZID=America/Chicago:20260211T094500
DTSTAMP:20260422T165434
CREATED:20260113T020413Z
LAST-MODIFIED:20260211T023404Z
UID:10004001-1770801300-1770803100@reenaseniorliving.com
SUMMARY:Movement Class with Kayla
DESCRIPTION:
URL:https://reenaseniorliving.com/event-calendar/movement-class-with-kayla-138/
LOCATION:Activity Room
CATEGORIES:Assisted Living
END:VEVENT
BEGIN:VEVENT
DTSTART;TZID=America/Chicago:20260211T094500
DTEND;TZID=America/Chicago:20260211T100500
DTSTAMP:20260422T165434
CREATED:20260113T020413Z
LAST-MODIFIED:20260211T023404Z
UID:10004002-1770803100-1770804300@reenaseniorliving.com
SUMMARY:Wellness Walking Group
DESCRIPTION:
URL:https://reenaseniorliving.com/event-calendar/wellness-walking-group-self-paced-guided-by-community-life-wellness-team-3/
LOCATION:Activity Room
CATEGORIES:Assisted Living
END:VEVENT
BEGIN:VEVENT
DTSTART;TZID=America/Chicago:20260211T101500
DTEND;TZID=America/Chicago:20260211T111500
DTSTAMP:20260422T165434
CREATED:20260113T020413Z
LAST-MODIFIED:20260211T050406Z
UID:10004003-1770804900-1770808500@reenaseniorliving.com
SUMMARY:Catholic Service at Legacy Court
DESCRIPTION:
URL:https://reenaseniorliving.com/event-calendar/catholic-service-at-legacy-court-14/
LOCATION:Legacy Court
CATEGORIES:Assisted Living,Legacy Court
END:VEVENT
BEGIN:VEVENT
DTSTART;TZID=America/Chicago:20260211T134000
DTEND;TZID=America/Chicago:20260211T145500
DTSTAMP:20260422T165434
CREATED:20260113T020413Z
LAST-MODIFIED:20260211T023405Z
UID:10004004-1770817200-1770821700@reenaseniorliving.com
SUMMARY:Luther Elementary Visit - Vocational Group Trip - Join us!
DESCRIPTION:
URL:https://reenaseniorliving.com/event-calendar/luther-elementary-visit-vocational-group-trip-want-to-know-more-ask-us-all-about-it/
LOCATION:Bus
CATEGORIES:Assisted Living
END:VEVENT
BEGIN:VEVENT
DTSTART;TZID=America/Chicago:20260211T173000
DTEND;TZID=America/Chicago:20260211T193000
DTSTAMP:20260422T165434
CREATED:20260113T020413Z
LAST-MODIFIED:20260211T023405Z
UID:10004005-1770831000-1770838200@reenaseniorliving.com
SUMMARY:Resident Run Social Time in any Public Space.
DESCRIPTION:
URL:https://reenaseniorliving.com/event-calendar/resident-run-social-time-in-any-public-space-31/
CATEGORIES:Assisted Living
END:VEVENT
BEGIN:VEVENT
DTSTART;TZID=America/Chicago:20260211T190000
DTEND;TZID=America/Chicago:20260211T220000
DTSTAMP:20260422T165434
CREATED:20260206T023407Z
LAST-MODIFIED:20260212T023403Z
UID:10004344-1770836400-1770847200@reenaseniorliving.com
SUMMARY:Olympics - Men's Super G
DESCRIPTION:
URL:https://reenaseniorliving.com/event-calendar/olympics-mens-super-g/
LOCATION:TV
CATEGORIES:Assisted Living,Legacy Court
END:VEVENT
BEGIN:VEVENT
DTSTART;TZID=America/Chicago:20260212T091500
DTEND;TZID=America/Chicago:20260212T094500
DTSTAMP:20260422T165434
CREATED:20260114T020417Z
LAST-MODIFIED:20260212T023404Z
UID:10004014-1770887700-1770889500@reenaseniorliving.com
SUMMARY:Movement Class with Kayla
DESCRIPTION:Gentle Movement\, Strength\, Mobility\, Balance\, & More.
URL:https://reenaseniorliving.com/event-calendar/movement-class-with-kayla-139/
LOCATION:Activity Room
CATEGORIES:Assisted Living
END:VEVENT
BEGIN:VEVENT
DTSTART;TZID=America/Chicago:20260212T095000
DTEND;TZID=America/Chicago:20260212T101000
DTSTAMP:20260422T165434
CREATED:20260114T020417Z
LAST-MODIFIED:20260212T023404Z
UID:10004015-1770889800-1770891000@reenaseniorliving.com
SUMMARY:Green Thumbs Garden Club
DESCRIPTION:
URL:https://reenaseniorliving.com/event-calendar/green-thumbs-garden-club-10/
LOCATION:Activity Room
CATEGORIES:Assisted Living
END:VEVENT
BEGIN:VEVENT
DTSTART;TZID=America/Chicago:20260212T101500
DTEND;TZID=America/Chicago:20260212T111000
DTSTAMP:20260422T165434
CREATED:20260121T020411Z
LAST-MODIFIED:20260202T023419Z
UID:10004125-1770891300-1770894600@reenaseniorliving.com
SUMMARY:Fort Atkinson Senior Center Tag Making Vocational Project!
DESCRIPTION:
URL:https://reenaseniorliving.com/event-calendar/fort-atkinson-senior-center-tag-making-vocational-project/
LOCATION:Activity Room
CATEGORIES:Assisted Living
END:VEVENT
BEGIN:VEVENT
DTSTART;TZID=America/Chicago:20260212T125500
DTEND;TZID=America/Chicago:20260212T135500
DTSTAMP:20260422T165434
CREATED:20260114T020418Z
LAST-MODIFIED:20260212T050405Z
UID:10004016-1770900900-1770904500@reenaseniorliving.com
SUMMARY:TRYathlon Scrimmage Day! Arm Crank or Leg Crank!
DESCRIPTION:
URL:https://reenaseniorliving.com/event-calendar/tryathlon-scrimmage-day-come-see-what-its-all-about-watch-cheer-us-on-or-play/
LOCATION:Activity Room
CATEGORIES:Assisted Living,Legacy Court
END:VEVENT
BEGIN:VEVENT
DTSTART;TZID=America/Chicago:20260212T173000
DTEND;TZID=America/Chicago:20260212T193000
DTSTAMP:20260422T165434
CREATED:20260114T020418Z
LAST-MODIFIED:20260127T020417Z
UID:10004017-1770917400-1770924600@reenaseniorliving.com
SUMMARY:Resident Run Social Time in any Public Space.
DESCRIPTION:
URL:https://reenaseniorliving.com/event-calendar/resident-run-social-time-in-any-public-space-32/
CATEGORIES:Assisted Living
END:VEVENT
BEGIN:VEVENT
DTSTART;TZID=America/Chicago:20260212T174500
DTEND;TZID=America/Chicago:20260212T184500
DTSTAMP:20260422T165434
CREATED:20260128T021921Z
LAST-MODIFIED:20260212T023404Z
UID:10004227-1770918300-1770921900@reenaseniorliving.com
SUMMARY:Nail Spa Night! Music and Adult Coloring.
DESCRIPTION:
URL:https://reenaseniorliving.com/event-calendar/nail-spa-night-music-and-adult-coloring/
LOCATION:Activity Room
CATEGORIES:Assisted Living
END:VEVENT
BEGIN:VEVENT
DTSTART;TZID=America/Chicago:20260212T190000
DTEND;TZID=America/Chicago:20260212T220000
DTSTAMP:20260422T165434
CREATED:20260206T023408Z
LAST-MODIFIED:20260213T023405Z
UID:10004345-1770922800-1770933600@reenaseniorliving.com
SUMMARY:Women's Super-G (NBC Primetime in Milan)
DESCRIPTION:
URL:https://reenaseniorliving.com/event-calendar/womens-super-g-nbc-primetime-in-milan/
LOCATION:TV
CATEGORIES:Assisted Living,Legacy Court
END:VEVENT
BEGIN:VEVENT
DTSTART;TZID=America/Chicago:20260213T091500
DTEND;TZID=America/Chicago:20260213T094500
DTSTAMP:20260422T165434
CREATED:20260115T020417Z
LAST-MODIFIED:20260213T023406Z
UID:10004031-1770974100-1770975900@reenaseniorliving.com
SUMMARY:Movement Class with Kayla
DESCRIPTION:
URL:https://reenaseniorliving.com/event-calendar/movement-class-with-kayla-140/
LOCATION:Activity Room
CATEGORIES:Assisted Living
END:VEVENT
BEGIN:VEVENT
DTSTART;TZID=America/Chicago:20260213T095000
DTEND;TZID=America/Chicago:20260213T101500
DTSTAMP:20260422T165434
CREATED:20260115T020417Z
LAST-MODIFIED:20260213T023406Z
UID:10004032-1770976200-1770977700@reenaseniorliving.com
SUMMARY:Biking & Balance - A few minutes of each. For strength\, balance\, and fall prevention.
DESCRIPTION:
URL:https://reenaseniorliving.com/event-calendar/biking-balance-a-few-minutes-of-each-for-strength-balance-and-fall-prevention-9/
LOCATION:Exercise Room Basement
CATEGORIES:Assisted Living
END:VEVENT
BEGIN:VEVENT
DTSTART;TZID=America/Chicago:20260213T130000
DTEND;TZID=America/Chicago:20260213T140000
DTSTAMP:20260422T165434
CREATED:20260115T020417Z
LAST-MODIFIED:20260213T023406Z
UID:10004033-1770987600-1770991200@reenaseniorliving.com
SUMMARY:The Big Show
DESCRIPTION:
URL:https://reenaseniorliving.com/event-calendar/the-big-show-6/
LOCATION:Activity Room
CATEGORIES:Assisted Living
END:VEVENT
BEGIN:VEVENT
DTSTART;TZID=America/Chicago:20260213T140000
DTEND;TZID=America/Chicago:20260213T153000
DTSTAMP:20260422T165434
CREATED:20260206T023409Z
LAST-MODIFIED:20260213T023407Z
UID:10004346-1770991200-1770996600@reenaseniorliving.com
SUMMARY:Movie Classic - Easy Come\, Easy Go - Elvis 1967
DESCRIPTION:
URL:https://reenaseniorliving.com/event-calendar/movie-classic-easy-come-easy-go-elvis-1967/
LOCATION:Theatre
CATEGORIES:Assisted Living
END:VEVENT
BEGIN:VEVENT
DTSTART;TZID=America/Chicago:20260213T153000
DTEND;TZID=America/Chicago:20260213T154500
DTSTAMP:20260422T165434
CREATED:20260115T020417Z
LAST-MODIFIED:20260213T023407Z
UID:10004034-1770996600-1770997500@reenaseniorliving.com
SUMMARY:Your weekly activity packets will be delivered.
DESCRIPTION:
URL:https://reenaseniorliving.com/event-calendar/your-weekly-activity-packets-will-be-delivered-40/
LOCATION:Activity Room
CATEGORIES:Assisted Living
END:VEVENT
BEGIN:VEVENT
DTSTART;TZID=America/Chicago:20260213T173000
DTEND;TZID=America/Chicago:20260213T193000
DTSTAMP:20260422T165434
CREATED:20260115T020417Z
LAST-MODIFIED:20260213T023407Z
UID:10004035-1771003800-1771011000@reenaseniorliving.com
SUMMARY:Resident Run Social Time in any Public Space.
DESCRIPTION:
URL:https://reenaseniorliving.com/event-calendar/resident-run-social-time-in-any-public-space-33/
CATEGORIES:Assisted Living
END:VEVENT
BEGIN:VEVENT
DTSTART;TZID=America/Chicago:20260214T123000
DTEND;TZID=America/Chicago:20260214T140000
DTSTAMP:20260422T165434
CREATED:20260205T023407Z
LAST-MODIFIED:20260211T023420Z
UID:10004331-1771072200-1771077600@reenaseniorliving.com
SUMMARY:Show Choir Competition @ High School - Sign-up to go - $15.00 at the door. Bus loading at 12:30pm
DESCRIPTION:
URL:https://reenaseniorliving.com/event-calendar/show-choir-competition-high-school-sign-up-to-go-15-00-at-the-door-bus-loading-at-1230pm/
LOCATION:Bus
CATEGORIES:Assisted Living
END:VEVENT
BEGIN:VEVENT
DTSTART;TZID=America/Chicago:20260214T130000
DTEND;TZID=America/Chicago:20260214T140000
DTSTAMP:20260422T165434
CREATED:20260128T021921Z
LAST-MODIFIED:20260204T023403Z
UID:10004228-1771074000-1771077600@reenaseniorliving.com
SUMMARY:Bingo Bash!
DESCRIPTION:
URL:https://reenaseniorliving.com/event-calendar/bingo-bash-2/
LOCATION:Activity Room
CATEGORIES:Assisted Living
END:VEVENT
BEGIN:VEVENT
DTSTART;TZID=America/Chicago:20260214T151500
DTEND;TZID=America/Chicago:20260214T161500
DTSTAMP:20260422T165434
CREATED:20260212T023404Z
LAST-MODIFIED:20260214T023411Z
UID:10004423-1771082100-1771085700@reenaseniorliving.com
SUMMARY:Valentine's Social Hour with Game called Spin and Solve (think wheel of fortune)
DESCRIPTION:
URL:https://reenaseniorliving.com/event-calendar/valentines-social-hour-with-game-called-spin-and-solve-think-wheel-of-fortune/
LOCATION:Activity Room
CATEGORIES:Assisted Living
END:VEVENT
BEGIN:VEVENT
DTSTART;TZID=America/Chicago:20260214T173000
DTEND;TZID=America/Chicago:20260214T193000
DTSTAMP:20260422T165434
CREATED:20260116T020409Z
LAST-MODIFIED:20260214T023411Z
UID:10004047-1771090200-1771097400@reenaseniorliving.com
SUMMARY:Resident Run Social Time in any Public Space.
DESCRIPTION:
URL:https://reenaseniorliving.com/event-calendar/resident-run-social-time-in-any-public-space-34/
CATEGORIES:Assisted Living
END:VEVENT
BEGIN:VEVENT
DTSTART;TZID=America/Chicago:20260215T130000
DTEND;TZID=America/Chicago:20260215T143000
DTSTAMP:20260422T165434
CREATED:20260117T020428Z
LAST-MODIFIED:20260215T024904Z
UID:10004066-1771160400-1771165800@reenaseniorliving.com
SUMMARY:Catholic Communion Visits with Tom or Andy
DESCRIPTION:
URL:https://reenaseniorliving.com/event-calendar/catholic-communion-visits-with-tom-or-andy-volunteers-7/
CATEGORIES:Assisted Living
END:VEVENT
BEGIN:VEVENT
DTSTART;TZID=America/Chicago:20260215T173000
DTEND;TZID=America/Chicago:20260215T193000
DTSTAMP:20260422T165434
CREATED:20260117T020428Z
LAST-MODIFIED:20260215T024904Z
UID:10004067-1771176600-1771183800@reenaseniorliving.com
SUMMARY:Resident Run Social Time in any Public Space.
DESCRIPTION:
URL:https://reenaseniorliving.com/event-calendar/resident-run-social-time-in-any-public-space-36/
CATEGORIES:Assisted Living
END:VEVENT
BEGIN:VEVENT
DTSTART;TZID=America/Chicago:20260216T091500
DTEND;TZID=America/Chicago:20260216T094500
DTSTAMP:20260422T165434
CREATED:20260118T020420Z
LAST-MODIFIED:20260216T024905Z
UID:10004070-1771233300-1771235100@reenaseniorliving.com
SUMMARY:Movement with Kayla (AR)
DESCRIPTION:
URL:https://reenaseniorliving.com/event-calendar/movement-with-kayla-ar-8/
LOCATION:Activity Room
CATEGORIES:Assisted Living
END:VEVENT
BEGIN:VEVENT
DTSTART;TZID=America/Chicago:20260216T094500
DTEND;TZID=America/Chicago:20260216T100000
DTSTAMP:20260422T165434
CREATED:20260128T021921Z
LAST-MODIFIED:20260205T044933Z
UID:10004229-1771235100-1771236000@reenaseniorliving.com
SUMMARY:Punch Ball Fun! Think yoyo but with more ease and fun!
DESCRIPTION:
URL:https://reenaseniorliving.com/event-calendar/punch-ball-fun-think-yoyo-but-with-more-ease-and-fun/
LOCATION:Activity Room
CATEGORIES:Assisted Living,Legacy Court
END:VEVENT
END:VCALENDAR