BEGIN:VCALENDAR
VERSION:2.0
PRODID:-//Reena Senior Living - ECPv6.11.2.1//NONSGML v1.0//EN
CALSCALE:GREGORIAN
METHOD:PUBLISH
X-ORIGINAL-URL:https://reenaseniorliving.com
X-WR-CALDESC:Events for Reena Senior Living
REFRESH-INTERVAL;VALUE=DURATION:PT1H
X-Robots-Tag:noindex
X-PUBLISHED-TTL:PT1H
BEGIN:VTIMEZONE
TZID:America/Chicago
BEGIN:DAYLIGHT
TZOFFSETFROM:-0600
TZOFFSETTO:-0500
TZNAME:CDT
DTSTART:20260308T080000
END:DAYLIGHT
BEGIN:STANDARD
TZOFFSETFROM:-0500
TZOFFSETTO:-0600
TZNAME:CST
DTSTART:20261101T070000
END:STANDARD
END:VTIMEZONE
BEGIN:VEVENT
DTSTART;TZID=America/Chicago:20260417T093000
DTEND;TZID=America/Chicago:20260417T095500
DTSTAMP:20260422T180842
CREATED:20260328T055018Z
LAST-MODIFIED:20260417T061903Z
UID:10005053-1776418200-1776419700@reenaseniorliving.com
SUMMARY:Biking and Balance
DESCRIPTION:
URL:https://reenaseniorliving.com/event-calendar/biking-and-balance-4/
LOCATION:Exercise Room Basement
CATEGORIES:Assisted Living
END:VEVENT
BEGIN:VEVENT
DTSTART;TZID=America/Chicago:20260417T095500
DTEND;TZID=America/Chicago:20260417T102000
DTSTAMP:20260422T180842
CREATED:20260319T053443Z
LAST-MODIFIED:20260319T053443Z
UID:10004952-1776419700-1776421200@reenaseniorliving.com
SUMMARY:Biking & Balance - A few minutes of each. For strength\, balance\, and fall prevention.
DESCRIPTION:
URL:https://reenaseniorliving.com/event-calendar/biking-balance-a-few-minutes-of-each-for-strength-balance-and-fall-prevention-32/
LOCATION:Exercise Room Basement
CATEGORIES:Assisted Living
END:VEVENT
BEGIN:VEVENT
DTSTART;TZID=America/Chicago:20260417T100000
DTEND;TZID=America/Chicago:20260417T104000
DTSTAMP:20260422T180842
CREATED:20260328T055019Z
LAST-MODIFIED:20260417T061903Z
UID:10005054-1776420000-1776422400@reenaseniorliving.com
SUMMARY:Robot Soccer Practice.
DESCRIPTION:
URL:https://reenaseniorliving.com/event-calendar/robot-soccer-practice-taking-turns-driving-and-score-keeping-breaks-built-in-to-discuss-stategy-9/
LOCATION:Theatre
CATEGORIES:Assisted Living
END:VEVENT
BEGIN:VEVENT
DTSTART;TZID=America/Chicago:20260417T123000
DTEND;TZID=America/Chicago:20260417T130000
DTSTAMP:20260422T180842
CREATED:20260319T053443Z
LAST-MODIFIED:20260417T061903Z
UID:10004953-1776429000-1776430800@reenaseniorliving.com
SUMMARY:Your weekly activity packets will be delivered.
DESCRIPTION:
URL:https://reenaseniorliving.com/event-calendar/your-weekly-activity-packets-will-be-delivered-49/
LOCATION:Activity Room
CATEGORIES:Assisted Living
END:VEVENT
BEGIN:VEVENT
DTSTART;TZID=America/Chicago:20260417T130000
DTEND;TZID=America/Chicago:20260417T140000
DTSTAMP:20260422T180842
CREATED:20260328T055019Z
LAST-MODIFIED:20260417T061903Z
UID:10005055-1776430800-1776434400@reenaseniorliving.com
SUMMARY:Cow - Ongoing Group Project for Dairy Days at Hoard Museum
DESCRIPTION:
URL:https://reenaseniorliving.com/event-calendar/cow-ongoing-group-project-for-dairy-days-at-hoard-museum/
LOCATION:Activity Room
CATEGORIES:Assisted Living
END:VEVENT
BEGIN:VEVENT
DTSTART;TZID=America/Chicago:20260417T140000
DTEND;TZID=America/Chicago:20260417T143000
DTSTAMP:20260422T180842
CREATED:20260409T060458Z
LAST-MODIFIED:20260417T150431Z
UID:10005123-1776434400-1776436200@reenaseniorliving.com
SUMMARY:Drumming with Jen! Let's Drum & sing along.
DESCRIPTION:
URL:https://reenaseniorliving.com/event-calendar/drumming-with-jen-shes-back-for-some-sing-along-drumming-fun/
LOCATION:Activity Room
CATEGORIES:Assisted Living,Legacy Court
END:VEVENT
BEGIN:VEVENT
DTSTART;TZID=America/Chicago:20260417T163000
DTEND;TZID=America/Chicago:20260417T170000
DTSTAMP:20260422T180842
CREATED:20260328T055019Z
LAST-MODIFIED:20260417T061904Z
UID:10005056-1776443400-1776445200@reenaseniorliving.com
SUMMARY:Live Music in Cafe with Anne
DESCRIPTION:
URL:https://reenaseniorliving.com/event-calendar/live-music-with-anne/
LOCATION:Cafe
CATEGORIES:Assisted Living
END:VEVENT
BEGIN:VEVENT
DTSTART;TZID=America/Chicago:20260417T171500
DTEND;TZID=America/Chicago:20260417T191500
DTSTAMP:20260422T180842
CREATED:20260328T055019Z
LAST-MODIFIED:20260417T061904Z
UID:10005057-1776446100-1776453300@reenaseniorliving.com
SUMMARY:Resident Run Social Time
DESCRIPTION:
URL:https://reenaseniorliving.com/event-calendar/resident-run-social-time-7/
CATEGORIES:Assisted Living
END:VEVENT
BEGIN:VEVENT
DTSTART;TZID=America/Chicago:20260418T090000
DTEND;TZID=America/Chicago:20260418T113000
DTSTAMP:20260422T180842
CREATED:20260320T053412Z
LAST-MODIFIED:20260418T061902Z
UID:10004963-1776502800-1776511800@reenaseniorliving.com
SUMMARY:Nail Spa Day - Please Sign-up
DESCRIPTION:
URL:https://reenaseniorliving.com/event-calendar/nail-spa-day-please-sign-up/
LOCATION:Activity Room
CATEGORIES:Assisted Living
END:VEVENT
BEGIN:VEVENT
DTSTART;TZID=America/Chicago:20260418T171500
DTEND;TZID=America/Chicago:20260418T191500
DTSTAMP:20260422T180842
CREATED:20260328T055019Z
LAST-MODIFIED:20260418T061903Z
UID:10005058-1776532500-1776539700@reenaseniorliving.com
SUMMARY:Resident Run Social Time
DESCRIPTION:
URL:https://reenaseniorliving.com/event-calendar/resident-run-social-time-8/
CATEGORIES:Assisted Living
END:VEVENT
BEGIN:VEVENT
DTSTART;TZID=America/Chicago:20260419T090000
DTEND;TZID=America/Chicago:20260419T113000
DTSTAMP:20260422T180842
CREATED:20260409T060458Z
LAST-MODIFIED:20260419T063413Z
UID:10005124-1776589200-1776598200@reenaseniorliving.com
SUMMARY:Nail Spa Day - Sign-up
DESCRIPTION:
URL:https://reenaseniorliving.com/event-calendar/nail-spa-day-sign-up-9/
LOCATION:Activity Room
CATEGORIES:Assisted Living
END:VEVENT
BEGIN:VEVENT
DTSTART;TZID=America/Chicago:20260419T130000
DTEND;TZID=America/Chicago:20260419T143000
DTSTAMP:20260422T180842
CREATED:20260321T053421Z
LAST-MODIFIED:20260419T063414Z
UID:10004972-1776603600-1776609000@reenaseniorliving.com
SUMMARY:Catholic Communion Visits with Tom or Andy
DESCRIPTION:
URL:https://reenaseniorliving.com/event-calendar/catholic-communion-visits-with-tom-or-andy-9/
CATEGORIES:Assisted Living
END:VEVENT
BEGIN:VEVENT
DTSTART;TZID=America/Chicago:20260419T171500
DTEND;TZID=America/Chicago:20260419T191500
DTSTAMP:20260422T180842
CREATED:20260328T055019Z
LAST-MODIFIED:20260419T063414Z
UID:10005059-1776618900-1776626100@reenaseniorliving.com
SUMMARY:Resident Run Social Time
DESCRIPTION:
URL:https://reenaseniorliving.com/event-calendar/resident-run-social-time-9/
CATEGORIES:Assisted Living
END:VEVENT
BEGIN:VEVENT
DTSTART;TZID=America/Chicago:20260420T091500
DTEND;TZID=America/Chicago:20260420T094500
DTSTAMP:20260422T180842
CREATED:20260322T053418Z
LAST-MODIFIED:20260420T063403Z
UID:10004975-1776676500-1776678300@reenaseniorliving.com
SUMMARY:Movement with Kayla (AR)
DESCRIPTION:
URL:https://reenaseniorliving.com/event-calendar/movement-with-kayla-ar-18/
LOCATION:Activity Room
CATEGORIES:Assisted Living
END:VEVENT
BEGIN:VEVENT
DTSTART;TZID=America/Chicago:20260420T101000
DTEND;TZID=America/Chicago:20260420T110500
DTSTAMP:20260422T180842
CREATED:20260322T053418Z
LAST-MODIFIED:20260420T063403Z
UID:10004976-1776679800-1776683100@reenaseniorliving.com
SUMMARY:Trinity Lutheran Visit with Coffee Social Hour
DESCRIPTION:Coffee will be offered. Please join us.
URL:https://reenaseniorliving.com/event-calendar/trinity-lutheran-visit-with-coffee-social-hour-5/
LOCATION:Activity Room
CATEGORIES:Assisted Living
END:VEVENT
BEGIN:VEVENT
DTSTART;TZID=America/Chicago:20260420T101500
DTEND;TZID=America/Chicago:20260420T111000
DTSTAMP:20260422T180842
CREATED:20260328T055019Z
LAST-MODIFIED:20260408T060414Z
UID:10005060-1776680100-1776683400@reenaseniorliving.com
SUMMARY:View - The Chosen with Chaplain Ann
DESCRIPTION:
URL:https://reenaseniorliving.com/event-calendar/non-denominational-time-with-chaplain-ann-3/
LOCATION:Theatre
CATEGORIES:Assisted Living
END:VEVENT
BEGIN:VEVENT
DTSTART;TZID=America/Chicago:20260420T130000
DTEND;TZID=America/Chicago:20260420T133000
DTSTAMP:20260422T180842
CREATED:20260328T055019Z
LAST-MODIFIED:20260420T063403Z
UID:10005061-1776690000-1776691800@reenaseniorliving.com
SUMMARY:Coaches and Captains Meeting - Robot Soccer Team
DESCRIPTION:
URL:https://reenaseniorliving.com/event-calendar/coaches-and-captains-meeting-robot-soccer-team/
LOCATION:Activity Room
CATEGORIES:Assisted Living
END:VEVENT
BEGIN:VEVENT
DTSTART;TZID=America/Chicago:20260420T134500
DTEND;TZID=America/Chicago:20260420T142000
DTSTAMP:20260422T180842
CREATED:20260409T060459Z
LAST-MODIFIED:20260420T063404Z
UID:10005125-1776692700-1776694800@reenaseniorliving.com
SUMMARY:Robot Soccer Practice
DESCRIPTION:
URL:https://reenaseniorliving.com/event-calendar/robot-soccer-practice-3/
LOCATION:Activity Room
CATEGORIES:Assisted Living
END:VEVENT
BEGIN:VEVENT
DTSTART;TZID=America/Chicago:20260420T143500
DTEND;TZID=America/Chicago:20260420T151500
DTSTAMP:20260422T180842
CREATED:20260322T053418Z
LAST-MODIFIED:20260408T060414Z
UID:10004977-1776695700-1776698100@reenaseniorliving.com
SUMMARY:Nerf Target Fun with our CLCA Student Visitors
DESCRIPTION:
URL:https://reenaseniorliving.com/event-calendar/nerf-target-fun-with-our-clca-student-visitors/
LOCATION:Activity Room
CATEGORIES:Assisted Living
END:VEVENT
BEGIN:VEVENT
DTSTART;TZID=America/Chicago:20260420T153000
DTEND;TZID=America/Chicago:20260420T161500
DTSTAMP:20260422T180842
CREATED:20260322T053419Z
LAST-MODIFIED:20260420T063404Z
UID:10004978-1776699000-1776701700@reenaseniorliving.com
SUMMARY:Knitting\, Crochet\, Crafting\, and Social Time.
DESCRIPTION:
URL:https://reenaseniorliving.com/event-calendar/knitting-crochet-crafting-and-social-time-11/
LOCATION:Activity Room
CATEGORIES:Assisted Living
END:VEVENT
BEGIN:VEVENT
DTSTART;TZID=America/Chicago:20260421T085000
DTEND;TZID=America/Chicago:20260421T091000
DTSTAMP:20260422T180842
CREATED:20260323T053409Z
LAST-MODIFIED:20260327T054930Z
UID:10004989-1776761400-1776762600@reenaseniorliving.com
SUMMARY:Green Thumbs Garden Club
DESCRIPTION:
URL:https://reenaseniorliving.com/event-calendar/green-thumbs-garden-club-31/
LOCATION:Activity Room
CATEGORIES:Assisted Living
END:VEVENT
BEGIN:VEVENT
DTSTART;TZID=America/Chicago:20260421T091500
DTEND;TZID=America/Chicago:20260421T094500
DTSTAMP:20260422T180842
CREATED:20260323T053410Z
LAST-MODIFIED:20260421T063403Z
UID:10004990-1776762900-1776764700@reenaseniorliving.com
SUMMARY:Movement Class with Kayla
DESCRIPTION:
URL:https://reenaseniorliving.com/event-calendar/movement-class-with-kayla-178/
LOCATION:Activity Room
CATEGORIES:Assisted Living
END:VEVENT
BEGIN:VEVENT
DTSTART;TZID=America/Chicago:20260421T124500
DTEND;TZID=America/Chicago:20260421T140000
DTSTAMP:20260422T180842
CREATED:20260323T053410Z
LAST-MODIFIED:20260421T063403Z
UID:10004991-1776775500-1776780000@reenaseniorliving.com
SUMMARY:Robot Soccer Season Begins! Join us!
DESCRIPTION:
URL:https://reenaseniorliving.com/event-calendar/robot-soccer-season-begins-join-us-play-cheer-enjoy-2/
LOCATION:Activity Room
CATEGORIES:Assisted Living
END:VEVENT
BEGIN:VEVENT
DTSTART;TZID=America/Chicago:20260421T163000
DTEND;TZID=America/Chicago:20260421T180000
DTSTAMP:20260422T180842
CREATED:20260323T053410Z
LAST-MODIFIED:20260421T063403Z
UID:10004992-1776789000-1776794400@reenaseniorliving.com
SUMMARY:Special Private Event in AR
DESCRIPTION:
URL:https://reenaseniorliving.com/event-calendar/volunteer-dinner/
LOCATION:Activity Room
CATEGORIES:Assisted Living
END:VEVENT
BEGIN:VEVENT
DTSTART;TZID=America/Chicago:20260422T091500
DTEND;TZID=America/Chicago:20260422T094500
DTSTAMP:20260422T180842
CREATED:20260324T053537Z
LAST-MODIFIED:20260422T063401Z
UID:10005002-1776849300-1776851100@reenaseniorliving.com
SUMMARY:Movement Class with Kayla
DESCRIPTION:
URL:https://reenaseniorliving.com/event-calendar/movement-class-with-kayla-179/
LOCATION:Activity Room
CATEGORIES:Assisted Living
END:VEVENT
BEGIN:VEVENT
DTSTART;TZID=America/Chicago:20260422T100000
DTEND;TZID=America/Chicago:20260422T101500
DTSTAMP:20260422T180842
CREATED:20260324T053537Z
LAST-MODIFIED:20260422T063402Z
UID:10005003-1776852000-1776852900@reenaseniorliving.com
SUMMARY:Sing along with Anne before Church.
DESCRIPTION:
URL:https://reenaseniorliving.com/event-calendar/sing-along-with-anne-before-church-2/
LOCATION:Legacy Court
CATEGORIES:Assisted Living,Legacy Court
END:VEVENT
BEGIN:VEVENT
DTSTART;TZID=America/Chicago:20260422T101500
DTEND;TZID=America/Chicago:20260422T111500
DTSTAMP:20260422T180842
CREATED:20260324T053538Z
LAST-MODIFIED:20260422T153403Z
UID:10005004-1776852900-1776856500@reenaseniorliving.com
SUMMARY:Catholic Service at Legacy Court with Father Silva
DESCRIPTION:
URL:https://reenaseniorliving.com/event-calendar/catholic-service-at-legacy-court-24/
LOCATION:Legacy Court
CATEGORIES:Assisted Living,Legacy Court
END:VEVENT
BEGIN:VEVENT
DTSTART;TZID=America/Chicago:20260422T123000
DTEND;TZID=America/Chicago:20260422T125500
DTSTAMP:20260422T180842
CREATED:20260410T060410Z
LAST-MODIFIED:20260422T063402Z
UID:10005154-1776861000-1776862500@reenaseniorliving.com
SUMMARY:Robot Soccer Practice - Short Practice
DESCRIPTION:
URL:https://reenaseniorliving.com/event-calendar/robot-soccer-practice-quick-practice-10-minutes-each-player/
LOCATION:Activity Room
CATEGORIES:Assisted Living
END:VEVENT
BEGIN:VEVENT
DTSTART;TZID=America/Chicago:20260422T133000
DTEND;TZID=America/Chicago:20260422T141500
DTSTAMP:20260422T180842
CREATED:20260328T055020Z
LAST-MODIFIED:20260422T153403Z
UID:10005062-1776864600-1776867300@reenaseniorliving.com
SUMMARY:Legacy Court Sing Along with Anne
DESCRIPTION:
URL:https://reenaseniorliving.com/event-calendar/legacy-court-sing-along-with-anne/
LOCATION:Activity Room
CATEGORIES:Assisted Living,Legacy Court
END:VEVENT
BEGIN:VEVENT
DTSTART;TZID=America/Chicago:20260422T140000
DTEND;TZID=America/Chicago:20260422T144500
DTSTAMP:20260422T180842
CREATED:20260328T055020Z
LAST-MODIFIED:20260408T060415Z
UID:10005063-1776866400-1776869100@reenaseniorliving.com
SUMMARY:TRYathlon Celebration - Desserts and Hors d' oeuves for the team.
DESCRIPTION:
URL:https://reenaseniorliving.com/event-calendar/tryathlon-celebration-desserts-and-hors-d-oeuves-for-the-team/
LOCATION:Activity Room
CATEGORIES:Assisted Living
END:VEVENT
END:VCALENDAR