BEGIN:VCALENDAR
VERSION:2.0
PRODID:-//Reena Senior Living - ECPv6.11.2.1//NONSGML v1.0//EN
CALSCALE:GREGORIAN
METHOD:PUBLISH
X-WR-CALNAME:Reena Senior Living
X-ORIGINAL-URL:https://reenaseniorliving.com
X-WR-CALDESC:Events for Reena Senior Living
REFRESH-INTERVAL;VALUE=DURATION:PT1H
X-Robots-Tag:noindex
X-PUBLISHED-TTL:PT1H
BEGIN:VTIMEZONE
TZID:America/Chicago
BEGIN:DAYLIGHT
TZOFFSETFROM:-0600
TZOFFSETTO:-0500
TZNAME:CDT
DTSTART:20260308T080000
END:DAYLIGHT
BEGIN:STANDARD
TZOFFSETFROM:-0500
TZOFFSETTO:-0600
TZNAME:CST
DTSTART:20261101T070000
END:STANDARD
END:VTIMEZONE
BEGIN:VEVENT
DTSTART;TZID=America/Chicago:20260430T091500
DTEND;TZID=America/Chicago:20260430T094500
DTSTAMP:20260422T171809
CREATED:20260401T055012Z
LAST-MODIFIED:20260422T063406Z
UID:10005081-1777540500-1777542300@reenaseniorliving.com
SUMMARY:Movement Class
DESCRIPTION:Gentle Movement\, Strength\, Mobility\, Balance\, & More.
URL:https://reenaseniorliving.com/event-calendar/movement-class-96/
LOCATION:Activity Room
CATEGORIES:Assisted Living
END:VEVENT
BEGIN:VEVENT
DTSTART;TZID=America/Chicago:20260430T100000
DTEND;TZID=America/Chicago:20260430T110000
DTSTAMP:20260422T171809
CREATED:20260401T055012Z
LAST-MODIFIED:20260408T060418Z
UID:10005082-1777543200-1777546800@reenaseniorliving.com
SUMMARY:Hoard Museum Cow Contest Team Starts Today. Let's get our ideas brainstormed today.
DESCRIPTION:
URL:https://reenaseniorliving.com/event-calendar/hoard-museum-cow-contest-team-starts-today-lets-get-our-ideas-brainstormed-today-5/
LOCATION:Activity Room
CATEGORIES:Assisted Living
END:VEVENT
BEGIN:VEVENT
DTSTART;TZID=America/Chicago:20260430T133000
DTEND;TZID=America/Chicago:20260430T141500
DTSTAMP:20260422T171809
CREATED:20260409T060506Z
LAST-MODIFIED:20260422T063406Z
UID:10005134-1777555800-1777558500@reenaseniorliving.com
SUMMARY:Exploration of Lorine Niedecker Poetry with Friends of Lorine N. host Ann Engelman - 3 week series
DESCRIPTION:
URL:https://reenaseniorliving.com/event-calendar/exploration-of-lorine-niedecker-poetry-with-friends-of-lorine-n-host-ann-engelman-3-week-series/
CATEGORIES:Assisted Living
END:VEVENT
BEGIN:VEVENT
DTSTART;TZID=America/Chicago:20260430T143000
DTEND;TZID=America/Chicago:20260430T151500
DTSTAMP:20260422T171809
CREATED:20260401T055012Z
LAST-MODIFIED:20260422T063406Z
UID:10005083-1777559400-1777562100@reenaseniorliving.com
SUMMARY:Birthday Party! Highlights of our Birthday Guests Lives.
DESCRIPTION:Cake and Beverage. Community Members with birthdays this month will have time to share something about themselves. It will be followed with music and singing at 3:00.
URL:https://reenaseniorliving.com/event-calendar/birthday-party-highlights-of-our-birthday-guests-lives-9/
LOCATION:Activity Room
CATEGORIES:Assisted Living
END:VEVENT
BEGIN:VEVENT
DTSTART;TZID=America/Chicago:20260430T171500
DTEND;TZID=America/Chicago:20260430T191500
DTSTAMP:20260422T171809
CREATED:20260409T060507Z
LAST-MODIFIED:20260422T063406Z
UID:10005135-1777569300-1777576500@reenaseniorliving.com
SUMMARY:Resident Run Social Time
DESCRIPTION:
URL:https://reenaseniorliving.com/event-calendar/resident-run-social-time-16/
CATEGORIES:Assisted Living
END:VEVENT
BEGIN:VEVENT
DTSTART;TZID=America/Chicago:20260501T070000
DTEND;TZID=America/Chicago:20260501T080000
DTSTAMP:20260422T171810
CREATED:20260409T060507Z
LAST-MODIFIED:20260422T153407Z
UID:10005136-1777618800-1777622400@reenaseniorliving.com
SUMMARY:Happy May Basket Day!
DESCRIPTION:
URL:https://reenaseniorliving.com/event-calendar/happy-may-basket-day/
CATEGORIES:Assisted Living,Legacy Court
END:VEVENT
BEGIN:VEVENT
DTSTART;TZID=America/Chicago:20260501T094500
DTEND;TZID=America/Chicago:20260501T101000
DTSTAMP:20260422T171810
CREATED:20260402T054941Z
LAST-MODIFIED:20260408T060418Z
UID:10005085-1777628700-1777630200@reenaseniorliving.com
SUMMARY:Biking and Balance
DESCRIPTION:
URL:https://reenaseniorliving.com/event-calendar/biking-and-balance-6/
LOCATION:Exercise Room Basement
CATEGORIES:Assisted Living
END:VEVENT
BEGIN:VEVENT
DTSTART;TZID=America/Chicago:20260501T103000
DTEND;TZID=America/Chicago:20260501T111500
DTSTAMP:20260422T171810
CREATED:20260409T060507Z
LAST-MODIFIED:20260422T063406Z
UID:10005137-1777631400-1777634100@reenaseniorliving.com
SUMMARY:May Day Coffee & Treat in the Pub with Justin
DESCRIPTION:
URL:https://reenaseniorliving.com/event-calendar/may-day-coffee-treat-in-the-pub-with-justin-take-it-with-you-to-lunch-if-you-like/
LOCATION:Pub
CATEGORIES:Assisted Living
END:VEVENT
BEGIN:VEVENT
DTSTART;TZID=America/Chicago:20260501T113000
DTEND;TZID=America/Chicago:20260501T120000
DTSTAMP:20260422T171810
CREATED:20260402T054941Z
LAST-MODIFIED:20260422T063407Z
UID:10005087-1777635000-1777636800@reenaseniorliving.com
SUMMARY:Your weekly activity packets will be delivered.
DESCRIPTION:
URL:https://reenaseniorliving.com/event-calendar/your-weekly-activity-packets-will-be-delivered-51/
LOCATION:Activity Room
CATEGORIES:Assisted Living
END:VEVENT
BEGIN:VEVENT
DTSTART;TZID=America/Chicago:20260501T130000
DTEND;TZID=America/Chicago:20260501T133000
DTSTAMP:20260422T171810
CREATED:20260402T054941Z
LAST-MODIFIED:20260422T063407Z
UID:10005086-1777640400-1777642200@reenaseniorliving.com
SUMMARY:Big Show - Scrimmage Follow-up
DESCRIPTION:
URL:https://reenaseniorliving.com/event-calendar/big-show-scrimmage-follow-up-2/
LOCATION:Activity Room
CATEGORIES:Assisted Living
END:VEVENT
BEGIN:VEVENT
DTSTART;TZID=America/Chicago:20260501T171500
DTEND;TZID=America/Chicago:20260501T190000
DTSTAMP:20260422T171810
CREATED:20260420T063408Z
LAST-MODIFIED:20260422T063407Z
UID:10005345-1777655700-1777662000@reenaseniorliving.com
SUMMARY:Game Night!
DESCRIPTION:
URL:https://reenaseniorliving.com/event-calendar/game-night-22/
LOCATION:Activity Room
CATEGORIES:Assisted Living
END:VEVENT
BEGIN:VEVENT
DTSTART;TZID=America/Chicago:20260501T171500
DTEND;TZID=America/Chicago:20260501T191500
DTSTAMP:20260422T171810
CREATED:20260402T054941Z
LAST-MODIFIED:20260408T060418Z
UID:10005088-1777655700-1777662900@reenaseniorliving.com
SUMMARY:Resident Run Social Time
DESCRIPTION:
URL:https://reenaseniorliving.com/event-calendar/resident-run-social-time-13/
CATEGORIES:Assisted Living
END:VEVENT
BEGIN:VEVENT
DTSTART;TZID=America/Chicago:20260502T091500
DTEND;TZID=America/Chicago:20260502T094500
DTSTAMP:20260422T171810
CREATED:20260409T060507Z
LAST-MODIFIED:20260422T063407Z
UID:10005138-1777713300-1777715100@reenaseniorliving.com
SUMMARY:Movement Class
DESCRIPTION:
URL:https://reenaseniorliving.com/event-calendar/movement-class-98/
LOCATION:Activity Room
CATEGORIES:Assisted Living
END:VEVENT
BEGIN:VEVENT
DTSTART;TZID=America/Chicago:20260502T100000
DTEND;TZID=America/Chicago:20260502T102000
DTSTAMP:20260422T171810
CREATED:20260409T060508Z
LAST-MODIFIED:20260422T063407Z
UID:10005139-1777716000-1777717200@reenaseniorliving.com
SUMMARY:Biking and Balance
DESCRIPTION:
URL:https://reenaseniorliving.com/event-calendar/biking-and-balance-7/
LOCATION:Activity Room
CATEGORIES:Assisted Living
END:VEVENT
BEGIN:VEVENT
DTSTART;TZID=America/Chicago:20260502T171500
DTEND;TZID=America/Chicago:20260502T191500
DTSTAMP:20260422T171810
CREATED:20260403T055031Z
LAST-MODIFIED:20260422T063407Z
UID:10005089-1777742100-1777749300@reenaseniorliving.com
SUMMARY:Resident Run Social Time
DESCRIPTION:
URL:https://reenaseniorliving.com/event-calendar/resident-run-social-time-14/
CATEGORIES:Assisted Living
END:VEVENT
BEGIN:VEVENT
DTSTART;TZID=America/Chicago:20260503T091500
DTEND;TZID=America/Chicago:20260503T095000
DTSTAMP:20260422T171810
CREATED:20260409T060508Z
LAST-MODIFIED:20260422T063407Z
UID:10005140-1777799700-1777801800@reenaseniorliving.com
SUMMARY:Movement Class with Kayla
DESCRIPTION:
URL:https://reenaseniorliving.com/event-calendar/movement-class-with-kayla-185/
LOCATION:Activity Room
CATEGORIES:Assisted Living
END:VEVENT
BEGIN:VEVENT
DTSTART;TZID=America/Chicago:20260503T104500
DTEND;TZID=America/Chicago:20260503T111500
DTSTAMP:20260422T171810
CREATED:20260409T060508Z
LAST-MODIFIED:20260422T063407Z
UID:10005141-1777805100-1777806900@reenaseniorliving.com
SUMMARY:Outdoor Walk with Kayla - Meet in Lobby - Visit all the Patios
DESCRIPTION:
URL:https://reenaseniorliving.com/event-calendar/outdoor-walk-with-kayla-meet-in-lobby-visit-all-the-patios/
LOCATION:Lobby
CATEGORIES:Assisted Living
END:VEVENT
BEGIN:VEVENT
DTSTART;TZID=America/Chicago:20260503T130000
DTEND;TZID=America/Chicago:20260503T143000
DTSTAMP:20260422T171810
CREATED:20260404T060429Z
LAST-MODIFIED:20260422T063407Z
UID:10005102-1777813200-1777818600@reenaseniorliving.com
SUMMARY:Catholic Communion Visits with Tom or Andy
DESCRIPTION:
URL:https://reenaseniorliving.com/event-calendar/catholic-communion-visits-with-tom-or-andy-11/
CATEGORIES:Assisted Living
END:VEVENT
BEGIN:VEVENT
DTSTART;TZID=America/Chicago:20260503T171500
DTEND;TZID=America/Chicago:20260503T191500
DTSTAMP:20260422T171810
CREATED:20260404T060429Z
LAST-MODIFIED:20260422T063408Z
UID:10005103-1777828500-1777835700@reenaseniorliving.com
SUMMARY:Resident Run Social Time
DESCRIPTION:
URL:https://reenaseniorliving.com/event-calendar/resident-run-social-time-15/
CATEGORIES:Assisted Living
END:VEVENT
BEGIN:VEVENT
DTSTART;TZID=America/Chicago:20260504T091500
DTEND;TZID=America/Chicago:20260504T094500
DTSTAMP:20260422T171810
CREATED:20260405T060420Z
LAST-MODIFIED:20260422T063408Z
UID:10005104-1777886100-1777887900@reenaseniorliving.com
SUMMARY:Movement with Kayla (AR)
DESCRIPTION:
URL:https://reenaseniorliving.com/event-calendar/movement-with-kayla-ar-20/
LOCATION:Activity Room
CATEGORIES:Assisted Living
END:VEVENT
BEGIN:VEVENT
DTSTART;TZID=America/Chicago:20260504T100000
DTEND;TZID=America/Chicago:20260504T105500
DTSTAMP:20260422T171810
CREATED:20260409T060509Z
LAST-MODIFIED:20260422T063408Z
UID:10005142-1777888800-1777892100@reenaseniorliving.com
SUMMARY:The Chosen - Historical Drama on the ministry - With Chaplain Ann
DESCRIPTION:
URL:https://reenaseniorliving.com/event-calendar/the-chosen-historical-drama-on-the-ministry-of-jesus-ep-2-with-chaplain-ann-3/
LOCATION:Theatre
CATEGORIES:Assisted Living
END:VEVENT
BEGIN:VEVENT
DTSTART;TZID=America/Chicago:20260504T101500
DTEND;TZID=America/Chicago:20260504T111000
DTSTAMP:20260422T171810
CREATED:20260405T060420Z
LAST-MODIFIED:20260408T060418Z
UID:10005105-1777889700-1777893000@reenaseniorliving.com
SUMMARY:View - The Chosen with Chaplain Ann
DESCRIPTION:
URL:https://reenaseniorliving.com/event-calendar/view-the-chosen-with-chaplain-ann/
LOCATION:Theatre
CATEGORIES:Assisted Living
END:VEVENT
BEGIN:VEVENT
DTSTART;TZID=America/Chicago:20260504T133000
DTEND;TZID=America/Chicago:20260504T150000
DTSTAMP:20260422T171810
CREATED:20260409T060509Z
LAST-MODIFIED:20260422T063408Z
UID:10005143-1777901400-1777906800@reenaseniorliving.com
SUMMARY:Cow - Art Project for Hoard Museum Dairy Days Contest.
DESCRIPTION:
URL:https://reenaseniorliving.com/event-calendar/cow-art-project-for-hoard-museum-pop-in-and-take-a-look-at-the-action-or-help-the-group-2/
LOCATION:Activity Room
CATEGORIES:Assisted Living
END:VEVENT
BEGIN:VEVENT
DTSTART;TZID=America/Chicago:20260504T143500
DTEND;TZID=America/Chicago:20260504T151500
DTSTAMP:20260422T171810
CREATED:20260405T060420Z
LAST-MODIFIED:20260408T060418Z
UID:10005106-1777905300-1777907700@reenaseniorliving.com
SUMMARY:Nerf Target Fun with our CLCA Student Visitors
DESCRIPTION:
URL:https://reenaseniorliving.com/event-calendar/nerf-target-fun-with-our-clca-student-visitors-2/
LOCATION:Activity Room
CATEGORIES:Assisted Living
END:VEVENT
BEGIN:VEVENT
DTSTART;TZID=America/Chicago:20260504T153000
DTEND;TZID=America/Chicago:20260504T161500
DTSTAMP:20260422T171810
CREATED:20260405T060420Z
LAST-MODIFIED:20260422T063408Z
UID:10005107-1777908600-1777911300@reenaseniorliving.com
SUMMARY:Knitting\, Crochet\, Crafting\, and Social Time.
DESCRIPTION:
URL:https://reenaseniorliving.com/event-calendar/knitting-crochet-crafting-and-social-time-13/
LOCATION:Activity Room
CATEGORIES:Assisted Living
END:VEVENT
BEGIN:VEVENT
DTSTART;TZID=America/Chicago:20260505T085000
DTEND;TZID=America/Chicago:20260505T091000
DTSTAMP:20260422T171810
CREATED:20260406T060422Z
LAST-MODIFIED:20260408T060418Z
UID:10005108-1777971000-1777972200@reenaseniorliving.com
SUMMARY:Green Thumbs Garden Club
DESCRIPTION:
URL:https://reenaseniorliving.com/event-calendar/green-thumbs-garden-club-33/
LOCATION:Activity Room
CATEGORIES:Assisted Living
END:VEVENT
BEGIN:VEVENT
DTSTART;TZID=America/Chicago:20260505T091500
DTEND;TZID=America/Chicago:20260505T094500
DTSTAMP:20260422T171810
CREATED:20260406T060422Z
LAST-MODIFIED:20260422T063408Z
UID:10005109-1777972500-1777974300@reenaseniorliving.com
SUMMARY:Movement Class with Kayla
DESCRIPTION:
URL:https://reenaseniorliving.com/event-calendar/movement-class-with-kayla-183/
LOCATION:Activity Room
CATEGORIES:Assisted Living
END:VEVENT
BEGIN:VEVENT
DTSTART;TZID=America/Chicago:20260505T121500
DTEND;TZID=America/Chicago:20260505T130000
DTSTAMP:20260422T171810
CREATED:20260406T060422Z
LAST-MODIFIED:20260422T063408Z
UID:10005110-1777983300-1777986000@reenaseniorliving.com
SUMMARY:Librarian Visit with Deb - Stop by if you're interested in being part of Monthly Library Program
DESCRIPTION:
URL:https://reenaseniorliving.com/event-calendar/librarian-visit-with-deb-stop-by-if-youre-interested-in-being-part-of-monthly-library-program-4/
LOCATION:Library
CATEGORIES:Assisted Living
END:VEVENT
BEGIN:VEVENT
DTSTART;TZID=America/Chicago:20260505T124500
DTEND;TZID=America/Chicago:20260505T140000
DTSTAMP:20260422T171810
CREATED:20260406T060422Z
LAST-MODIFIED:20260422T063408Z
UID:10005111-1777985100-1777989600@reenaseniorliving.com
SUMMARY:Robot Soccer League! Play\, Cheer\, Enjoy!
DESCRIPTION:
URL:https://reenaseniorliving.com/event-calendar/robot-soccer-season-begins-join-us-play-cheer-enjoy-4/
LOCATION:Theatre
CATEGORIES:Assisted Living
END:VEVENT
BEGIN:VEVENT
DTSTART;TZID=America/Chicago:20260505T171500
DTEND;TZID=America/Chicago:20260505T190000
DTSTAMP:20260422T171810
CREATED:20260406T060422Z
LAST-MODIFIED:20260422T063409Z
UID:10005112-1778001300-1778007600@reenaseniorliving.com
SUMMARY:Game Night!
DESCRIPTION:
URL:https://reenaseniorliving.com/event-calendar/game-night-18/
LOCATION:Activity Room
CATEGORIES:Assisted Living
END:VEVENT
END:VCALENDAR