BEGIN:VCALENDAR
VERSION:2.0
PRODID:-//Reena Senior Living - ECPv6.11.2.1//NONSGML v1.0//EN
CALSCALE:GREGORIAN
METHOD:PUBLISH
X-ORIGINAL-URL:https://reenaseniorliving.com
X-WR-CALDESC:Events for Reena Senior Living
REFRESH-INTERVAL;VALUE=DURATION:PT1H
X-Robots-Tag:noindex
X-PUBLISHED-TTL:PT1H
BEGIN:VTIMEZONE
TZID:America/Chicago
BEGIN:DAYLIGHT
TZOFFSETFROM:-0600
TZOFFSETTO:-0500
TZNAME:CDT
DTSTART:20250309T080000
END:DAYLIGHT
BEGIN:STANDARD
TZOFFSETFROM:-0500
TZOFFSETTO:-0600
TZNAME:CST
DTSTART:20251102T070000
END:STANDARD
END:VTIMEZONE
BEGIN:VEVENT
DTSTART;TZID=America/Chicago:20251107T120000
DTEND;TZID=America/Chicago:20251107T121500
DTSTAMP:20260421T210817
CREATED:20251009T074920Z
LAST-MODIFIED:20251107T091902Z
UID:10002595-1762516800-1762517700@reenaseniorliving.com
SUMMARY:Your weekly activity packets will be delivered.
DESCRIPTION:
URL:https://reenaseniorliving.com/event-calendar/your-weekly-activity-packets-will-be-delivered-26/
LOCATION:Activity Room
CATEGORIES:Assisted Living
END:VEVENT
BEGIN:VEVENT
DTSTART;TZID=America/Chicago:20251107T130000
DTEND;TZID=America/Chicago:20251107T134500
DTSTAMP:20260421T210817
CREATED:20251009T074920Z
LAST-MODIFIED:20251107T091902Z
UID:10002592-1762520400-1762523100@reenaseniorliving.com
SUMMARY:The Big Show - Weekly update on Lifespark Challenge
DESCRIPTION:
URL:https://reenaseniorliving.com/event-calendar/the-big-show-weekly-update-on-lifespark-challenge-5/
LOCATION:Activity Room
CATEGORIES:Assisted Living
END:VEVENT
BEGIN:VEVENT
DTSTART;TZID=America/Chicago:20251107T140000
DTEND;TZID=America/Chicago:20251107T143000
DTSTAMP:20260421T210817
CREATED:20251009T074920Z
LAST-MODIFIED:20251029T083404Z
UID:10002594-1762524000-1762525800@reenaseniorliving.com
SUMMARY:Records with Dorothy and Kayla with homemade bread and beverage.
DESCRIPTION:
URL:https://reenaseniorliving.com/event-calendar/records-with-dorothy-and-kayla-with-homemade-bread-and-beverage-4/
LOCATION:Activity Room
CATEGORIES:Assisted Living
END:VEVENT
BEGIN:VEVENT
DTSTART;TZID=America/Chicago:20251107T140000
DTEND;TZID=America/Chicago:20251107T144500
DTSTAMP:20260421T210817
CREATED:20251009T074920Z
LAST-MODIFIED:20251023T083405Z
UID:10002593-1762524000-1762526700@reenaseniorliving.com
SUMMARY:Records & Spirits with Kayla
DESCRIPTION:
URL:https://reenaseniorliving.com/event-calendar/records-spirits-with-kayla-3/
LOCATION:Activity Room
CATEGORIES:Assisted Living
END:VEVENT
BEGIN:VEVENT
DTSTART;TZID=America/Chicago:20251107T160500
DTEND;TZID=America/Chicago:20251107T162500
DTSTAMP:20260421T210817
CREATED:20251009T074920Z
LAST-MODIFIED:20251020T081904Z
UID:10002596-1762531500-1762532700@reenaseniorliving.com
SUMMARY:Qi gong Video- Therapy Group Guided Via YouTube
DESCRIPTION:
URL:https://reenaseniorliving.com/event-calendar/qi-gong-video-therapy-group-guided-via-youtube-11/
LOCATION:Activity Room
CATEGORIES:Assisted Living
END:VEVENT
BEGIN:VEVENT
DTSTART;TZID=America/Chicago:20251107T173000
DTEND;TZID=America/Chicago:20251107T193000
DTSTAMP:20260421T210817
CREATED:20251009T074920Z
LAST-MODIFIED:20251107T091902Z
UID:10002597-1762536600-1762543800@reenaseniorliving.com
SUMMARY:Resident Run Social Time - Balcony\, Activity Room or Pub.
DESCRIPTION:
URL:https://reenaseniorliving.com/event-calendar/resident-run-social-time-balcony-activity-room-or-pub-20/
LOCATION:Library
CATEGORIES:Assisted Living
END:VEVENT
BEGIN:VEVENT
DTSTART;TZID=America/Chicago:20251108T133000
DTEND;TZID=America/Chicago:20251108T143000
DTSTAMP:20260421T210817
CREATED:20251025T083405Z
LAST-MODIFIED:20251108T091902Z
UID:10002851-1762608600-1762612200@reenaseniorliving.com
SUMMARY:Bingo with Anne!
DESCRIPTION:
URL:https://reenaseniorliving.com/event-calendar/bingo-with-anne-3/
LOCATION:Activity Room
CATEGORIES:Assisted Living
END:VEVENT
BEGIN:VEVENT
DTSTART;TZID=America/Chicago:20251108T173000
DTEND;TZID=America/Chicago:20251108T193000
DTSTAMP:20260421T210817
CREATED:20251010T074912Z
LAST-MODIFIED:20251108T091902Z
UID:10002627-1762623000-1762630200@reenaseniorliving.com
SUMMARY:Resident Run Social Time - Balcony\, Activity Room or Pub.
DESCRIPTION:
URL:https://reenaseniorliving.com/event-calendar/resident-run-social-time-balcony-activity-room-or-pub-21/
LOCATION:Library
CATEGORIES:Assisted Living
END:VEVENT
BEGIN:VEVENT
DTSTART;TZID=America/Chicago:20251109T130000
DTEND;TZID=America/Chicago:20251109T140000
DTSTAMP:20260421T210817
CREATED:20251011T060412Z
LAST-MODIFIED:20251109T091902Z
UID:10002628-1762693200-1762696800@reenaseniorliving.com
SUMMARY:Communion (Catholic Rounds from Andy or Tom)
DESCRIPTION:Volunteer makes rounds to all those who wish to receive communion.
URL:https://reenaseniorliving.com/event-calendar/communion-catholic-rounds-from-andy-or-tom-26/
LOCATION:Reena
CATEGORIES:Assisted Living,Legacy Court
END:VEVENT
BEGIN:VEVENT
DTSTART;TZID=America/Chicago:20251109T173000
DTEND;TZID=America/Chicago:20251109T193000
DTSTAMP:20260421T210817
CREATED:20251011T074909Z
LAST-MODIFIED:20251109T091902Z
UID:10002630-1762709400-1762716600@reenaseniorliving.com
SUMMARY:Resident Run Social Time - Balcony\, Activity Room or Pub.
DESCRIPTION:
URL:https://reenaseniorliving.com/event-calendar/resident-run-social-time-balcony-activity-room-or-pub-22/
LOCATION:Library
CATEGORIES:Assisted Living
END:VEVENT
BEGIN:VEVENT
DTSTART;TZID=America/Chicago:20251110T091500
DTEND;TZID=America/Chicago:20251110T094500
DTSTAMP:20260421T210817
CREATED:20251012T074927Z
LAST-MODIFIED:20251110T091902Z
UID:10002642-1762766100-1762767900@reenaseniorliving.com
SUMMARY:Movement with Kayla
DESCRIPTION:
URL:https://reenaseniorliving.com/event-calendar/movement-with-kayla-9/
LOCATION:Activity Room
CATEGORIES:Assisted Living
END:VEVENT
BEGIN:VEVENT
DTSTART;TZID=America/Chicago:20251110T094500
DTEND;TZID=America/Chicago:20251110T100500
DTSTAMP:20260421T210817
CREATED:20251012T074927Z
LAST-MODIFIED:20251023T083406Z
UID:10002643-1762767900-1762769100@reenaseniorliving.com
SUMMARY:TRYathlon - Walk 5 minutes\, Bike 5 minutes\, Arm Bike 1-2 minutes\, close with Gentle Stretch
DESCRIPTION:
URL:https://reenaseniorliving.com/event-calendar/tryathlon-walk-5-minutes-bike-5-minutes-arm-bike-1-2-minutes-close-with-gentle-stretch/
LOCATION:Activity Room
CATEGORIES:Assisted Living
END:VEVENT
BEGIN:VEVENT
DTSTART;TZID=America/Chicago:20251110T100000
DTEND;TZID=America/Chicago:20251110T103000
DTSTAMP:20260421T210817
CREATED:20251024T083404Z
LAST-MODIFIED:20251024T083404Z
UID:10002829-1762768800-1762770600@reenaseniorliving.com
SUMMARY:Biking Class - *New Class
DESCRIPTION:
URL:https://reenaseniorliving.com/event-calendar/biking-class-new-class-6/
LOCATION:Exercise Room Basement
CATEGORIES:Assisted Living
END:VEVENT
BEGIN:VEVENT
DTSTART;TZID=America/Chicago:20251110T101500
DTEND;TZID=America/Chicago:20251110T110000
DTSTAMP:20260421T210817
CREATED:20251012T060429Z
LAST-MODIFIED:20251110T091902Z
UID:10002634-1762769700-1762772400@reenaseniorliving.com
SUMMARY:Lutheran Service with Julie - Legacy Court
DESCRIPTION:
URL:https://reenaseniorliving.com/event-calendar/lutheran-service-with-julie-legacy-court-6/
LOCATION:Legacy Court
CATEGORIES:Assisted Living,Legacy Court
END:VEVENT
BEGIN:VEVENT
DTSTART;TZID=America/Chicago:20251110T110000
DTEND;TZID=America/Chicago:20251110T111500
DTSTAMP:20260421T210817
CREATED:20251104T091904Z
LAST-MODIFIED:20251110T091902Z
UID:10003048-1762772400-1762773300@reenaseniorliving.com
SUMMARY:Green Thumbs
DESCRIPTION:
URL:https://reenaseniorliving.com/event-calendar/green-thumbs-3/
LOCATION:Activity Room
CATEGORIES:Assisted Living
END:VEVENT
BEGIN:VEVENT
DTSTART;TZID=America/Chicago:20251110T130000
DTEND;TZID=America/Chicago:20251110T140000
DTSTAMP:20260421T210817
CREATED:20251012T074927Z
LAST-MODIFIED:20251110T091903Z
UID:10002644-1762779600-1762783200@reenaseniorliving.com
SUMMARY:Bingo
DESCRIPTION:
URL:https://reenaseniorliving.com/event-calendar/bingo-52/
LOCATION:Activity Room
CATEGORIES:Assisted Living
END:VEVENT
BEGIN:VEVENT
DTSTART;TZID=America/Chicago:20251110T173000
DTEND;TZID=America/Chicago:20251110T193000
DTSTAMP:20260421T210817
CREATED:20251012T074927Z
LAST-MODIFIED:20251106T091900Z
UID:10002645-1762795800-1762803000@reenaseniorliving.com
SUMMARY:Resident Run Social Time - Balcony\, Activity Room or Pub.
DESCRIPTION:
URL:https://reenaseniorliving.com/event-calendar/resident-run-social-time-balcony-activity-room-or-pub-23/
LOCATION:Library
CATEGORIES:Assisted Living
END:VEVENT
BEGIN:VEVENT
DTSTART;TZID=America/Chicago:20251110T191500
DTEND;TZID=America/Chicago:20251110T221500
DTSTAMP:20260421T210817
CREATED:20251107T073405Z
LAST-MODIFIED:20251110T091903Z
UID:10003089-1762802100-1762812900@reenaseniorliving.com
SUMMARY:Packers vs. Eagles - Monday Night Football - Go Pack Go!
DESCRIPTION:
URL:https://reenaseniorliving.com/event-calendar/packers-vs-eagles-monday-night-football-go-pack-go/
CATEGORIES:Assisted Living,Legacy Court
END:VEVENT
BEGIN:VEVENT
DTSTART;TZID=America/Chicago:20251111T091500
DTEND;TZID=America/Chicago:20251111T094500
DTSTAMP:20260421T210817
CREATED:20251013T080413Z
LAST-MODIFIED:20251111T091903Z
UID:10002655-1762852500-1762854300@reenaseniorliving.com
SUMMARY:Movement Class with Kayla
DESCRIPTION:
URL:https://reenaseniorliving.com/event-calendar/movement-class-with-kayla-82/
LOCATION:Activity Room
CATEGORIES:Assisted Living
END:VEVENT
BEGIN:VEVENT
DTSTART;TZID=America/Chicago:20251111T094500
DTEND;TZID=America/Chicago:20251111T101500
DTSTAMP:20260421T210817
CREATED:20251013T080413Z
LAST-MODIFIED:20251020T081905Z
UID:10002656-1762854300-1762856100@reenaseniorliving.com
SUMMARY:Qi gong Video- Therapy Group Guided Via YouTube
DESCRIPTION:
URL:https://reenaseniorliving.com/event-calendar/qi-gong-video-therapy-group-guided-via-youtube-12/
LOCATION:Activity Room
CATEGORIES:Assisted Living
END:VEVENT
BEGIN:VEVENT
DTSTART;TZID=America/Chicago:20251111T095000
DTEND;TZID=America/Chicago:20251111T100500
DTSTAMP:20260421T210817
CREATED:20251025T083405Z
LAST-MODIFIED:20251111T091903Z
UID:10002852-1762854600-1762855500@reenaseniorliving.com
SUMMARY:Balance Training on Main Floor - Hallway
DESCRIPTION:
URL:https://reenaseniorliving.com/event-calendar/new-class-balance-in-main-floor-hallway-fox-rehabilitations-outline-fall-prevention-8/
CATEGORIES:Assisted Living
END:VEVENT
BEGIN:VEVENT
DTSTART;TZID=America/Chicago:20251111T100000
DTEND;TZID=America/Chicago:20251111T101500
DTSTAMP:20260421T210817
CREATED:20251025T083405Z
LAST-MODIFIED:20251103T090402Z
UID:10002853-1762855200-1762856100@reenaseniorliving.com
SUMMARY:Green Thumbs
DESCRIPTION:
URL:https://reenaseniorliving.com/event-calendar/green-thumbs-2/
LOCATION:Activity Room
CATEGORIES:Assisted Living
END:VEVENT
BEGIN:VEVENT
DTSTART;TZID=America/Chicago:20251111T101500
DTEND;TZID=America/Chicago:20251111T111500
DTSTAMP:20260421T210817
CREATED:20251106T091901Z
LAST-MODIFIED:20251111T091903Z
UID:10003082-1762856100-1762859700@reenaseniorliving.com
SUMMARY:Prepare Gifts for 3rd Graders at Luther Elementary. Day one of Two Days Preparing.
DESCRIPTION:
URL:https://reenaseniorliving.com/event-calendar/prepare-gifts-for-3rd-graders-at-luther-elementary-well-be-bagging-and-stappling-today/
LOCATION:Activity Room
CATEGORIES:Assisted Living
END:VEVENT
BEGIN:VEVENT
DTSTART;TZID=America/Chicago:20251111T130000
DTEND;TZID=America/Chicago:20251111T134000
DTSTAMP:20260421T210817
CREATED:20251013T080414Z
LAST-MODIFIED:20251111T091903Z
UID:10002657-1762866000-1762868400@reenaseniorliving.com
SUMMARY:Deep Dive with Dr. Bill: Sugar Sugar & Diabetes
DESCRIPTION:
URL:https://reenaseniorliving.com/event-calendar/leg-crank-biking-day-and-quiz-with-our-reena-rocker-team/
LOCATION:Activity Room
CATEGORIES:Assisted Living
END:VEVENT
BEGIN:VEVENT
DTSTART;TZID=America/Chicago:20251111T143000
DTEND;TZID=America/Chicago:20251111T153000
DTSTAMP:20260421T210817
CREATED:20251013T060422Z
LAST-MODIFIED:20251111T091903Z
UID:10002652-1762871400-1762875000@reenaseniorliving.com
SUMMARY:Veteran's Celebration and Recognition.
DESCRIPTION:
URL:https://reenaseniorliving.com/event-calendar/veterans-celebration-and-recognition/
LOCATION:Dining Room AL
CATEGORIES:Assisted Living,Legacy Court
END:VEVENT
BEGIN:VEVENT
DTSTART;TZID=America/Chicago:20251111T160500
DTEND;TZID=America/Chicago:20251111T162500
DTSTAMP:20260421T210817
CREATED:20251013T080414Z
LAST-MODIFIED:20251020T081905Z
UID:10002658-1762877100-1762878300@reenaseniorliving.com
SUMMARY:Qi gong Video- Therapy Group Guided Via YouTube
DESCRIPTION:
URL:https://reenaseniorliving.com/event-calendar/qi-gong-video-therapy-group-guided-via-youtube-13/
LOCATION:Activity Room
CATEGORIES:Assisted Living
END:VEVENT
BEGIN:VEVENT
DTSTART;TZID=America/Chicago:20251111T173000
DTEND;TZID=America/Chicago:20251111T193000
DTSTAMP:20260421T210817
CREATED:20251013T080414Z
LAST-MODIFIED:20251106T091901Z
UID:10002659-1762882200-1762889400@reenaseniorliving.com
SUMMARY:Resident Run Social Time - Balcony\, Activity Room or Pub.
DESCRIPTION:
URL:https://reenaseniorliving.com/event-calendar/resident-run-social-time-balcony-activity-room-or-pub-24/
LOCATION:Library
CATEGORIES:Assisted Living
END:VEVENT
BEGIN:VEVENT
DTSTART;TZID=America/Chicago:20251112T091500
DTEND;TZID=America/Chicago:20251112T094500
DTSTAMP:20260421T210817
CREATED:20251014T080736Z
LAST-MODIFIED:20251112T091900Z
UID:10002674-1762938900-1762940700@reenaseniorliving.com
SUMMARY:Movement Class with Kayla
DESCRIPTION:
URL:https://reenaseniorliving.com/event-calendar/movement-class-with-kayla-83/
LOCATION:Activity Room
CATEGORIES:Assisted Living
END:VEVENT
BEGIN:VEVENT
DTSTART;TZID=America/Chicago:20251112T094500
DTEND;TZID=America/Chicago:20251112T100000
DTSTAMP:20260421T210817
CREATED:20251014T080736Z
LAST-MODIFIED:20251023T083406Z
UID:10002675-1762940700-1762941600@reenaseniorliving.com
SUMMARY:Biking with Music
DESCRIPTION:
URL:https://reenaseniorliving.com/event-calendar/biking-with-music-9/
LOCATION:Activity Room
CATEGORIES:Assisted Living
END:VEVENT
BEGIN:VEVENT
DTSTART;TZID=America/Chicago:20251112T094500
DTEND;TZID=America/Chicago:20251112T100000
DTSTAMP:20260421T210817
CREATED:20251014T080736Z
LAST-MODIFIED:20251023T083406Z
UID:10002676-1762940700-1762941600@reenaseniorliving.com
SUMMARY:Walking Group
DESCRIPTION:
URL:https://reenaseniorliving.com/event-calendar/walking-group-34/
LOCATION:Activity Room
CATEGORIES:Assisted Living
END:VEVENT
END:VCALENDAR