BEGIN:VCALENDAR
VERSION:2.0
PRODID:-//Reena Senior Living - ECPv6.11.2.1//NONSGML v1.0//EN
CALSCALE:GREGORIAN
METHOD:PUBLISH
X-ORIGINAL-URL:https://reenaseniorliving.com
X-WR-CALDESC:Events for Reena Senior Living
REFRESH-INTERVAL;VALUE=DURATION:PT1H
X-Robots-Tag:noindex
X-PUBLISHED-TTL:PT1H
BEGIN:VTIMEZONE
TZID:America/Chicago
BEGIN:DAYLIGHT
TZOFFSETFROM:-0600
TZOFFSETTO:-0500
TZNAME:CDT
DTSTART:20260308T080000
END:DAYLIGHT
BEGIN:STANDARD
TZOFFSETFROM:-0500
TZOFFSETTO:-0600
TZNAME:CST
DTSTART:20261101T070000
END:STANDARD
END:VTIMEZONE
BEGIN:VEVENT
DTSTART;TZID=America/Chicago:20260517T130000
DTEND;TZID=America/Chicago:20260517T143000
DTSTAMP:20260423T014435
CREATED:20260418T061919Z
LAST-MODIFIED:20260423T063417Z
UID:10005328-1779022800-1779028200@reenaseniorliving.com
SUMMARY:Catholic Communion Visits with Tom or Andy
DESCRIPTION:
URL:https://reenaseniorliving.com/event-calendar/catholic-communion-visits-with-tom-or-andy-13/
CATEGORIES:Assisted Living
END:VEVENT
BEGIN:VEVENT
DTSTART;TZID=America/Chicago:20260517T171500
DTEND;TZID=America/Chicago:20260517T191500
DTSTAMP:20260423T014435
CREATED:20260418T061919Z
LAST-MODIFIED:20260423T063417Z
UID:10005329-1779038100-1779045300@reenaseniorliving.com
SUMMARY:Resident Run Social Time
DESCRIPTION:
URL:https://reenaseniorliving.com/event-calendar/resident-run-social-time-23/
CATEGORIES:Assisted Living
END:VEVENT
BEGIN:VEVENT
DTSTART;TZID=America/Chicago:20260518T091500
DTEND;TZID=America/Chicago:20260518T094500
DTSTAMP:20260423T014435
CREATED:20260419T063447Z
LAST-MODIFIED:20260423T063418Z
UID:10005334-1779095700-1779097500@reenaseniorliving.com
SUMMARY:Movement with Kayla (AR)
DESCRIPTION:
URL:https://reenaseniorliving.com/event-calendar/movement-with-kayla-ar-22/
LOCATION:Activity Room
CATEGORIES:Assisted Living
END:VEVENT
BEGIN:VEVENT
DTSTART;TZID=America/Chicago:20260518T100000
DTEND;TZID=America/Chicago:20260518T105500
DTSTAMP:20260423T014435
CREATED:20260419T063447Z
LAST-MODIFIED:20260423T063418Z
UID:10005335-1779098400-1779101700@reenaseniorliving.com
SUMMARY:The Chosen - Historical Drama on the ministry of Jesus - With Chaplain Ann
DESCRIPTION:
URL:https://reenaseniorliving.com/event-calendar/the-chosen-historical-drama-on-the-ministry-of-jesus-with-chaplain-ann/
LOCATION:Theatre
CATEGORIES:Assisted Living
END:VEVENT
BEGIN:VEVENT
DTSTART;TZID=America/Chicago:20260518T101000
DTEND;TZID=America/Chicago:20260518T110500
DTSTAMP:20260423T014435
CREATED:20260419T063447Z
LAST-MODIFIED:20260423T063419Z
UID:10005336-1779099000-1779102300@reenaseniorliving.com
SUMMARY:Trinity Lutheran Visit with Coffee Social Hour
DESCRIPTION:Coffee will be offered. Please join us.
URL:https://reenaseniorliving.com/event-calendar/trinity-lutheran-visit-with-coffee-social-hour-6/
LOCATION:Activity Room
CATEGORIES:Assisted Living
END:VEVENT
BEGIN:VEVENT
DTSTART;TZID=America/Chicago:20260518T133000
DTEND;TZID=America/Chicago:20260518T150000
DTSTAMP:20260423T014435
CREATED:20260419T063448Z
LAST-MODIFIED:20260423T063419Z
UID:10005337-1779111000-1779116400@reenaseniorliving.com
SUMMARY:Cow - Art Project for Hoard Museum -Pop in and take a look at the action or help the group.
DESCRIPTION:
URL:https://reenaseniorliving.com/event-calendar/cow-art-project-for-hoard-museum-pop-in-and-take-a-look-at-the-action-or-help-the-group-4/
LOCATION:Activity Room
CATEGORIES:Assisted Living
END:VEVENT
BEGIN:VEVENT
DTSTART;TZID=America/Chicago:20260518T153000
DTEND;TZID=America/Chicago:20260518T161500
DTSTAMP:20260423T014435
CREATED:20260419T063448Z
LAST-MODIFIED:20260423T063419Z
UID:10005338-1779118200-1779120900@reenaseniorliving.com
SUMMARY:Knitting\, Crochet\, Crafting\, and Social Time.
DESCRIPTION:
URL:https://reenaseniorliving.com/event-calendar/knitting-crochet-crafting-and-social-time-15/
LOCATION:Activity Room
CATEGORIES:Assisted Living
END:VEVENT
BEGIN:VEVENT
DTSTART;TZID=America/Chicago:20260519T091500
DTEND;TZID=America/Chicago:20260519T094500
DTSTAMP:20260423T014435
CREATED:20260420T063420Z
LAST-MODIFIED:20260423T063421Z
UID:10005346-1779182100-1779183900@reenaseniorliving.com
SUMMARY:Movement Class with Kayla
DESCRIPTION:
URL:https://reenaseniorliving.com/event-calendar/movement-class-with-kayla-188/
LOCATION:Activity Room
CATEGORIES:Assisted Living
END:VEVENT
BEGIN:VEVENT
DTSTART;TZID=America/Chicago:20260519T100000
DTEND;TZID=America/Chicago:20260519T110000
DTSTAMP:20260423T014435
CREATED:20260420T063420Z
LAST-MODIFIED:20260423T063422Z
UID:10005347-1779184800-1779188400@reenaseniorliving.com
SUMMARY:Green Thumbs Garden Club - Clean up Beds
DESCRIPTION:
URL:https://reenaseniorliving.com/event-calendar/green-thumbs-garden-club-clean-up-beds-3/
LOCATION:Activity Room
CATEGORIES:Assisted Living
END:VEVENT
BEGIN:VEVENT
DTSTART;TZID=America/Chicago:20260519T124500
DTEND;TZID=America/Chicago:20260519T140000
DTSTAMP:20260423T014435
CREATED:20260420T063420Z
LAST-MODIFIED:20260423T063422Z
UID:10005348-1779194700-1779199200@reenaseniorliving.com
SUMMARY:Robot Soccer League! Play\, Cheer\, Enjoy!
DESCRIPTION:
URL:https://reenaseniorliving.com/event-calendar/robot-soccer-league-play-cheer-enjoy/
LOCATION:Theatre
CATEGORIES:Assisted Living
END:VEVENT
BEGIN:VEVENT
DTSTART;TZID=America/Chicago:20260519T171500
DTEND;TZID=America/Chicago:20260519T190000
DTSTAMP:20260423T014435
CREATED:20260420T063420Z
LAST-MODIFIED:20260423T063423Z
UID:10005349-1779210900-1779217200@reenaseniorliving.com
SUMMARY:Game Night!
DESCRIPTION:
URL:https://reenaseniorliving.com/event-calendar/game-night-23/
LOCATION:Activity Room
CATEGORIES:Assisted Living
END:VEVENT
BEGIN:VEVENT
DTSTART;TZID=America/Chicago:20260520T091500
DTEND;TZID=America/Chicago:20260520T094500
DTSTAMP:20260423T014435
CREATED:20260421T063436Z
LAST-MODIFIED:20260423T063423Z
UID:10005358-1779268500-1779270300@reenaseniorliving.com
SUMMARY:Movement Class with Kayla
DESCRIPTION:
URL:https://reenaseniorliving.com/event-calendar/movement-class-with-kayla-189/
LOCATION:Activity Room
CATEGORIES:Assisted Living
END:VEVENT
BEGIN:VEVENT
DTSTART;TZID=America/Chicago:20260520T101500
DTEND;TZID=America/Chicago:20260520T111500
DTSTAMP:20260423T014435
CREATED:20260420T152006Z
LAST-MODIFIED:20260423T063423Z
UID:10005357-1779272100-1779275700@reenaseniorliving.com
SUMMARY:Catholic Service at Legacy Court
DESCRIPTION:
URL:https://reenaseniorliving.com/event-calendar/catholic-service-at-legacy-court-28/
LOCATION:Legacy Court
CATEGORIES:Assisted Living,Legacy Court
END:VEVENT
BEGIN:VEVENT
DTSTART;TZID=America/Chicago:20260520T140000
DTEND;TZID=America/Chicago:20260520T145000
DTSTAMP:20260423T014435
CREATED:20260421T063436Z
LAST-MODIFIED:20260423T063424Z
UID:10005359-1779285600-1779288600@reenaseniorliving.com
SUMMARY:St. Paul's Lutheran Service - Legacy Court
DESCRIPTION:
URL:https://reenaseniorliving.com/event-calendar/st-pauls-lutheran-service-legacy-court-7/
LOCATION:Legacy Court
CATEGORIES:Assisted Living,Legacy Court
END:VEVENT
BEGIN:VEVENT
DTSTART;TZID=America/Chicago:20260521T091500
DTEND;TZID=America/Chicago:20260521T094500
DTSTAMP:20260423T014435
CREATED:20260422T063420Z
LAST-MODIFIED:20260423T063424Z
UID:10005367-1779354900-1779356700@reenaseniorliving.com
SUMMARY:Movement Class
DESCRIPTION:Gentle Movement\, Strength\, Mobility\, Balance\, & More.
URL:https://reenaseniorliving.com/event-calendar/movement-class-101/
LOCATION:Activity Room
CATEGORIES:Assisted Living
END:VEVENT
BEGIN:VEVENT
DTSTART;TZID=America/Chicago:20260521T100000
DTEND;TZID=America/Chicago:20260521T110000
DTSTAMP:20260423T014435
CREATED:20260422T063420Z
LAST-MODIFIED:20260423T063425Z
UID:10005368-1779357600-1779361200@reenaseniorliving.com
SUMMARY:Green Thumbs Garden Club - Clean up Beds
DESCRIPTION:
URL:https://reenaseniorliving.com/event-calendar/green-thumbs-garden-club-clean-up-beds-4/
LOCATION:Activity Room
CATEGORIES:Assisted Living
END:VEVENT
BEGIN:VEVENT
DTSTART;TZID=America/Chicago:20260521T130000
DTEND;TZID=America/Chicago:20260521T131500
DTSTAMP:20260423T014435
CREATED:20260422T063420Z
LAST-MODIFIED:20260423T063425Z
UID:10005369-1779368400-1779369300@reenaseniorliving.com
SUMMARY:Pet Therapy Visit
DESCRIPTION:Therapy Dog and Human will visit Lobby and then Legacy Court.
URL:https://reenaseniorliving.com/event-calendar/pet-therapy-visit-13/
LOCATION:Lobby
CATEGORIES:Assisted Living
END:VEVENT
BEGIN:VEVENT
DTSTART;TZID=America/Chicago:20260521T143000
DTEND;TZID=America/Chicago:20260521T153000
DTSTAMP:20260423T014435
CREATED:20260422T063420Z
LAST-MODIFIED:20260423T063425Z
UID:10005370-1779373800-1779377400@reenaseniorliving.com
SUMMARY:Birthday Party! Highlights of our Birthday Guests Lives.
DESCRIPTION:Cake and Beverage. Community Members with birthdays this month will have time to share something about themselves. It will be followed with music and singing at 3:00.
URL:https://reenaseniorliving.com/event-calendar/birthday-party-highlights-of-our-birthday-guests-lives-10/
LOCATION:Activity Room
CATEGORIES:Assisted Living
END:VEVENT
BEGIN:VEVENT
DTSTART;TZID=America/Chicago:20260522T104500
DTEND;TZID=America/Chicago:20260522T111500
DTSTAMP:20260423T014435
CREATED:20260423T063426Z
LAST-MODIFIED:20260423T063426Z
UID:10005380-1779446700-1779448500@reenaseniorliving.com
SUMMARY:Coffee in the Pub with Justin
DESCRIPTION:
URL:https://reenaseniorliving.com/event-calendar/coffee-in-the-pub-with-justin-2/
LOCATION:Pub
CATEGORIES:Assisted Living
END:VEVENT
BEGIN:VEVENT
DTSTART;TZID=America/Chicago:20260522T110000
DTEND;TZID=America/Chicago:20260522T113000
DTSTAMP:20260423T014435
CREATED:20260423T063426Z
LAST-MODIFIED:20260423T063426Z
UID:10005381-1779447600-1779449400@reenaseniorliving.com
SUMMARY:Your weekly activity packets will be delivered.
DESCRIPTION:
URL:https://reenaseniorliving.com/event-calendar/your-weekly-activity-packets-will-be-delivered-54/
LOCATION:Activity Room
CATEGORIES:Assisted Living
END:VEVENT
BEGIN:VEVENT
DTSTART;TZID=America/Chicago:20260522T130000
DTEND;TZID=America/Chicago:20260522T133000
DTSTAMP:20260423T014435
CREATED:20260423T063427Z
LAST-MODIFIED:20260423T063427Z
UID:10005382-1779454800-1779456600@reenaseniorliving.com
SUMMARY:Big Show - Scrimmage Follow-up
DESCRIPTION:
URL:https://reenaseniorliving.com/event-calendar/big-show-scrimmage-follow-up-5/
LOCATION:Activity Room
CATEGORIES:Assisted Living
END:VEVENT
BEGIN:VEVENT
DTSTART;TZID=America/Chicago:20260522T133000
DTEND;TZID=America/Chicago:20260522T143000
DTSTAMP:20260423T014435
CREATED:20260423T063427Z
LAST-MODIFIED:20260423T063427Z
UID:10005383-1779456600-1779460200@reenaseniorliving.com
SUMMARY:Paint in a bag with Mary - sign-up for details
DESCRIPTION:
URL:https://reenaseniorliving.com/event-calendar/paint-in-a-bag-with-mary-sign-up-for-details/
LOCATION:Activity Room
CATEGORIES:Assisted Living
END:VEVENT
BEGIN:VEVENT
DTSTART;TZID=America/Chicago:20260522T171500
DTEND;TZID=America/Chicago:20260522T191500
DTSTAMP:20260423T014435
CREATED:20260423T063428Z
LAST-MODIFIED:20260423T063428Z
UID:10005384-1779470100-1779477300@reenaseniorliving.com
SUMMARY:Resident Run Social Time
DESCRIPTION:
URL:https://reenaseniorliving.com/event-calendar/resident-run-social-time-24/
CATEGORIES:Assisted Living
END:VEVENT
END:VCALENDAR