BEGIN:VCALENDAR
VERSION:2.0
PRODID:-//Reena Senior Living - ECPv6.11.2.1//NONSGML v1.0//EN
CALSCALE:GREGORIAN
METHOD:PUBLISH
X-ORIGINAL-URL:https://reenaseniorliving.com
X-WR-CALDESC:Events for Reena Senior Living
REFRESH-INTERVAL;VALUE=DURATION:PT1H
X-Robots-Tag:noindex
X-PUBLISHED-TTL:PT1H
BEGIN:VTIMEZONE
TZID:America/Chicago
BEGIN:DAYLIGHT
TZOFFSETFROM:-0600
TZOFFSETTO:-0500
TZNAME:CDT
DTSTART:20250309T080000
END:DAYLIGHT
BEGIN:STANDARD
TZOFFSETFROM:-0500
TZOFFSETTO:-0600
TZNAME:CST
DTSTART:20251102T070000
END:STANDARD
END:VTIMEZONE
BEGIN:VEVENT
DTSTART;TZID=America/Chicago:20250620T103000
DTEND;TZID=America/Chicago:20250620T110000
DTSTAMP:20260422T042502
CREATED:20250521T215208Z
LAST-MODIFIED:20250612T001941Z
UID:10000471-1750415400-1750417200@reenaseniorliving.com
SUMMARY:Coffee Social Time with Reminiscing
DESCRIPTION:Social Time with Coffee
URL:https://reenaseniorliving.com/event-calendar/coffee-social-time-with-reminiscing-6/
LOCATION:Activity Room
CATEGORIES:Assisted Living
END:VEVENT
BEGIN:VEVENT
DTSTART;TZID=America/Chicago:20250620T130000
DTEND;TZID=America/Chicago:20250620T140000
DTSTAMP:20260422T042502
CREATED:20250521T215211Z
LAST-MODIFIED:20250602T233425Z
UID:10000472-1750424400-1750428000@reenaseniorliving.com
SUMMARY:The Big Show - Review the week!
DESCRIPTION:
URL:https://reenaseniorliving.com/event-calendar/the-big-show-review-the-week-5/
LOCATION:Activity Room
CATEGORIES:Assisted Living,Legacy Court
END:VEVENT
BEGIN:VEVENT
DTSTART;TZID=America/Chicago:20250620T133000
DTEND;TZID=America/Chicago:20250620T140000
DTSTAMP:20260422T042502
CREATED:20250529T232248Z
LAST-MODIFIED:20250620T050635Z
UID:10000580-1750426200-1750428000@reenaseniorliving.com
SUMMARY:Story of Christ reading with volunteer Dorothy
DESCRIPTION:
URL:https://reenaseniorliving.com/event-calendar/story-of-christ-reading-with-volunteer-dorothy-3/
LOCATION:Pub
CATEGORIES:Assisted Living
END:VEVENT
BEGIN:VEVENT
DTSTART;TZID=America/Chicago:20250620T150000
DTEND;TZID=America/Chicago:20250620T151500
DTSTAMP:20260422T042502
CREATED:20250521T215213Z
LAST-MODIFIED:20250620T050635Z
UID:10000473-1750431600-1750432500@reenaseniorliving.com
SUMMARY:Your weekly activity packets will be delivered.
DESCRIPTION:
URL:https://reenaseniorliving.com/event-calendar/your-weekly-activity-packets-will-be-delivered-6/
LOCATION:Activity Room
CATEGORIES:Assisted Living
END:VEVENT
BEGIN:VEVENT
DTSTART;TZID=America/Chicago:20250620T170000
DTEND;TZID=America/Chicago:20250620T190000
DTSTAMP:20260422T042502
CREATED:20250522T220707Z
LAST-MODIFIED:20250620T050636Z
UID:10000481-1750438800-1750446000@reenaseniorliving.com
SUMMARY:Resident Guided - Social Time
DESCRIPTION:
URL:https://reenaseniorliving.com/event-calendar/resident-guided-social-time-38/
LOCATION:Activity Room
CATEGORIES:Assisted Living
END:VEVENT
BEGIN:VEVENT
DTSTART;TZID=America/Chicago:20250621T103000
DTEND;TZID=America/Chicago:20250621T111500
DTSTAMP:20260422T042502
CREATED:20250613T001901Z
LAST-MODIFIED:20250621T050404Z
UID:10000784-1750501800-1750504500@reenaseniorliving.com
SUMMARY:Movement Class with Kayla
DESCRIPTION:
URL:https://reenaseniorliving.com/event-calendar/movement-class-with-kayla/
LOCATION:Activity Room
CATEGORIES:Assisted Living
END:VEVENT
BEGIN:VEVENT
DTSTART;TZID=America/Chicago:20250621T110000
DTEND;TZID=America/Chicago:20250621T113000
DTSTAMP:20260422T042502
CREATED:20250522T220708Z
LAST-MODIFIED:20250621T050404Z
UID:10000482-1750503600-1750505400@reenaseniorliving.com
SUMMARY:Biking Time - Open House
DESCRIPTION:Pop in for a few minutes right before lunch. Start with 2-3 minutes.
URL:https://reenaseniorliving.com/event-calendar/biking-time-open-house-11/
LOCATION:Activity Room
CATEGORIES:Assisted Living
END:VEVENT
BEGIN:VEVENT
DTSTART;TZID=America/Chicago:20250621T140000
DTEND;TZID=America/Chicago:20250621T144000
DTSTAMP:20260422T042502
CREATED:20250613T001901Z
LAST-MODIFIED:20250621T050404Z
UID:10000785-1750514400-1750516800@reenaseniorliving.com
SUMMARY:Green Thumbs - Watering and Care with Kayla
DESCRIPTION:
URL:https://reenaseniorliving.com/event-calendar/green-thumbs-watering-and-care-with-kayla/
LOCATION:Activity Room Patio
CATEGORIES:Assisted Living
END:VEVENT
BEGIN:VEVENT
DTSTART;TZID=America/Chicago:20250621T170000
DTEND;TZID=America/Chicago:20250621T190000
DTSTAMP:20260422T042502
CREATED:20250522T220710Z
LAST-MODIFIED:20250621T050404Z
UID:10000483-1750525200-1750532400@reenaseniorliving.com
SUMMARY:Resident Guided - Social Time
DESCRIPTION:
URL:https://reenaseniorliving.com/event-calendar/resident-guided-social-time-39/
LOCATION:Activity Room
CATEGORIES:Assisted Living
END:VEVENT
BEGIN:VEVENT
DTSTART;TZID=America/Chicago:20250622T110000
DTEND;TZID=America/Chicago:20250622T113000
DTSTAMP:20260422T042502
CREATED:20250523T222526Z
LAST-MODIFIED:20250622T050440Z
UID:10000489-1750590000-1750591800@reenaseniorliving.com
SUMMARY:Biking Time - Open House
DESCRIPTION:Pop in for a few minutes right before lunch. Start with 2-3 minutes.
URL:https://reenaseniorliving.com/event-calendar/biking-time-open-house-12/
LOCATION:Activity Room
CATEGORIES:Assisted Living
END:VEVENT
BEGIN:VEVENT
DTSTART;TZID=America/Chicago:20250622T130000
DTEND;TZID=America/Chicago:20250622T140000
DTSTAMP:20260422T042502
CREATED:20250523T222529Z
LAST-MODIFIED:20250622T050440Z
UID:10000490-1750597200-1750600800@reenaseniorliving.com
SUMMARY:Communion (Catholic Rounds from Andy or Tom)
DESCRIPTION:Volunteer makes rounds to all those who wish to receive communion.
URL:https://reenaseniorliving.com/event-calendar/communion-catholic-rounds-from-andy-or-tom-6/
LOCATION:Reena
CATEGORIES:Assisted Living,Legacy Court
END:VEVENT
BEGIN:VEVENT
DTSTART;TZID=America/Chicago:20250622T170000
DTEND;TZID=America/Chicago:20250622T190000
DTSTAMP:20260422T042502
CREATED:20250523T222531Z
LAST-MODIFIED:20250622T050440Z
UID:10000491-1750611600-1750618800@reenaseniorliving.com
SUMMARY:Resident Guided - Social Time
DESCRIPTION:
URL:https://reenaseniorliving.com/event-calendar/resident-guided-social-time-40/
LOCATION:Activity Room
CATEGORIES:Assisted Living
END:VEVENT
BEGIN:VEVENT
DTSTART;TZID=America/Chicago:20250623T084500
DTEND;TZID=America/Chicago:20250623T091000
DTSTAMP:20260422T042502
CREATED:20250524T224050Z
LAST-MODIFIED:20250623T050446Z
UID:10000496-1750668300-1750669800@reenaseniorliving.com
SUMMARY:Green Thumbs - Early due to heat
DESCRIPTION:Garden and Social Time.
URL:https://reenaseniorliving.com/event-calendar/green-thumbs-and-patio-social-time-6/
LOCATION:Activity Room Patio
CATEGORIES:Assisted Living
END:VEVENT
BEGIN:VEVENT
DTSTART;TZID=America/Chicago:20250623T091500
DTEND;TZID=America/Chicago:20250623T094500
DTSTAMP:20260422T042502
CREATED:20250524T224044Z
LAST-MODIFIED:20250623T050446Z
UID:10000494-1750670100-1750671900@reenaseniorliving.com
SUMMARY:Movement Class with Kayla
DESCRIPTION:
URL:https://reenaseniorliving.com/event-calendar/movement-class-32/
LOCATION:Activity Room
CATEGORIES:Assisted Living
END:VEVENT
BEGIN:VEVENT
DTSTART;TZID=America/Chicago:20250623T095000
DTEND;TZID=America/Chicago:20250623T101000
DTSTAMP:20260422T042502
CREATED:20250524T224047Z
LAST-MODIFIED:20250613T001902Z
UID:10000495-1750672200-1750673400@reenaseniorliving.com
SUMMARY:Outdoor Stroll
DESCRIPTION:
URL:https://reenaseniorliving.com/event-calendar/outdoor-stroll-11/
LOCATION:Activity Room
CATEGORIES:Assisted Living
END:VEVENT
BEGIN:VEVENT
DTSTART;TZID=America/Chicago:20250623T103000
DTEND;TZID=America/Chicago:20250623T110000
DTSTAMP:20260422T042502
CREATED:20250614T001942Z
LAST-MODIFIED:20250616T003533Z
UID:10000796-1750674600-1750676400@reenaseniorliving.com
SUMMARY:Coffee Social Time with Reminiscing
DESCRIPTION:Social Time with Coffee
URL:https://reenaseniorliving.com/event-calendar/coffee-social-time-with-reminiscing-10/
LOCATION:Activity Room
CATEGORIES:Assisted Living
END:VEVENT
BEGIN:VEVENT
DTSTART;TZID=America/Chicago:20250623T103000
DTEND;TZID=America/Chicago:20250623T113000
DTSTAMP:20260422T042502
CREATED:20250617T182131Z
LAST-MODIFIED:20250623T050446Z
UID:10000832-1750674600-1750678200@reenaseniorliving.com
SUMMARY:Our Cow Bessie B. Ovine was voted "Best in Show" Let's go see the herd of 22 and bring her home.
DESCRIPTION:
URL:https://reenaseniorliving.com/event-calendar/our-cow-bessie-b-ovine-was-voted-best-in-show-lets-go-see-the-herd-of-22-and-bring-her-home/
LOCATION:Bus Trip
CATEGORIES:Assisted Living
END:VEVENT
BEGIN:VEVENT
DTSTART;TZID=America/Chicago:20250623T123000
DTEND;TZID=America/Chicago:20250623T130000
DTSTAMP:20260422T042502
CREATED:20250524T224053Z
LAST-MODIFIED:20250623T050446Z
UID:10000497-1750681800-1750683600@reenaseniorliving.com
SUMMARY:Rosary with Volunteer Dorothy
DESCRIPTION:
URL:https://reenaseniorliving.com/event-calendar/rosary-with-volunteer-dorothy-6/
LOCATION:Pub
CATEGORIES:Assisted Living
END:VEVENT
BEGIN:VEVENT
DTSTART;TZID=America/Chicago:20250623T133000
DTEND;TZID=America/Chicago:20250623T143000
DTSTAMP:20260422T042502
CREATED:20250524T224056Z
LAST-MODIFIED:20250623T050446Z
UID:10000498-1750685400-1750689000@reenaseniorliving.com
SUMMARY:National Dairy Month - Ice Cream Social and Our Cow display
DESCRIPTION:
URL:https://reenaseniorliving.com/event-calendar/bingo-9/
LOCATION:AR
CATEGORIES:Assisted Living
END:VEVENT
BEGIN:VEVENT
DTSTART;TZID=America/Chicago:20250623T170000
DTEND;TZID=America/Chicago:20250623T190000
DTSTAMP:20260422T042502
CREATED:20250524T224101Z
LAST-MODIFIED:20250623T050447Z
UID:10000499-1750698000-1750705200@reenaseniorliving.com
SUMMARY:Resident Guided - Social Time
DESCRIPTION:
URL:https://reenaseniorliving.com/event-calendar/resident-guided-social-time-41/
LOCATION:Activity Room
CATEGORIES:Assisted Living
END:VEVENT
BEGIN:VEVENT
DTSTART;TZID=America/Chicago:20250624T084500
DTEND;TZID=America/Chicago:20250624T091000
DTSTAMP:20260422T042502
CREATED:20250526T230408Z
LAST-MODIFIED:20250624T050419Z
UID:10000521-1750754700-1750756200@reenaseniorliving.com
SUMMARY:Green Thumbs 8:45am - 9:05am Today
DESCRIPTION:Garden and Social Time.
URL:https://reenaseniorliving.com/event-calendar/green-thumbs-and-patio-social-time-7/
LOCATION:Activity Room Patio
CATEGORIES:Assisted Living
END:VEVENT
BEGIN:VEVENT
DTSTART;TZID=America/Chicago:20250624T091500
DTEND;TZID=America/Chicago:20250624T094500
DTSTAMP:20260422T042502
CREATED:20250526T230408Z
LAST-MODIFIED:20250624T050420Z
UID:10000519-1750756500-1750758300@reenaseniorliving.com
SUMMARY:Movement Class with Kayla
DESCRIPTION:
URL:https://reenaseniorliving.com/event-calendar/movement-class-34/
LOCATION:Activity Room
CATEGORIES:Assisted Living
END:VEVENT
BEGIN:VEVENT
DTSTART;TZID=America/Chicago:20250624T094500
DTEND;TZID=America/Chicago:20250624T100000
DTSTAMP:20260422T042502
CREATED:20250526T230408Z
LAST-MODIFIED:20250624T050420Z
UID:10000520-1750758300-1750759200@reenaseniorliving.com
SUMMARY:Strength Class - Intermediate Class
DESCRIPTION:
URL:https://reenaseniorliving.com/event-calendar/strength-class-intermediate-class-12/
LOCATION:Activity Room
CATEGORIES:Assisted Living
END:VEVENT
BEGIN:VEVENT
DTSTART;TZID=America/Chicago:20250624T130000
DTEND;TZID=America/Chicago:20250624T133000
DTSTAMP:20260422T042502
CREATED:20250614T001943Z
LAST-MODIFIED:20250624T050420Z
UID:10000797-1750770000-1750771800@reenaseniorliving.com
SUMMARY:Grip Practice - Come join the team! We are the Reena Rockers!
DESCRIPTION:
URL:https://reenaseniorliving.com/event-calendar/grip-practice-come-join-the-team-roles-vary-come-check-it-out-2/
LOCATION:Activity Room
CATEGORIES:Assisted Living
END:VEVENT
BEGIN:VEVENT
DTSTART;TZID=America/Chicago:20250624T133000
DTEND;TZID=America/Chicago:20250624T143000
DTSTAMP:20260422T042502
CREATED:20250620T050634Z
LAST-MODIFIED:20250624T050420Z
UID:10000888-1750771800-1750775400@reenaseniorliving.com
SUMMARY:Garbage - Card Game
DESCRIPTION:
URL:https://reenaseniorliving.com/event-calendar/garbage-card-game/
LOCATION:Activity Room
CATEGORIES:Assisted Living
END:VEVENT
BEGIN:VEVENT
DTSTART;TZID=America/Chicago:20250624T143000
DTEND;TZID=America/Chicago:20250624T153000
DTSTAMP:20260422T042502
CREATED:20250526T230408Z
LAST-MODIFIED:20250624T050420Z
UID:10000522-1750775400-1750779000@reenaseniorliving.com
SUMMARY:Birthday Party!
DESCRIPTION:Cake and Beverage. Community Members with birthdays this month will have time to share something about themselves. It will be followed with music and singing at 3:00.
URL:https://reenaseniorliving.com/event-calendar/birthday-party/
LOCATION:Lobby
CATEGORIES:Assisted Living
END:VEVENT
BEGIN:VEVENT
DTSTART;TZID=America/Chicago:20250624T170000
DTEND;TZID=America/Chicago:20250624T190000
DTSTAMP:20260422T042502
CREATED:20250526T230408Z
LAST-MODIFIED:20250624T050420Z
UID:10000523-1750784400-1750791600@reenaseniorliving.com
SUMMARY:Resident Guided - Social Time
DESCRIPTION:
URL:https://reenaseniorliving.com/event-calendar/resident-guided-social-time-42/
LOCATION:Activity Room
CATEGORIES:Assisted Living
END:VEVENT
BEGIN:VEVENT
DTSTART;TZID=America/Chicago:20250625T091500
DTEND;TZID=America/Chicago:20250625T094500
DTSTAMP:20260422T042502
CREATED:20250526T230408Z
LAST-MODIFIED:20250625T050409Z
UID:10000524-1750842900-1750844700@reenaseniorliving.com
SUMMARY:Movement Class with Kayla
DESCRIPTION:
URL:https://reenaseniorliving.com/event-calendar/movement-class-35/
LOCATION:Activity Room
CATEGORIES:Assisted Living
END:VEVENT
BEGIN:VEVENT
DTSTART;TZID=America/Chicago:20250625T100000
DTEND;TZID=America/Chicago:20250625T101500
DTSTAMP:20260422T042502
CREATED:20250526T230409Z
LAST-MODIFIED:20250625T050409Z
UID:10000525-1750845600-1750846500@reenaseniorliving.com
SUMMARY:Sing along before Catholic Service.
DESCRIPTION:We will assist you to go next door.
URL:https://reenaseniorliving.com/event-calendar/sing-along-before-catholic-service-4/
LOCATION:Legacy Court
CATEGORIES:Assisted Living,Legacy Court
END:VEVENT
BEGIN:VEVENT
DTSTART;TZID=America/Chicago:20250625T101500
DTEND;TZID=America/Chicago:20250625T111500
DTSTAMP:20260422T042502
CREATED:20250526T230409Z
LAST-MODIFIED:20250625T050409Z
UID:10000526-1750846500-1750850100@reenaseniorliving.com
SUMMARY:Catholic Service
DESCRIPTION:
URL:https://reenaseniorliving.com/event-calendar/catholic-service-6/
LOCATION:Legacy Court
CATEGORIES:Assisted Living,Legacy Court
END:VEVENT
END:VCALENDAR