BEGIN:VCALENDAR
VERSION:2.0
PRODID:-//Reena Senior Living - ECPv6.11.2.1//NONSGML v1.0//EN
CALSCALE:GREGORIAN
METHOD:PUBLISH
X-ORIGINAL-URL:https://reenaseniorliving.com
X-WR-CALDESC:Events for Reena Senior Living
REFRESH-INTERVAL;VALUE=DURATION:PT1H
X-Robots-Tag:noindex
X-PUBLISHED-TTL:PT1H
BEGIN:VTIMEZONE
TZID:America/Chicago
BEGIN:DAYLIGHT
TZOFFSETFROM:-0600
TZOFFSETTO:-0500
TZNAME:CDT
DTSTART:20260308T080000
END:DAYLIGHT
BEGIN:STANDARD
TZOFFSETFROM:-0500
TZOFFSETTO:-0600
TZNAME:CST
DTSTART:20261101T070000
END:STANDARD
END:VTIMEZONE
BEGIN:VEVENT
DTSTART;TZID=America/Chicago:20260102T091500
DTEND;TZID=America/Chicago:20260102T094500
DTSTAMP:20260421T132330
CREATED:20251204T000421Z
LAST-MODIFIED:20260102T013405Z
UID:10003437-1767345300-1767347100@reenaseniorliving.com
SUMMARY:Movement Class with Kayla
DESCRIPTION:
URL:https://reenaseniorliving.com/event-calendar/movement-class-with-kayla-115/
LOCATION:Activity Room
CATEGORIES:Assisted Living
END:VEVENT
BEGIN:VEVENT
DTSTART;TZID=America/Chicago:20260102T100000
DTEND;TZID=America/Chicago:20260102T103000
DTSTAMP:20260421T132330
CREATED:20251204T000421Z
LAST-MODIFIED:20260102T013405Z
UID:10003438-1767348000-1767349800@reenaseniorliving.com
SUMMARY:Biking and Balance in the Exercise Room in the Basement
DESCRIPTION:
URL:https://reenaseniorliving.com/event-calendar/biking-and-balance-in-the-exercise-room-in-the-basement-10/
LOCATION:Exercise Room Basement
CATEGORIES:Assisted Living
END:VEVENT
BEGIN:VEVENT
DTSTART;TZID=America/Chicago:20260102T131500
DTEND;TZID=America/Chicago:20260102T134500
DTSTAMP:20260421T132330
CREATED:20251225T010420Z
LAST-MODIFIED:20260102T013405Z
UID:10003714-1767359700-1767361500@reenaseniorliving.com
SUMMARY:Valentine's Day Planning for our Intergenerational friends at Luther Elementary School
DESCRIPTION:
URL:https://reenaseniorliving.com/event-calendar/valentines-day-planning-for-our-intergenerational-friends-at-luther-elementary-school/
LOCATION:Activity Room
CATEGORIES:Assisted Living
END:VEVENT
BEGIN:VEVENT
DTSTART;TZID=America/Chicago:20260102T140000
DTEND;TZID=America/Chicago:20260102T150000
DTSTAMP:20260421T132330
CREATED:20251212T003404Z
LAST-MODIFIED:20260102T013405Z
UID:10003545-1767362400-1767366000@reenaseniorliving.com
SUMMARY:Life Magazine - Presentation via TV Live - Reminisce with Revelence
DESCRIPTION:
URL:https://reenaseniorliving.com/event-calendar/lifelong-learning-presentation-via-tv-live/
LOCATION:Activity Room
CATEGORIES:Assisted Living
END:VEVENT
BEGIN:VEVENT
DTSTART;TZID=America/Chicago:20260102T150000
DTEND;TZID=America/Chicago:20260102T151500
DTSTAMP:20260421T132330
CREATED:20251204T000421Z
LAST-MODIFIED:20260102T013405Z
UID:10003439-1767366000-1767366900@reenaseniorliving.com
SUMMARY:Your weekly activity packets will be delivered.
DESCRIPTION:
URL:https://reenaseniorliving.com/event-calendar/your-weekly-activity-packets-will-be-delivered-34/
LOCATION:Activity Room
CATEGORIES:Assisted Living
END:VEVENT
BEGIN:VEVENT
DTSTART;TZID=America/Chicago:20260102T173000
DTEND;TZID=America/Chicago:20260102T193000
DTSTAMP:20260421T132330
CREATED:20251204T000422Z
LAST-MODIFIED:20251230T011900Z
UID:10003440-1767375000-1767382200@reenaseniorliving.com
SUMMARY:Resident Run Social Time in any Public Space.
DESCRIPTION:
URL:https://reenaseniorliving.com/event-calendar/resident-run-social-time-balcony-activity-room-or-pub-74/
LOCATION:Library
CATEGORIES:Assisted Living
END:VEVENT
BEGIN:VEVENT
DTSTART;TZID=America/Chicago:20260103T090000
DTEND;TZID=America/Chicago:20260103T101500
DTSTAMP:20260421T132330
CREATED:20251225T010420Z
LAST-MODIFIED:20260103T013416Z
UID:10003715-1767430800-1767435300@reenaseniorliving.com
SUMMARY:Door 2 Door visits from Laurie with beverage
DESCRIPTION:
URL:https://reenaseniorliving.com/event-calendar/door-2-door-visits-from-laurie-with-beverage/
CATEGORIES:Assisted Living
END:VEVENT
BEGIN:VEVENT
DTSTART;TZID=America/Chicago:20260103T130000
DTEND;TZID=America/Chicago:20260103T140000
DTSTAMP:20260421T132330
CREATED:20251225T010420Z
LAST-MODIFIED:20260103T024901Z
UID:10003716-1767445200-1767448800@reenaseniorliving.com
SUMMARY:World's Most Secret Homes - Documentary 43 minutes
DESCRIPTION:
URL:https://reenaseniorliving.com/event-calendar/worlds-most-secret-homes-documentary-43-minutes/
LOCATION:Theatre
CATEGORIES:Assisted Living,Legacy Court
END:VEVENT
BEGIN:VEVENT
DTSTART;TZID=America/Chicago:20260103T173000
DTEND;TZID=America/Chicago:20260103T193000
DTSTAMP:20260421T132330
CREATED:20251205T000407Z
LAST-MODIFIED:20260103T013416Z
UID:10003445-1767461400-1767468600@reenaseniorliving.com
SUMMARY:Resident Run Social Time in any Public Space.
DESCRIPTION:
URL:https://reenaseniorliving.com/event-calendar/resident-run-social-time-balcony-activity-room-or-pub-75/
LOCATION:Library
CATEGORIES:Assisted Living
END:VEVENT
BEGIN:VEVENT
DTSTART;TZID=America/Chicago:20260104T093000
DTEND;TZID=America/Chicago:20260104T103000
DTSTAMP:20260421T132330
CREATED:20251227T010408Z
LAST-MODIFIED:20260104T014920Z
UID:10003739-1767519000-1767522600@reenaseniorliving.com
SUMMARY:Coffee and Sing-along with Laurie.
DESCRIPTION:Linked Senior
URL:https://reenaseniorliving.com/event-calendar/homemade-punch-and-vintage-picture-trivia-together/
LOCATION:Activity Room
CATEGORIES:Assisted Living
END:VEVENT
BEGIN:VEVENT
DTSTART;TZID=America/Chicago:20260104T130000
DTEND;TZID=America/Chicago:20260104T143000
DTSTAMP:20260421T132330
CREATED:20251231T013400Z
LAST-MODIFIED:20260104T014920Z
UID:10003811-1767531600-1767537000@reenaseniorliving.com
SUMMARY:Catholic Communion Visits with Tom or Andy - Volunteers
DESCRIPTION:
URL:https://reenaseniorliving.com/event-calendar/catholic-communion-visits-with-tom-or-andy-volunteers/
CATEGORIES:Assisted Living
END:VEVENT
BEGIN:VEVENT
DTSTART;TZID=America/Chicago:20260104T173000
DTEND;TZID=America/Chicago:20260104T193000
DTSTAMP:20260421T132330
CREATED:20251206T000406Z
LAST-MODIFIED:20251230T011900Z
UID:10003448-1767547800-1767555000@reenaseniorliving.com
SUMMARY:Resident Run Social Time in any Public Space.
DESCRIPTION:
URL:https://reenaseniorliving.com/event-calendar/resident-run-social-time-balcony-activity-room-or-pub-76/
LOCATION:Library
CATEGORIES:Assisted Living
END:VEVENT
BEGIN:VEVENT
DTSTART;TZID=America/Chicago:20260105T091500
DTEND;TZID=America/Chicago:20260105T094500
DTSTAMP:20260421T132330
CREATED:20251207T003411Z
LAST-MODIFIED:20260105T014901Z
UID:10003459-1767604500-1767606300@reenaseniorliving.com
SUMMARY:Movement with Kayla (AR)
DESCRIPTION:
URL:https://reenaseniorliving.com/event-calendar/movement-with-kayla-ar-2/
LOCATION:Activity Room
CATEGORIES:Assisted Living
END:VEVENT
BEGIN:VEVENT
DTSTART;TZID=America/Chicago:20260105T094500
DTEND;TZID=America/Chicago:20260105T104500
DTSTAMP:20260421T132330
CREATED:20251227T010408Z
LAST-MODIFIED:20260105T014901Z
UID:10003740-1767606300-1767609900@reenaseniorliving.com
SUMMARY:Coffee and Late 1950's Review Remininsce with Dawn
DESCRIPTION:
URL:https://reenaseniorliving.com/event-calendar/coffee-and-late-1950s-review-remininsce-with-dawn/
LOCATION:Activity Room
CATEGORIES:Assisted Living
END:VEVENT
BEGIN:VEVENT
DTSTART;TZID=America/Chicago:20260105T095000
DTEND;TZID=America/Chicago:20260105T101500
DTSTAMP:20260421T132330
CREATED:20251215T003414Z
LAST-MODIFIED:20251226T010408Z
UID:10003578-1767606600-1767608100@reenaseniorliving.com
SUMMARY:Biking Class - Introduction & Interval Training - Leave feeling refreshed and invigorated!
DESCRIPTION:
URL:https://reenaseniorliving.com/event-calendar/biking-class-introduction-interval-training-leave-feeling-refreshed-and-invigorated-3/
LOCATION:Activity Room
CATEGORIES:Assisted Living
END:VEVENT
BEGIN:VEVENT
DTSTART;TZID=America/Chicago:20260105T095000
DTEND;TZID=America/Chicago:20260105T102500
DTSTAMP:20260421T132330
CREATED:20251225T010420Z
LAST-MODIFIED:20251226T010408Z
UID:10003717-1767606600-1767608700@reenaseniorliving.com
SUMMARY:Biking Class - Introduction & Interval Training - Leave feeling refreshed and invigorated!
DESCRIPTION:
URL:https://reenaseniorliving.com/event-calendar/biking-class-introduction-interval-training-leave-feeling-refreshed-and-invigorated-6/
LOCATION:Exercise Room Basement
CATEGORIES:Assisted Living
END:VEVENT
BEGIN:VEVENT
DTSTART;TZID=America/Chicago:20260105T130000
DTEND;TZID=America/Chicago:20260105T140000
DTSTAMP:20260421T132330
CREATED:20251207T003411Z
LAST-MODIFIED:20251210T003414Z
UID:10003460-1767618000-1767621600@reenaseniorliving.com
SUMMARY:Bingo
DESCRIPTION:
URL:https://reenaseniorliving.com/event-calendar/bingo-68/
LOCATION:Activity Room
CATEGORIES:Assisted Living
END:VEVENT
BEGIN:VEVENT
DTSTART;TZID=America/Chicago:20260105T173000
DTEND;TZID=America/Chicago:20260105T193000
DTSTAMP:20260421T132330
CREATED:20251207T003411Z
LAST-MODIFIED:20260105T014901Z
UID:10003461-1767634200-1767641400@reenaseniorliving.com
SUMMARY:Resident Run Social Time in any Public Space.
DESCRIPTION:
URL:https://reenaseniorliving.com/event-calendar/resident-run-social-time-balcony-activity-room-or-pub-77/
LOCATION:Library
CATEGORIES:Assisted Living
END:VEVENT
BEGIN:VEVENT
DTSTART;TZID=America/Chicago:20260106T091500
DTEND;TZID=America/Chicago:20260106T094500
DTSTAMP:20260421T132330
CREATED:20251208T003406Z
LAST-MODIFIED:20260106T014907Z
UID:10003487-1767690900-1767692700@reenaseniorliving.com
SUMMARY:Movement Class with Kayla
DESCRIPTION:
URL:https://reenaseniorliving.com/event-calendar/movement-class-with-kayla-116/
LOCATION:Activity Room
CATEGORIES:Assisted Living
END:VEVENT
BEGIN:VEVENT
DTSTART;TZID=America/Chicago:20260106T095000
DTEND;TZID=America/Chicago:20260106T100500
DTSTAMP:20260421T132330
CREATED:20251208T003406Z
LAST-MODIFIED:20251224T010406Z
UID:10003488-1767693000-1767693900@reenaseniorliving.com
SUMMARY:Balance Training on Main Floor - Hallway
DESCRIPTION:
URL:https://reenaseniorliving.com/event-calendar/balance-training-on-main-floor-hallway-7/
CATEGORIES:Assisted Living
END:VEVENT
BEGIN:VEVENT
DTSTART;TZID=America/Chicago:20260106T121500
DTEND;TZID=America/Chicago:20260106T130000
DTSTAMP:20260421T132330
CREATED:20251208T003406Z
LAST-MODIFIED:20260106T014907Z
UID:10003489-1767701700-1767704400@reenaseniorliving.com
SUMMARY:Librarian Visit with Deb - Stop by if you're interested in being part of Monthly Library Program
DESCRIPTION:
URL:https://reenaseniorliving.com/event-calendar/librarian-visit-with-deb-second-floor-library-4/
LOCATION:Library
CATEGORIES:Assisted Living
END:VEVENT
BEGIN:VEVENT
DTSTART;TZID=America/Chicago:20260106T130000
DTEND;TZID=America/Chicago:20260106T143000
DTSTAMP:20260421T132330
CREATED:20251230T011901Z
LAST-MODIFIED:20260106T014907Z
UID:10003796-1767704400-1767709800@reenaseniorliving.com
SUMMARY:Movie Day - Movie - IF is a 2024 Fantasy Comedy joining imagination and reality. Family.
DESCRIPTION:
URL:https://reenaseniorliving.com/event-calendar/movie-day-2/
LOCATION:Theatre
CATEGORIES:Assisted Living
END:VEVENT
BEGIN:VEVENT
DTSTART;TZID=America/Chicago:20260106T141500
DTEND;TZID=America/Chicago:20260106T150000
DTSTAMP:20260421T132330
CREATED:20251208T003406Z
LAST-MODIFIED:20251226T020405Z
UID:10003490-1767708900-1767711600@reenaseniorliving.com
SUMMARY:Sing a Long Karaoke on TV with Anne
DESCRIPTION:
URL:https://reenaseniorliving.com/event-calendar/sing-a-long-karaoke-on-tv-with-anne-12/
LOCATION:Activity Room
CATEGORIES:Assisted Living,Legacy Court
END:VEVENT
BEGIN:VEVENT
DTSTART;TZID=America/Chicago:20260106T173000
DTEND;TZID=America/Chicago:20260106T193000
DTSTAMP:20260421T132330
CREATED:20251208T003406Z
LAST-MODIFIED:20251226T010408Z
UID:10003491-1767720600-1767727800@reenaseniorliving.com
SUMMARY:Resident Run Social Time in any Public Space.
DESCRIPTION:
URL:https://reenaseniorliving.com/event-calendar/resident-run-social-time-balcony-activity-room-or-pub-78/
LOCATION:Library
CATEGORIES:Assisted Living
END:VEVENT
BEGIN:VEVENT
DTSTART;TZID=America/Chicago:20260106T174500
DTEND;TZID=America/Chicago:20260106T184500
DTSTAMP:20260421T132330
CREATED:20251227T010408Z
LAST-MODIFIED:20260106T014907Z
UID:10003741-1767721500-1767725100@reenaseniorliving.com
SUMMARY:Game Night Meeting and Sign-up Interest - Euchre\, Sheepshead\, Hand and Foot\, Garbage\, & other.
DESCRIPTION:
URL:https://reenaseniorliving.com/event-calendar/game-night-meeting-and-sign-up-interest-euchre-sheepshead-hand-and-foot-garbage-other/
LOCATION:Activity Room
CATEGORIES:Assisted Living
END:VEVENT
BEGIN:VEVENT
DTSTART;TZID=America/Chicago:20260107T091500
DTEND;TZID=America/Chicago:20260107T094500
DTSTAMP:20260421T132330
CREATED:20251209T003409Z
LAST-MODIFIED:20260107T014932Z
UID:10003501-1767777300-1767779100@reenaseniorliving.com
SUMMARY:Movement Class with Kayla
DESCRIPTION:
URL:https://reenaseniorliving.com/event-calendar/movement-class-with-kayla-117/
LOCATION:Activity Room
CATEGORIES:Assisted Living
END:VEVENT
BEGIN:VEVENT
DTSTART;TZID=America/Chicago:20260107T094500
DTEND;TZID=America/Chicago:20260107T100500
DTSTAMP:20260421T132330
CREATED:20251215T003414Z
LAST-MODIFIED:20260107T014933Z
UID:10003579-1767779100-1767780300@reenaseniorliving.com
SUMMARY:Wellness Walking Group - Self-Paced - Guided by Community Life & Wellness Team
DESCRIPTION:
URL:https://reenaseniorliving.com/event-calendar/winter-walking-group-self-paced-yet-guided-by-community-life-wellness-team-3/
LOCATION:Activity Room
CATEGORIES:Assisted Living
END:VEVENT
BEGIN:VEVENT
DTSTART;TZID=America/Chicago:20260107T100000
DTEND;TZID=America/Chicago:20260107T101500
DTSTAMP:20260421T132330
CREATED:20251209T003409Z
LAST-MODIFIED:20251224T020409Z
UID:10003502-1767780000-1767780900@reenaseniorliving.com
SUMMARY:Sing along before Catholic Service.
DESCRIPTION:We will assist you to go next door.
URL:https://reenaseniorliving.com/event-calendar/sing-along-before-catholic-service-32/
LOCATION:Legacy Court
CATEGORIES:Assisted Living,Legacy Court
END:VEVENT
BEGIN:VEVENT
DTSTART;TZID=America/Chicago:20260107T101500
DTEND;TZID=America/Chicago:20260107T111500
DTSTAMP:20260421T132330
CREATED:20251209T003409Z
LAST-MODIFIED:20260107T030402Z
UID:10003503-1767780900-1767784500@reenaseniorliving.com
SUMMARY:Catholic Service at Legacy Court
DESCRIPTION:
URL:https://reenaseniorliving.com/event-calendar/catholic-service-at-legacy-court-9/
LOCATION:Legacy Court
CATEGORIES:Assisted Living,Legacy Court
END:VEVENT
BEGIN:VEVENT
DTSTART;TZID=America/Chicago:20260107T121500
DTEND;TZID=America/Chicago:20260107T130000
DTSTAMP:20260421T132330
CREATED:20251209T003409Z
LAST-MODIFIED:20260107T014933Z
UID:10003504-1767788100-1767790800@reenaseniorliving.com
SUMMARY:Resident Council
DESCRIPTION:
URL:https://reenaseniorliving.com/event-calendar/resident-council-9/
LOCATION:Activity Room
CATEGORIES:Assisted Living
END:VEVENT
END:VCALENDAR