BEGIN:VCALENDAR
VERSION:2.0
PRODID:-//Reena Senior Living - ECPv6.11.2.1//NONSGML v1.0//EN
CALSCALE:GREGORIAN
METHOD:PUBLISH
X-ORIGINAL-URL:https://reenaseniorliving.com
X-WR-CALDESC:Events for Reena Senior Living
REFRESH-INTERVAL;VALUE=DURATION:PT1H
X-Robots-Tag:noindex
X-PUBLISHED-TTL:PT1H
BEGIN:VTIMEZONE
TZID:America/Chicago
BEGIN:DAYLIGHT
TZOFFSETFROM:-0600
TZOFFSETTO:-0500
TZNAME:CDT
DTSTART:20260308T080000
END:DAYLIGHT
BEGIN:STANDARD
TZOFFSETFROM:-0500
TZOFFSETTO:-0600
TZNAME:CST
DTSTART:20261101T070000
END:STANDARD
END:VTIMEZONE
BEGIN:VEVENT
DTSTART;TZID=America/Chicago:20260205T125000
DTEND;TZID=America/Chicago:20260205T135000
DTSTAMP:20260421T141640
CREATED:20260107T014939Z
LAST-MODIFIED:20260205T044923Z
UID:10003916-1770295800-1770299400@reenaseniorliving.com
SUMMARY:TRYathlon Scrimmage Day! Arm Crank or Leg Crank!
DESCRIPTION:
URL:https://reenaseniorliving.com/event-calendar/tryathlon-walking-day-let-walk-or-do-seated-marching-as-a-team-4/
LOCATION:Activity Room
CATEGORIES:Assisted Living,Legacy Court
END:VEVENT
BEGIN:VEVENT
DTSTART;TZID=America/Chicago:20260205T140000
DTEND;TZID=America/Chicago:20260205T150000
DTSTAMP:20260421T141640
CREATED:20260128T021917Z
LAST-MODIFIED:20260205T023403Z
UID:10004225-1770300000-1770303600@reenaseniorliving.com
SUMMARY:Marine Rescue and Rehabilitation - Live Program
DESCRIPTION:
URL:https://reenaseniorliving.com/event-calendar/marine-rescue-and-rehabilitation-live-program/
LOCATION:Activity Room
CATEGORIES:Assisted Living
END:VEVENT
BEGIN:VEVENT
DTSTART;TZID=America/Chicago:20260205T173000
DTEND;TZID=America/Chicago:20260205T193000
DTSTAMP:20260421T141640
CREATED:20260107T014940Z
LAST-MODIFIED:20260205T023403Z
UID:10003917-1770312600-1770319800@reenaseniorliving.com
SUMMARY:Resident Run Social Time in any Public Space.
DESCRIPTION:
URL:https://reenaseniorliving.com/event-calendar/resident-run-social-time-in-any-public-space-24/
CATEGORIES:Assisted Living
END:VEVENT
BEGIN:VEVENT
DTSTART;TZID=America/Chicago:20260206T091500
DTEND;TZID=America/Chicago:20260206T094500
DTSTAMP:20260421T141640
CREATED:20260108T014936Z
LAST-MODIFIED:20260119T020407Z
UID:10003932-1770369300-1770371100@reenaseniorliving.com
SUMMARY:Movement Class with Kayla
DESCRIPTION:
URL:https://reenaseniorliving.com/event-calendar/movement-class-with-kayla-136/
LOCATION:Activity Room
CATEGORIES:Assisted Living
END:VEVENT
BEGIN:VEVENT
DTSTART;TZID=America/Chicago:20260206T091500
DTEND;TZID=America/Chicago:20260206T095000
DTSTAMP:20260421T141640
CREATED:20260120T020407Z
LAST-MODIFIED:20260206T023405Z
UID:10004106-1770369300-1770371400@reenaseniorliving.com
SUMMARY:Stretch & Strength with Dawn
DESCRIPTION:
URL:https://reenaseniorliving.com/event-calendar/stretch-strength-with-dawn/
LOCATION:Activity Room
CATEGORIES:Assisted Living
END:VEVENT
BEGIN:VEVENT
DTSTART;TZID=America/Chicago:20260206T095000
DTEND;TZID=America/Chicago:20260206T102500
DTSTAMP:20260421T141641
CREATED:20260108T014936Z
LAST-MODIFIED:20260119T020407Z
UID:10003933-1770371400-1770373500@reenaseniorliving.com
SUMMARY:Biking & Balance - A few minutes of each. For strength\, balance\, and fall prevention.
DESCRIPTION:
URL:https://reenaseniorliving.com/event-calendar/biking-balance-a-few-minutes-of-each-for-strength-balance-and-fall-prevention-7/
LOCATION:Exercise Room Basement
CATEGORIES:Assisted Living
END:VEVENT
BEGIN:VEVENT
DTSTART;TZID=America/Chicago:20260206T100000
DTEND;TZID=America/Chicago:20260206T111500
DTSTAMP:20260421T141641
CREATED:20260124T020419Z
LAST-MODIFIED:20260206T023405Z
UID:10004165-1770372000-1770376500@reenaseniorliving.com
SUMMARY:Horse Racing with Coffee and Fancy Hats
DESCRIPTION:
URL:https://reenaseniorliving.com/event-calendar/horse-racing-with-coffee-and-fancy-hats/
LOCATION:Activity Room
CATEGORIES:Assisted Living
END:VEVENT
BEGIN:VEVENT
DTSTART;TZID=America/Chicago:20260206T130000
DTEND;TZID=America/Chicago:20260206T133000
DTSTAMP:20260421T141641
CREATED:20260108T014936Z
LAST-MODIFIED:20260206T023405Z
UID:10003934-1770382800-1770384600@reenaseniorliving.com
SUMMARY:The Big Show
DESCRIPTION:
URL:https://reenaseniorliving.com/event-calendar/the-big-show-5/
LOCATION:Activity Room
CATEGORIES:Assisted Living
END:VEVENT
BEGIN:VEVENT
DTSTART;TZID=America/Chicago:20260206T133000
DTEND;TZID=America/Chicago:20260206T153000
DTSTAMP:20260421T141641
CREATED:20260115T020414Z
LAST-MODIFIED:20260206T044906Z
UID:10004030-1770384600-1770391800@reenaseniorliving.com
SUMMARY:Olympic Opening Ceremony NBC & PEACOCK
DESCRIPTION:
URL:https://reenaseniorliving.com/event-calendar/olympic-opening-ceremony-nbc-peacock/
LOCATION:Activity Room
CATEGORIES:Assisted Living,Legacy Court
END:VEVENT
BEGIN:VEVENT
DTSTART;TZID=America/Chicago:20260206T150000
DTEND;TZID=America/Chicago:20260206T151500
DTSTAMP:20260421T141641
CREATED:20260108T014936Z
LAST-MODIFIED:20260206T023406Z
UID:10003935-1770390000-1770390900@reenaseniorliving.com
SUMMARY:Your weekly activity packets will be delivered.
DESCRIPTION:
URL:https://reenaseniorliving.com/event-calendar/your-weekly-activity-packets-will-be-delivered-39/
LOCATION:Activity Room
CATEGORIES:Assisted Living
END:VEVENT
BEGIN:VEVENT
DTSTART;TZID=America/Chicago:20260206T173000
DTEND;TZID=America/Chicago:20260206T193000
DTSTAMP:20260421T141641
CREATED:20260108T014936Z
LAST-MODIFIED:20260206T023406Z
UID:10003936-1770399000-1770406200@reenaseniorliving.com
SUMMARY:Resident Run Social Time in any Public Space.
DESCRIPTION:
URL:https://reenaseniorliving.com/event-calendar/resident-run-social-time-in-any-public-space-25/
CATEGORIES:Assisted Living
END:VEVENT
BEGIN:VEVENT
DTSTART;TZID=America/Chicago:20260207T091500
DTEND;TZID=America/Chicago:20260207T094500
DTSTAMP:20260421T141641
CREATED:20260120T020407Z
LAST-MODIFIED:20260207T023437Z
UID:10004107-1770455700-1770457500@reenaseniorliving.com
SUMMARY:Movement Class with Kayla
DESCRIPTION:
URL:https://reenaseniorliving.com/event-calendar/movement-class-with-kayla-142/
LOCATION:Activity Room
CATEGORIES:Assisted Living
END:VEVENT
BEGIN:VEVENT
DTSTART;TZID=America/Chicago:20260207T095000
DTEND;TZID=America/Chicago:20260207T102500
DTSTAMP:20260421T141641
CREATED:20260120T020408Z
LAST-MODIFIED:20260130T023404Z
UID:10004108-1770457800-1770459900@reenaseniorliving.com
SUMMARY:Biking & Balance - A few minutes of each. For strength\, balance\, and fall prevention.
DESCRIPTION:
URL:https://reenaseniorliving.com/event-calendar/biking-balance-a-few-minutes-of-each-for-strength-balance-and-fall-prevention-12/
LOCATION:Exercise Room Basement
CATEGORIES:Assisted Living
END:VEVENT
BEGIN:VEVENT
DTSTART;TZID=America/Chicago:20260207T150000
DTEND;TZID=America/Chicago:20260207T160000
DTSTAMP:20260421T141641
CREATED:20260124T020419Z
LAST-MODIFIED:20260207T023437Z
UID:10004166-1770476400-1770480000@reenaseniorliving.com
SUMMARY:2025 Wild Oceans - 1 hour - Stunning Underwater Cinematography (basement theatre)
DESCRIPTION:
URL:https://reenaseniorliving.com/event-calendar/tbd-nature/
LOCATION:Theatre
CATEGORIES:Assisted Living
END:VEVENT
BEGIN:VEVENT
DTSTART;TZID=America/Chicago:20260207T173000
DTEND;TZID=America/Chicago:20260207T193000
DTSTAMP:20260421T141641
CREATED:20260109T014910Z
LAST-MODIFIED:20260207T023438Z
UID:10003944-1770485400-1770492600@reenaseniorliving.com
SUMMARY:Resident Run Social Time in any Public Space.
DESCRIPTION:
URL:https://reenaseniorliving.com/event-calendar/resident-run-social-time-in-any-public-space-27/
CATEGORIES:Assisted Living
END:VEVENT
BEGIN:VEVENT
DTSTART;TZID=America/Chicago:20260208T093000
DTEND;TZID=America/Chicago:20260208T113000
DTSTAMP:20260421T141641
CREATED:20260128T021919Z
LAST-MODIFIED:20260208T023408Z
UID:10004226-1770543000-1770550200@reenaseniorliving.com
SUMMARY:Nail Spa Day!
DESCRIPTION:
URL:https://reenaseniorliving.com/event-calendar/nail-spa-day-5/
LOCATION:Activity Room
CATEGORIES:Assisted Living
END:VEVENT
BEGIN:VEVENT
DTSTART;TZID=America/Chicago:20260208T130000
DTEND;TZID=America/Chicago:20260208T143000
DTSTAMP:20260421T141641
CREATED:20260110T014929Z
LAST-MODIFIED:20260208T023408Z
UID:10003949-1770555600-1770561000@reenaseniorliving.com
SUMMARY:Catholic Communion Visits with Tom or Andy
DESCRIPTION:
URL:https://reenaseniorliving.com/event-calendar/catholic-communion-visits-with-tom-or-andy-volunteers-6/
CATEGORIES:Assisted Living
END:VEVENT
BEGIN:VEVENT
DTSTART;TZID=America/Chicago:20260208T173000
DTEND;TZID=America/Chicago:20260208T193000
DTSTAMP:20260421T141641
CREATED:20260110T014929Z
LAST-MODIFIED:20260119T020407Z
UID:10003950-1770571800-1770579000@reenaseniorliving.com
SUMMARY:Resident Run Social Time in any Public Space.
DESCRIPTION:
URL:https://reenaseniorliving.com/event-calendar/resident-run-social-time-in-any-public-space-28/
CATEGORIES:Assisted Living
END:VEVENT
BEGIN:VEVENT
DTSTART;TZID=America/Chicago:20260208T173000
DTEND;TZID=America/Chicago:20260208T203000
DTSTAMP:20260421T141641
CREATED:20260120T020408Z
LAST-MODIFIED:20260208T023408Z
UID:10004109-1770571800-1770582600@reenaseniorliving.com
SUMMARY:Super Bowl - Snacks and Beverage in the Pub.
DESCRIPTION:
URL:https://reenaseniorliving.com/event-calendar/super-bowl/
LOCATION:TV
CATEGORIES:Assisted Living
END:VEVENT
BEGIN:VEVENT
DTSTART;TZID=America/Chicago:20260209T091500
DTEND;TZID=America/Chicago:20260209T094500
DTSTAMP:20260421T141641
CREATED:20260111T014920Z
LAST-MODIFIED:20260209T023404Z
UID:10003971-1770628500-1770630300@reenaseniorliving.com
SUMMARY:Movement with Kayla (AR)
DESCRIPTION:
URL:https://reenaseniorliving.com/event-calendar/movement-with-kayla-ar-7/
LOCATION:Activity Room
CATEGORIES:Assisted Living
END:VEVENT
BEGIN:VEVENT
DTSTART;TZID=America/Chicago:20260209T095000
DTEND;TZID=America/Chicago:20260209T102500
DTSTAMP:20260421T141641
CREATED:20260111T014921Z
LAST-MODIFIED:20260127T020416Z
UID:10003972-1770630600-1770632700@reenaseniorliving.com
SUMMARY:Biking & Balance - A few minutes of each. For strength\, balance\, and fall prevention.
DESCRIPTION:
URL:https://reenaseniorliving.com/event-calendar/biking-balance-a-few-minutes-of-each-for-strength-balance-and-fall-prevention-8/
LOCATION:Exercise Room Basement
CATEGORIES:Assisted Living
END:VEVENT
BEGIN:VEVENT
DTSTART;TZID=America/Chicago:20260209T101500
DTEND;TZID=America/Chicago:20260209T110000
DTSTAMP:20260421T141641
CREATED:20260111T014921Z
LAST-MODIFIED:20260209T044905Z
UID:10003973-1770632100-1770634800@reenaseniorliving.com
SUMMARY:Lutheran Service with Julie - Legacy Court
DESCRIPTION:
URL:https://reenaseniorliving.com/event-calendar/lutheran-service-with-julie-legacy-court-9/
LOCATION:Legacy Court
CATEGORIES:Assisted Living,Legacy Court
END:VEVENT
BEGIN:VEVENT
DTSTART;TZID=America/Chicago:20260209T121500
DTEND;TZID=America/Chicago:20260209T140000
DTSTAMP:20260421T141641
CREATED:20260127T020416Z
LAST-MODIFIED:20260209T023405Z
UID:10004203-1770639300-1770645600@reenaseniorliving.com
SUMMARY:Paint Clay Heart - Open House 12:15 - 2:00pm
DESCRIPTION:
URL:https://reenaseniorliving.com/event-calendar/paint-clay-heart-open-house-1215-200pm/
LOCATION:Activity Room
CATEGORIES:Assisted Living
END:VEVENT
BEGIN:VEVENT
DTSTART;TZID=America/Chicago:20260209T153000
DTEND;TZID=America/Chicago:20260209T161500
DTSTAMP:20260421T141641
CREATED:20260127T020416Z
LAST-MODIFIED:20260209T023405Z
UID:10004204-1770651000-1770653700@reenaseniorliving.com
SUMMARY:Knitting\, Crochet\, Crafting\, and Social Time.
DESCRIPTION:
URL:https://reenaseniorliving.com/event-calendar/knitting-crochet-crafting-and-social-time-2/
LOCATION:Activity Room
CATEGORIES:Assisted Living
END:VEVENT
BEGIN:VEVENT
DTSTART;TZID=America/Chicago:20260209T173000
DTEND;TZID=America/Chicago:20260209T193000
DTSTAMP:20260421T141641
CREATED:20260111T014921Z
LAST-MODIFIED:20260209T023406Z
UID:10003974-1770658200-1770665400@reenaseniorliving.com
SUMMARY:Resident Run Social Time in any Public Space.
DESCRIPTION:
URL:https://reenaseniorliving.com/event-calendar/resident-run-social-time-in-any-public-space-29/
CATEGORIES:Assisted Living
END:VEVENT
BEGIN:VEVENT
DTSTART;TZID=America/Chicago:20260209T190000
DTEND;TZID=America/Chicago:20260209T220000
DTSTAMP:20260421T141641
CREATED:20260206T023406Z
LAST-MODIFIED:20260210T023404Z
UID:10004342-1770663600-1770674400@reenaseniorliving.com
SUMMARY:Men's Team Combined\, Downhill and Slalom (NBC Primetime in Milan)
DESCRIPTION:
URL:https://reenaseniorliving.com/event-calendar/mens-team-combined-downhill-and-slalom-nbc-primetime-in-milan/
LOCATION:TV
CATEGORIES:Assisted Living,Legacy Court
END:VEVENT
BEGIN:VEVENT
DTSTART;TZID=America/Chicago:20260210T091500
DTEND;TZID=America/Chicago:20260210T094500
DTSTAMP:20260421T141641
CREATED:20260112T014916Z
LAST-MODIFIED:20260210T023404Z
UID:10003987-1770714900-1770716700@reenaseniorliving.com
SUMMARY:Movement Class with Kayla
DESCRIPTION:
URL:https://reenaseniorliving.com/event-calendar/movement-class-with-kayla-137/
LOCATION:Activity Room
CATEGORIES:Assisted Living
END:VEVENT
BEGIN:VEVENT
DTSTART;TZID=America/Chicago:20260210T095000
DTEND;TZID=America/Chicago:20260210T101000
DTSTAMP:20260421T141641
CREATED:20260112T014917Z
LAST-MODIFIED:20260205T023428Z
UID:10003988-1770717000-1770718200@reenaseniorliving.com
SUMMARY:Green Thumbs Garden Club
DESCRIPTION:
URL:https://reenaseniorliving.com/event-calendar/green-thumbs-garden-club-9/
LOCATION:Activity Room
CATEGORIES:Assisted Living
END:VEVENT
BEGIN:VEVENT
DTSTART;TZID=America/Chicago:20260210T095000
DTEND;TZID=America/Chicago:20260210T103500
DTSTAMP:20260421T141641
CREATED:20260203T023436Z
LAST-MODIFIED:20260210T023404Z
UID:10004308-1770717000-1770719700@reenaseniorliving.com
SUMMARY:Finish Valentines Baggies for our 3rd Grade Friends at Luther.
DESCRIPTION:
URL:https://reenaseniorliving.com/event-calendar/finish-valentines-baggies-for-our-3rd-grade-friends-at-luther/
LOCATION:Activity Room
CATEGORIES:Assisted Living
END:VEVENT
BEGIN:VEVENT
DTSTART;TZID=America/Chicago:20260210T121500
DTEND;TZID=America/Chicago:20260210T130000
DTSTAMP:20260421T141641
CREATED:20260112T014917Z
LAST-MODIFIED:20260210T023404Z
UID:10003989-1770725700-1770728400@reenaseniorliving.com
SUMMARY:Librarian Deb - Library Program Day
DESCRIPTION:
URL:https://reenaseniorliving.com/event-calendar/librarian-deb-library-program-day/
LOCATION:Library
CATEGORIES:Assisted Living
END:VEVENT
END:VCALENDAR