BEGIN:VCALENDAR
VERSION:2.0
PRODID:-//Reena Senior Living - ECPv6.11.2.1//NONSGML v1.0//EN
CALSCALE:GREGORIAN
METHOD:PUBLISH
X-WR-CALNAME:Reena Senior Living
X-ORIGINAL-URL:https://reenaseniorliving.com
X-WR-CALDESC:Events for Reena Senior Living
REFRESH-INTERVAL;VALUE=DURATION:PT1H
X-Robots-Tag:noindex
X-PUBLISHED-TTL:PT1H
BEGIN:VTIMEZONE
TZID:America/Chicago
BEGIN:DAYLIGHT
TZOFFSETFROM:-0600
TZOFFSETTO:-0500
TZNAME:CDT
DTSTART:20260308T080000
END:DAYLIGHT
BEGIN:STANDARD
TZOFFSETFROM:-0500
TZOFFSETTO:-0600
TZNAME:CST
DTSTART:20261101T070000
END:STANDARD
END:VTIMEZONE
BEGIN:VEVENT
DTSTART;TZID=America/Chicago:20260107T143000
DTEND;TZID=America/Chicago:20260107T151500
DTSTAMP:20260421T171053
CREATED:20260101T013407Z
LAST-MODIFIED:20260107T014933Z
UID:10003850-1767796200-1767798900@reenaseniorliving.com
SUMMARY:Annual Memorial Service - For Those We've Lost This Year.
DESCRIPTION:
URL:https://reenaseniorliving.com/event-calendar/annual-memorial-service-for-those-weve-lost-this-year/
LOCATION:Activity Room
CATEGORIES:Assisted Living
END:VEVENT
BEGIN:VEVENT
DTSTART;TZID=America/Chicago:20260107T173000
DTEND;TZID=America/Chicago:20260107T193000
DTSTAMP:20260421T171053
CREATED:20251209T003409Z
LAST-MODIFIED:20260107T014933Z
UID:10003505-1767807000-1767814200@reenaseniorliving.com
SUMMARY:Resident Run Social Time in any Public Space.
DESCRIPTION:
URL:https://reenaseniorliving.com/event-calendar/resident-run-social-time-balcony-activity-room-or-pub-79/
LOCATION:Library
CATEGORIES:Assisted Living
END:VEVENT
BEGIN:VEVENT
DTSTART;TZID=America/Chicago:20260108T091500
DTEND;TZID=America/Chicago:20260108T094500
DTSTAMP:20260421T171053
CREATED:20251210T003414Z
LAST-MODIFIED:20260108T014932Z
UID:10003520-1767863700-1767865500@reenaseniorliving.com
SUMMARY:Movement Class with Kayla
DESCRIPTION:Gentle Movement\, Strength\, Mobility\, Balance\, & More.
URL:https://reenaseniorliving.com/event-calendar/movement-class-with-kayla-118/
LOCATION:Activity Room
CATEGORIES:Assisted Living
END:VEVENT
BEGIN:VEVENT
DTSTART;TZID=America/Chicago:20260108T095000
DTEND;TZID=America/Chicago:20260108T100000
DTSTAMP:20260421T171053
CREATED:20251210T003414Z
LAST-MODIFIED:20251226T010409Z
UID:10003521-1767865800-1767866400@reenaseniorliving.com
SUMMARY:Balance Training - Fall Prevention & Building Strength - Main Floor Hallway
DESCRIPTION:
URL:https://reenaseniorliving.com/event-calendar/balance-training-fall-prevention-building-strength-main-floor-hallway-6/
CATEGORIES:Assisted Living
END:VEVENT
BEGIN:VEVENT
DTSTART;TZID=America/Chicago:20260108T095000
DTEND;TZID=America/Chicago:20260108T102500
DTSTAMP:20260421T171053
CREATED:20251227T010408Z
LAST-MODIFIED:20260108T014932Z
UID:10003742-1767865800-1767867900@reenaseniorliving.com
SUMMARY:Biking & Balance - A few minutes of each. For strength\, balance\, and fall prevention.
DESCRIPTION:
URL:https://reenaseniorliving.com/event-calendar/biking-balance-a-few-minutes-of-each-for-strength-balance-and-fall-prevention/
LOCATION:Exercise Room Basement
CATEGORIES:Assisted Living
END:VEVENT
BEGIN:VEVENT
DTSTART;TZID=America/Chicago:20260108T123000
DTEND;TZID=America/Chicago:20260108T133000
DTSTAMP:20260421T171053
CREATED:20260103T013417Z
LAST-MODIFIED:20260108T014932Z
UID:10003863-1767875400-1767879000@reenaseniorliving.com
SUMMARY:Vocational Project: Let's paint a game to enhance contrast for all people.
DESCRIPTION:
URL:https://reenaseniorliving.com/event-calendar/vocational-project-lets-paint-a-game-to-enhance-contrast-for-all-people/
LOCATION:Activity Room
CATEGORIES:Assisted Living
END:VEVENT
BEGIN:VEVENT
DTSTART;TZID=America/Chicago:20260108T130000
DTEND;TZID=America/Chicago:20260108T140000
DTSTAMP:20260421T171053
CREATED:20251227T010408Z
LAST-MODIFIED:20260108T014932Z
UID:10003743-1767877200-1767880800@reenaseniorliving.com
SUMMARY:Winter TRYathlon Meeting via Zoom
DESCRIPTION:
URL:https://reenaseniorliving.com/event-calendar/winter-tryathlon-meeting-via-zoom/
LOCATION:Activity Room
CATEGORIES:Assisted Living
END:VEVENT
BEGIN:VEVENT
DTSTART;TZID=America/Chicago:20260108T171500
DTEND;TZID=America/Chicago:20260108T190000
DTSTAMP:20260421T171053
CREATED:20251210T003414Z
LAST-MODIFIED:20251226T010409Z
UID:10003522-1767892500-1767898800@reenaseniorliving.com
SUMMARY:Hand & Foot Cards & Trouble the Board Game.
DESCRIPTION:
URL:https://reenaseniorliving.com/event-calendar/hand-foot-cards-trouble-the-board-game-8/
LOCATION:Activity Room
CATEGORIES:Assisted Living
END:VEVENT
BEGIN:VEVENT
DTSTART;TZID=America/Chicago:20260108T173000
DTEND;TZID=America/Chicago:20260108T193000
DTSTAMP:20260421T171053
CREATED:20251210T003414Z
LAST-MODIFIED:20251226T010409Z
UID:10003523-1767893400-1767900600@reenaseniorliving.com
SUMMARY:Resident Run Social Time in any Public Space.
DESCRIPTION:
URL:https://reenaseniorliving.com/event-calendar/resident-run-social-time-balcony-activity-room-or-pub-80/
LOCATION:Library
CATEGORIES:Assisted Living
END:VEVENT
BEGIN:VEVENT
DTSTART;TZID=America/Chicago:20260108T174500
DTEND;TZID=America/Chicago:20260108T183000
DTSTAMP:20260421T171053
CREATED:20251227T010408Z
LAST-MODIFIED:20260108T014932Z
UID:10003744-1767894300-1767897000@reenaseniorliving.com
SUMMARY:Nails with Kayla
DESCRIPTION:
URL:https://reenaseniorliving.com/event-calendar/bingo-with-kayla/
LOCATION:Activity Room
CATEGORIES:Assisted Living
END:VEVENT
BEGIN:VEVENT
DTSTART;TZID=America/Chicago:20260109T091500
DTEND;TZID=America/Chicago:20260109T094500
DTSTAMP:20260421T171053
CREATED:20251211T003409Z
LAST-MODIFIED:20260109T014904Z
UID:10003535-1767950100-1767951900@reenaseniorliving.com
SUMMARY:Movement Class with Kayla
DESCRIPTION:
URL:https://reenaseniorliving.com/event-calendar/movement-class-with-kayla-119/
LOCATION:Activity Room
CATEGORIES:Assisted Living
END:VEVENT
BEGIN:VEVENT
DTSTART;TZID=America/Chicago:20260109T100000
DTEND;TZID=America/Chicago:20260109T103000
DTSTAMP:20260421T171053
CREATED:20251211T003409Z
LAST-MODIFIED:20251226T010409Z
UID:10003536-1767952800-1767954600@reenaseniorliving.com
SUMMARY:Biking and Balance in the Exercise Room in the Basement
DESCRIPTION:
URL:https://reenaseniorliving.com/event-calendar/biking-and-balance-in-the-exercise-room-in-the-basement-11/
LOCATION:Exercise Room Basement
CATEGORIES:Assisted Living
END:VEVENT
BEGIN:VEVENT
DTSTART;TZID=America/Chicago:20260109T140000
DTEND;TZID=America/Chicago:20260109T143000
DTSTAMP:20260421T171053
CREATED:20251227T010408Z
LAST-MODIFIED:20260109T030401Z
UID:10003745-1767967200-1767969000@reenaseniorliving.com
SUMMARY:Cardio Drumming
DESCRIPTION:
URL:https://reenaseniorliving.com/event-calendar/cardio-drumming/
LOCATION:Activity Room
CATEGORIES:Assisted Living,Legacy Court
END:VEVENT
BEGIN:VEVENT
DTSTART;TZID=America/Chicago:20260109T150000
DTEND;TZID=America/Chicago:20260109T151500
DTSTAMP:20260421T171053
CREATED:20251211T003409Z
LAST-MODIFIED:20260109T014904Z
UID:10003537-1767970800-1767971700@reenaseniorliving.com
SUMMARY:Your weekly activity packets will be delivered.
DESCRIPTION:
URL:https://reenaseniorliving.com/event-calendar/your-weekly-activity-packets-will-be-delivered-35/
LOCATION:Activity Room
CATEGORIES:Assisted Living
END:VEVENT
BEGIN:VEVENT
DTSTART;TZID=America/Chicago:20260109T173000
DTEND;TZID=America/Chicago:20260109T193000
DTSTAMP:20260421T171053
CREATED:20251211T003409Z
LAST-MODIFIED:20260109T014904Z
UID:10003538-1767979800-1767987000@reenaseniorliving.com
SUMMARY:Resident Run Social Time in any Public Space.
DESCRIPTION:
URL:https://reenaseniorliving.com/event-calendar/resident-run-social-time-balcony-activity-room-or-pub-81/
LOCATION:Library
CATEGORIES:Assisted Living
END:VEVENT
BEGIN:VEVENT
DTSTART;TZID=America/Chicago:20260110T173000
DTEND;TZID=America/Chicago:20260110T193000
DTSTAMP:20260421T171053
CREATED:20251212T003406Z
LAST-MODIFIED:20260110T014924Z
UID:10003546-1768066200-1768073400@reenaseniorliving.com
SUMMARY:Resident Run Social Time in any Public Space.
DESCRIPTION:
URL:https://reenaseniorliving.com/event-calendar/resident-run-social-time-balcony-activity-room-or-pub-82/
LOCATION:Library
CATEGORIES:Assisted Living
END:VEVENT
BEGIN:VEVENT
DTSTART;TZID=America/Chicago:20260111T130000
DTEND;TZID=America/Chicago:20260111T143000
DTSTAMP:20260421T171053
CREATED:20251231T013401Z
LAST-MODIFIED:20260111T014915Z
UID:10003812-1768136400-1768141800@reenaseniorliving.com
SUMMARY:Catholic Communion Visits with Tom or Andy - Volunteers
DESCRIPTION:
URL:https://reenaseniorliving.com/event-calendar/catholic-communion-visits-with-tom-or-andy-volunteers-2/
CATEGORIES:Assisted Living
END:VEVENT
BEGIN:VEVENT
DTSTART;TZID=America/Chicago:20260111T173000
DTEND;TZID=America/Chicago:20260111T193000
DTSTAMP:20260421T171053
CREATED:20251213T003405Z
LAST-MODIFIED:20260111T014915Z
UID:10003549-1768152600-1768159800@reenaseniorliving.com
SUMMARY:Resident Run Social Time in any Public Space.
DESCRIPTION:
URL:https://reenaseniorliving.com/event-calendar/resident-run-social-time-in-any-public-space/
CATEGORIES:Assisted Living
END:VEVENT
BEGIN:VEVENT
DTSTART;TZID=America/Chicago:20260112T091500
DTEND;TZID=America/Chicago:20260112T094500
DTSTAMP:20260421T171053
CREATED:20251214T003416Z
LAST-MODIFIED:20260112T014907Z
UID:10003559-1768209300-1768211100@reenaseniorliving.com
SUMMARY:Movement with Kayla (AR)
DESCRIPTION:
URL:https://reenaseniorliving.com/event-calendar/movement-with-kayla-ar-3/
LOCATION:Activity Room
CATEGORIES:Assisted Living
END:VEVENT
BEGIN:VEVENT
DTSTART;TZID=America/Chicago:20260112T095000
DTEND;TZID=America/Chicago:20260112T101500
DTSTAMP:20260421T171053
CREATED:20251215T003415Z
LAST-MODIFIED:20251226T010409Z
UID:10003580-1768211400-1768212900@reenaseniorliving.com
SUMMARY:Biking Class - Introduction & Interval Training - Leave feeling refreshed and invigorated!
DESCRIPTION:
URL:https://reenaseniorliving.com/event-calendar/biking-class-introduction-interval-training-leave-feeling-refreshed-and-invigorated-4/
LOCATION:Activity Room
CATEGORIES:Assisted Living
END:VEVENT
BEGIN:VEVENT
DTSTART;TZID=America/Chicago:20260112T095000
DTEND;TZID=America/Chicago:20260112T102500
DTSTAMP:20260421T171053
CREATED:20251225T010422Z
LAST-MODIFIED:20260112T014907Z
UID:10003718-1768211400-1768213500@reenaseniorliving.com
SUMMARY:Biking & Balance - A few minutes of each. For strength\, balance\, and fall prevention.
DESCRIPTION:
URL:https://reenaseniorliving.com/event-calendar/biking-class-introduction-interval-training-leave-feeling-refreshed-and-invigorated-7/
LOCATION:Exercise Room Basement
CATEGORIES:Assisted Living
END:VEVENT
BEGIN:VEVENT
DTSTART;TZID=America/Chicago:20260112T101500
DTEND;TZID=America/Chicago:20260112T110000
DTSTAMP:20260421T171053
CREATED:20251214T003416Z
LAST-MODIFIED:20260112T031902Z
UID:10003560-1768212900-1768215600@reenaseniorliving.com
SUMMARY:Lutheran Service with Julie - Legacy Court
DESCRIPTION:
URL:https://reenaseniorliving.com/event-calendar/lutheran-service-with-julie-legacy-court-8/
LOCATION:Legacy Court
CATEGORIES:Assisted Living,Legacy Court
END:VEVENT
BEGIN:VEVENT
DTSTART;TZID=America/Chicago:20260112T123000
DTEND;TZID=America/Chicago:20260112T144500
DTSTAMP:20260421T171053
CREATED:20251227T010409Z
LAST-MODIFIED:20260112T014907Z
UID:10003746-1768221000-1768229100@reenaseniorliving.com
SUMMARY:Twice is Nice & Dollar Tree - Sign-up - 35-40 minutes at each location.
DESCRIPTION:
URL:https://reenaseniorliving.com/event-calendar/twice-is-nice-dollar-tree-sign-up/
LOCATION:Bus
CATEGORIES:Assisted Living
END:VEVENT
BEGIN:VEVENT
DTSTART;TZID=America/Chicago:20260112T173000
DTEND;TZID=America/Chicago:20260112T193000
DTSTAMP:20260421T171053
CREATED:20251214T003416Z
LAST-MODIFIED:20251230T011902Z
UID:10003561-1768239000-1768246200@reenaseniorliving.com
SUMMARY:Resident Run Social Time in any Public Space.
DESCRIPTION:
URL:https://reenaseniorliving.com/event-calendar/resident-run-social-time-in-any-public-space-2/
CATEGORIES:Assisted Living
END:VEVENT
BEGIN:VEVENT
DTSTART;TZID=America/Chicago:20260113T091500
DTEND;TZID=America/Chicago:20260113T094500
DTSTAMP:20260421T171053
CREATED:20251215T003415Z
LAST-MODIFIED:20260113T020408Z
UID:10003581-1768295700-1768297500@reenaseniorliving.com
SUMMARY:Movement Class with Kayla
DESCRIPTION:
URL:https://reenaseniorliving.com/event-calendar/movement-class-with-kayla-120/
LOCATION:Activity Room
CATEGORIES:Assisted Living
END:VEVENT
BEGIN:VEVENT
DTSTART;TZID=America/Chicago:20260113T095000
DTEND;TZID=America/Chicago:20260113T101000
DTSTAMP:20260421T171053
CREATED:20260108T014931Z
LAST-MODIFIED:20260113T020408Z
UID:10003924-1768297800-1768299000@reenaseniorliving.com
SUMMARY:Green Thumbs Garden Club
DESCRIPTION:
URL:https://reenaseniorliving.com/event-calendar/green-thumbs-garden-club/
LOCATION:Activity Room
CATEGORIES:Assisted Living
END:VEVENT
BEGIN:VEVENT
DTSTART;TZID=America/Chicago:20260113T125000
DTEND;TZID=America/Chicago:20260113T135000
DTSTAMP:20260421T171053
CREATED:20251215T003415Z
LAST-MODIFIED:20260113T033409Z
UID:10003582-1768308600-1768312200@reenaseniorliving.com
SUMMARY:TRYathlon Scrimmage. Join in on the fun!
DESCRIPTION:
URL:https://reenaseniorliving.com/event-calendar/tryathlon-scrimmage-join-in-on-the-fun/
LOCATION:Activity Room
CATEGORIES:Assisted Living,Legacy Court
END:VEVENT
BEGIN:VEVENT
DTSTART;TZID=America/Chicago:20260113T173000
DTEND;TZID=America/Chicago:20260113T193000
DTSTAMP:20260421T171053
CREATED:20251215T003415Z
LAST-MODIFIED:20251226T010409Z
UID:10003583-1768325400-1768332600@reenaseniorliving.com
SUMMARY:Resident Run Social Time in any Public Space.
DESCRIPTION:
URL:https://reenaseniorliving.com/event-calendar/resident-run-social-time-in-any-public-space-3/
CATEGORIES:Assisted Living
END:VEVENT
BEGIN:VEVENT
DTSTART;TZID=America/Chicago:20260113T174500
DTEND;TZID=America/Chicago:20260113T191500
DTSTAMP:20260421T171053
CREATED:20251227T010409Z
LAST-MODIFIED:20260113T020408Z
UID:10003747-1768326300-1768331700@reenaseniorliving.com
SUMMARY:Hand & Foot or Garbage Tables Tonight!
DESCRIPTION:
URL:https://reenaseniorliving.com/event-calendar/game-night/
LOCATION:Activity Room
CATEGORIES:Assisted Living
END:VEVENT
BEGIN:VEVENT
DTSTART;TZID=America/Chicago:20260114T091500
DTEND;TZID=America/Chicago:20260114T094500
DTSTAMP:20260421T171053
CREATED:20251216T003419Z
LAST-MODIFIED:20260114T020402Z
UID:10003614-1768382100-1768383900@reenaseniorliving.com
SUMMARY:Movement Class with Kayla
DESCRIPTION:
URL:https://reenaseniorliving.com/event-calendar/movement-class-with-kayla-121/
LOCATION:Activity Room
CATEGORIES:Assisted Living
END:VEVENT
END:VCALENDAR