BEGIN:VCALENDAR
VERSION:2.0
PRODID:-//Reena Senior Living - ECPv6.11.2.1//NONSGML v1.0//EN
CALSCALE:GREGORIAN
METHOD:PUBLISH
X-ORIGINAL-URL:https://reenaseniorliving.com
X-WR-CALDESC:Events for Reena Senior Living
REFRESH-INTERVAL;VALUE=DURATION:PT1H
X-Robots-Tag:noindex
X-PUBLISHED-TTL:PT1H
BEGIN:VTIMEZONE
TZID:America/Chicago
BEGIN:DAYLIGHT
TZOFFSETFROM:-0600
TZOFFSETTO:-0500
TZNAME:CDT
DTSTART:20250309T080000
END:DAYLIGHT
BEGIN:STANDARD
TZOFFSETFROM:-0500
TZOFFSETTO:-0600
TZNAME:CST
DTSTART:20251102T070000
END:STANDARD
END:VTIMEZONE
BEGIN:VEVENT
DTSTART;TZID=America/Chicago:20250826T101500
DTEND;TZID=America/Chicago:20250826T104500
DTSTAMP:20260422T053454
CREATED:20250728T060415Z
LAST-MODIFIED:20250826T063401Z
UID:10001515-1756203300-1756205100@reenaseniorliving.com
SUMMARY:Green Thumbs Garden Group
DESCRIPTION:
URL:https://reenaseniorliving.com/event-calendar/green-thumbs-garden-group-31/
LOCATION:Activity Room Patio
CATEGORIES:Assisted Living
END:VEVENT
BEGIN:VEVENT
DTSTART;TZID=America/Chicago:20250826T130000
DTEND;TZID=America/Chicago:20250826T140000
DTSTAMP:20260422T053454
CREATED:20250728T060415Z
LAST-MODIFIED:20250826T063401Z
UID:10001518-1756213200-1756216800@reenaseniorliving.com
SUMMARY:Grip Competition - Come join the team!
DESCRIPTION:
URL:https://reenaseniorliving.com/event-calendar/grip-competition-come-join-the-team-we-are-the-reena-rockers-5/
LOCATION:Activity Room
CATEGORIES:Assisted Living
END:VEVENT
BEGIN:VEVENT
DTSTART;TZID=America/Chicago:20250826T143000
DTEND;TZID=America/Chicago:20250826T154500
DTSTAMP:20260422T053454
CREATED:20250728T060415Z
LAST-MODIFIED:20250826T063401Z
UID:10001519-1756218600-1756223100@reenaseniorliving.com
SUMMARY:Birthday Party! Cake & Ice Cream with Highlights of our Birthday Guests Lives.
DESCRIPTION:Cake and Beverage. Community Members with birthdays this month will have time to share something about themselves. It will be followed with music and singing at 3:00.
URL:https://reenaseniorliving.com/event-calendar/birthday-party-cake-ice-cream-with-highlights-of-our-birthday-guests-lives/
LOCATION:Activity Room
CATEGORIES:Assisted Living
END:VEVENT
BEGIN:VEVENT
DTSTART;TZID=America/Chicago:20250826T170000
DTEND;TZID=America/Chicago:20250826T190000
DTSTAMP:20260422T053454
CREATED:20250728T060415Z
LAST-MODIFIED:20250826T063401Z
UID:10001520-1756227600-1756234800@reenaseniorliving.com
SUMMARY:Social and Game Time - Balcony\, Activity Room or Pub Spaces
DESCRIPTION:
URL:https://reenaseniorliving.com/event-calendar/resident-guided-social-time-105/
LOCATION:Library
CATEGORIES:Assisted Living
END:VEVENT
BEGIN:VEVENT
DTSTART;TZID=America/Chicago:20250827T091500
DTEND;TZID=America/Chicago:20250827T094500
DTSTAMP:20260422T053454
CREATED:20250729T060414Z
LAST-MODIFIED:20250827T063423Z
UID:10001532-1756286100-1756287900@reenaseniorliving.com
SUMMARY:Movement Class with Kayla
DESCRIPTION:
URL:https://reenaseniorliving.com/event-calendar/movement-class-with-kayla-31/
LOCATION:Activity Room
CATEGORIES:Assisted Living
END:VEVENT
BEGIN:VEVENT
DTSTART;TZID=America/Chicago:20250827T100000
DTEND;TZID=America/Chicago:20250827T101500
DTSTAMP:20260422T053454
CREATED:20250729T033630Z
LAST-MODIFIED:20250827T063424Z
UID:10001523-1756288800-1756289700@reenaseniorliving.com
SUMMARY:Sing along before Catholic Service.
DESCRIPTION:We will assist you to go next door.
URL:https://reenaseniorliving.com/event-calendar/sing-along-before-catholic-service-13/
LOCATION:Legacy Court
CATEGORIES:Assisted Living,Legacy Court
END:VEVENT
BEGIN:VEVENT
DTSTART;TZID=America/Chicago:20250827T101500
DTEND;TZID=America/Chicago:20250827T111500
DTSTAMP:20260422T053454
CREATED:20250729T033630Z
LAST-MODIFIED:20250827T063424Z
UID:10001524-1756289700-1756293300@reenaseniorliving.com
SUMMARY:Catholic Service with Father John
DESCRIPTION:
URL:https://reenaseniorliving.com/event-calendar/catholic-service-with-father-john/
LOCATION:Legacy Court
CATEGORIES:Assisted Living,Legacy Court
END:VEVENT
BEGIN:VEVENT
DTSTART;TZID=America/Chicago:20250827T123000
DTEND;TZID=America/Chicago:20250827T130000
DTSTAMP:20260422T053454
CREATED:20250730T060433Z
LAST-MODIFIED:20250827T063424Z
UID:10001554-1756297800-1756299600@reenaseniorliving.com
SUMMARY:Green Thumbs Garden Group
DESCRIPTION:
URL:https://reenaseniorliving.com/event-calendar/green-thumbs-garden-group-37/
LOCATION:Activity Room Patio
CATEGORIES:Assisted Living
END:VEVENT
BEGIN:VEVENT
DTSTART;TZID=America/Chicago:20250827T140000
DTEND;TZID=America/Chicago:20250827T150000
DTSTAMP:20260422T053454
CREATED:20250729T033630Z
LAST-MODIFIED:20250827T063424Z
UID:10001527-1756303200-1756306800@reenaseniorliving.com
SUMMARY:Bahama Bob - On the steel drums - Beach Party!
DESCRIPTION:
URL:https://reenaseniorliving.com/event-calendar/bahama-bob-on-the-steel-drums-beach-party/
LOCATION:Dining Room AL
CATEGORIES:Assisted Living,Legacy Court
END:VEVENT
BEGIN:VEVENT
DTSTART;TZID=America/Chicago:20250827T170000
DTEND;TZID=America/Chicago:20250827T183000
DTSTAMP:20260422T053454
CREATED:20250731T060417Z
LAST-MODIFIED:20250827T063424Z
UID:10001592-1756314000-1756319400@reenaseniorliving.com
SUMMARY:Nails with Laurie - Sign-Up
DESCRIPTION:
URL:https://reenaseniorliving.com/event-calendar/nails-with-laurie-sign-up-5/
LOCATION:Activity Room
CATEGORIES:Assisted Living
END:VEVENT
BEGIN:VEVENT
DTSTART;TZID=America/Chicago:20250827T170000
DTEND;TZID=America/Chicago:20250827T190000
DTSTAMP:20260422T053454
CREATED:20250729T060414Z
LAST-MODIFIED:20250817T061924Z
UID:10001533-1756314000-1756321200@reenaseniorliving.com
SUMMARY:Social and Game Time - Library is on 2nd floor - Balcony Area
DESCRIPTION:
URL:https://reenaseniorliving.com/event-calendar/resident-guided-social-time-106/
LOCATION:Library
CATEGORIES:Assisted Living
END:VEVENT
BEGIN:VEVENT
DTSTART;TZID=America/Chicago:20250827T173000
DTEND;TZID=America/Chicago:20250827T193000
DTSTAMP:20260422T053454
CREATED:20250807T060403Z
LAST-MODIFIED:20250827T063424Z
UID:10001684-1756315800-1756323000@reenaseniorliving.com
SUMMARY:Connect Four\, Cards\, Rummy cube & Jenga are set up in the Activity Room for you.
DESCRIPTION:
URL:https://reenaseniorliving.com/event-calendar/corn-hole-game-connect-four-jenga-are-set-up-in-the-activity-room-for-you-3/
LOCATION:Activity Room
CATEGORIES:Assisted Living
END:VEVENT
BEGIN:VEVENT
DTSTART;TZID=America/Chicago:20250828T091500
DTEND;TZID=America/Chicago:20250828T094500
DTSTAMP:20260422T053454
CREATED:20250730T060433Z
LAST-MODIFIED:20250828T064905Z
UID:10001555-1756372500-1756374300@reenaseniorliving.com
SUMMARY:Movement Class with Kayla
DESCRIPTION:Gentle Movement\, Strength\, Mobility\, Balance\, & More.
URL:https://reenaseniorliving.com/event-calendar/movement-class-with-kayla-32/
LOCATION:Activity Room
CATEGORIES:Assisted Living
END:VEVENT
BEGIN:VEVENT
DTSTART;TZID=America/Chicago:20250828T094500
DTEND;TZID=America/Chicago:20250828T101000
DTSTAMP:20260422T053454
CREATED:20250730T060433Z
LAST-MODIFIED:20250828T064905Z
UID:10001556-1756374300-1756375800@reenaseniorliving.com
SUMMARY:Strength Class - Intermediate Class
DESCRIPTION:
URL:https://reenaseniorliving.com/event-calendar/strength-class-intermediate-class-31/
LOCATION:Activity Room
CATEGORIES:Assisted Living
END:VEVENT
BEGIN:VEVENT
DTSTART;TZID=America/Chicago:20250828T103000
DTEND;TZID=America/Chicago:20250828T113000
DTSTAMP:20260422T053454
CREATED:20250731T060417Z
LAST-MODIFIED:20250820T061903Z
UID:10001593-1756377000-1756380600@reenaseniorliving.com
SUMMARY:Let's Bake Bread
DESCRIPTION:
URL:https://reenaseniorliving.com/event-calendar/lets-bake-bread-3/
LOCATION:Activity Room
CATEGORIES:Assisted Living
END:VEVENT
BEGIN:VEVENT
DTSTART;TZID=America/Chicago:20250828T103000
DTEND;TZID=America/Chicago:20250828T113000
DTSTAMP:20260422T053454
CREATED:20250821T061928Z
LAST-MODIFIED:20250828T064905Z
UID:10001877-1756377000-1756380600@reenaseniorliving.com
SUMMARY:Games before Lunch - Checkers or Garbage (We'll guide on how if it's been a while)
DESCRIPTION:
URL:https://reenaseniorliving.com/event-calendar/games-before-lunch-checkers-or-garbage-well-guide-on-how-if-its-been-a-while/
LOCATION:Activity Room
CATEGORIES:Assisted Living
END:VEVENT
BEGIN:VEVENT
DTSTART;TZID=America/Chicago:20250828T170000
DTEND;TZID=America/Chicago:20250828T190000
DTSTAMP:20260422T053454
CREATED:20250730T060433Z
LAST-MODIFIED:20250828T064905Z
UID:10001557-1756400400-1756407600@reenaseniorliving.com
SUMMARY:Social and Game Time - Balcony\, Activity Room or Pub Spaces
DESCRIPTION:
URL:https://reenaseniorliving.com/event-calendar/resident-guided-social-time-107/
LOCATION:Library
CATEGORIES:Assisted Living
END:VEVENT
BEGIN:VEVENT
DTSTART;TZID=America/Chicago:20250829T091500
DTEND;TZID=America/Chicago:20250829T094500
DTSTAMP:20260422T053454
CREATED:20250731T060417Z
LAST-MODIFIED:20250829T064929Z
UID:10001594-1756458900-1756460700@reenaseniorliving.com
SUMMARY:Movement Class with Kayla
DESCRIPTION:
URL:https://reenaseniorliving.com/event-calendar/movement-class-with-kayla-33/
LOCATION:Activity Room
CATEGORIES:Assisted Living
END:VEVENT
BEGIN:VEVENT
DTSTART;TZID=America/Chicago:20250829T100000
DTEND;TZID=America/Chicago:20250829T103000
DTSTAMP:20260422T053454
CREATED:20250731T060417Z
LAST-MODIFIED:20250829T064930Z
UID:10001595-1756461600-1756463400@reenaseniorliving.com
SUMMARY:Green Thumbs Garden Group
DESCRIPTION:
URL:https://reenaseniorliving.com/event-calendar/green-thumbs-garden-group-38/
LOCATION:Activity Room Patio
CATEGORIES:Assisted Living
END:VEVENT
BEGIN:VEVENT
DTSTART;TZID=America/Chicago:20250829T124500
DTEND;TZID=America/Chicago:20250829T130000
DTSTAMP:20260422T053454
CREATED:20250731T060417Z
LAST-MODIFIED:20250829T064930Z
UID:10001597-1756471500-1756472400@reenaseniorliving.com
SUMMARY:Grip Practice
DESCRIPTION:
URL:https://reenaseniorliving.com/event-calendar/grip-practice-14/
LOCATION:Activity Room
CATEGORIES:Assisted Living
END:VEVENT
BEGIN:VEVENT
DTSTART;TZID=America/Chicago:20250829T130000
DTEND;TZID=America/Chicago:20250829T140000
DTSTAMP:20260422T053454
CREATED:20250731T060417Z
LAST-MODIFIED:20250829T064930Z
UID:10001596-1756472400-1756476000@reenaseniorliving.com
SUMMARY:The Big Show - Review the week of Grip Competition!
DESCRIPTION:
URL:https://reenaseniorliving.com/event-calendar/the-big-show-review-the-week-of-grip-competition-7/
LOCATION:Activity Room
CATEGORIES:Assisted Living
END:VEVENT
BEGIN:VEVENT
DTSTART;TZID=America/Chicago:20250829T140000
DTEND;TZID=America/Chicago:20250829T150000
DTSTAMP:20260422T053454
CREATED:20250731T060417Z
LAST-MODIFIED:20250829T064930Z
UID:10001598-1756476000-1756479600@reenaseniorliving.com
SUMMARY:Music & Social Hour with Dorothy and Kayla
DESCRIPTION:
URL:https://reenaseniorliving.com/event-calendar/records-social-hour-with-dorothy-and-kayla/
LOCATION:Activity Room
CATEGORIES:Assisted Living
END:VEVENT
BEGIN:VEVENT
DTSTART;TZID=America/Chicago:20250829T150000
DTEND;TZID=America/Chicago:20250829T151500
DTSTAMP:20260422T053454
CREATED:20250731T060417Z
LAST-MODIFIED:20250829T064930Z
UID:10001599-1756479600-1756480500@reenaseniorliving.com
SUMMARY:Your weekly activity packets will be delivered.
DESCRIPTION:
URL:https://reenaseniorliving.com/event-calendar/your-weekly-activity-packets-will-be-delivered-16/
LOCATION:Activity Room
CATEGORIES:Assisted Living
END:VEVENT
BEGIN:VEVENT
DTSTART;TZID=America/Chicago:20250829T170000
DTEND;TZID=America/Chicago:20250829T190000
DTSTAMP:20260422T053454
CREATED:20250731T060417Z
LAST-MODIFIED:20250829T064930Z
UID:10001600-1756486800-1756494000@reenaseniorliving.com
SUMMARY:Social and Game Time - Balcony\, Activity Room or Pub Spaces
DESCRIPTION:
URL:https://reenaseniorliving.com/event-calendar/resident-guided-social-time-108/
LOCATION:Library
CATEGORIES:Assisted Living
END:VEVENT
BEGIN:VEVENT
DTSTART;TZID=America/Chicago:20250830T101500
DTEND;TZID=America/Chicago:20250830T104500
DTSTAMP:20260422T053454
CREATED:20250801T060411Z
LAST-MODIFIED:20250830T064930Z
UID:10001605-1756548900-1756550700@reenaseniorliving.com
SUMMARY:Green Thumbs Garden Group
DESCRIPTION:
URL:https://reenaseniorliving.com/event-calendar/green-thumbs-garden-group-39/
LOCATION:Activity Room Patio
CATEGORIES:Assisted Living
END:VEVENT
BEGIN:VEVENT
DTSTART;TZID=America/Chicago:20250830T170000
DTEND;TZID=America/Chicago:20250830T190000
DTSTAMP:20260422T053454
CREATED:20250801T060411Z
LAST-MODIFIED:20250830T064930Z
UID:10001606-1756573200-1756580400@reenaseniorliving.com
SUMMARY:Social and Game Time - Balcony\, Activity Room or Pub Spaces
DESCRIPTION:
URL:https://reenaseniorliving.com/event-calendar/resident-guided-social-time-109/
LOCATION:Library
CATEGORIES:Assisted Living
END:VEVENT
BEGIN:VEVENT
DTSTART;TZID=America/Chicago:20250831T130000
DTEND;TZID=America/Chicago:20250831T140000
DTSTAMP:20260422T053454
CREATED:20250802T034933Z
LAST-MODIFIED:20250831T064921Z
UID:10001607-1756645200-1756648800@reenaseniorliving.com
SUMMARY:Communion (Catholic Rounds from Andy or Tom)
DESCRIPTION:Volunteer makes rounds to all those who wish to receive communion.
URL:https://reenaseniorliving.com/event-calendar/communion-catholic-rounds-from-andy-or-tom-16/
LOCATION:Reena
CATEGORIES:Assisted Living,Legacy Court
END:VEVENT
BEGIN:VEVENT
DTSTART;TZID=America/Chicago:20250831T170000
DTEND;TZID=America/Chicago:20250831T190000
DTSTAMP:20260422T053454
CREATED:20250802T060421Z
LAST-MODIFIED:20250831T064921Z
UID:10001609-1756659600-1756666800@reenaseniorliving.com
SUMMARY:Social and Game Time - Balcony\, Activity Room or Pub Spaces
DESCRIPTION:
URL:https://reenaseniorliving.com/event-calendar/resident-guided-social-time-110/
LOCATION:Library
CATEGORIES:Assisted Living
END:VEVENT
BEGIN:VEVENT
DTSTART;TZID=America/Chicago:20250901T091500
DTEND;TZID=America/Chicago:20250901T094500
DTSTAMP:20260422T053454
CREATED:20250803T060415Z
LAST-MODIFIED:20250829T064928Z
UID:10001620-1756718100-1756719900@reenaseniorliving.com
SUMMARY:Movement Class with Kayla
DESCRIPTION:
URL:https://reenaseniorliving.com/event-calendar/movement-class-with-kayla-34/
LOCATION:Activity Room
CATEGORIES:Assisted Living
END:VEVENT
BEGIN:VEVENT
DTSTART;TZID=America/Chicago:20250901T100000
DTEND;TZID=America/Chicago:20250901T104000
DTSTAMP:20260422T053454
CREATED:20250803T060415Z
LAST-MODIFIED:20250815T061938Z
UID:10001621-1756720800-1756723200@reenaseniorliving.com
SUMMARY:Green Thumbs and Patio Social Time.
DESCRIPTION:Garden and Social Time.
URL:https://reenaseniorliving.com/event-calendar/green-thumbs-and-patio-social-time-28/
LOCATION:Activity Room Patio
CATEGORIES:Assisted Living
END:VEVENT
END:VCALENDAR