BEGIN:VCALENDAR
VERSION:2.0
PRODID:-//Reena Senior Living - ECPv6.11.2.1//NONSGML v1.0//EN
CALSCALE:GREGORIAN
METHOD:PUBLISH
X-WR-CALNAME:Reena Senior Living
X-ORIGINAL-URL:https://reenaseniorliving.com
X-WR-CALDESC:Events for Reena Senior Living
REFRESH-INTERVAL;VALUE=DURATION:PT1H
X-Robots-Tag:noindex
X-PUBLISHED-TTL:PT1H
BEGIN:VTIMEZONE
TZID:America/Chicago
BEGIN:DAYLIGHT
TZOFFSETFROM:-0600
TZOFFSETTO:-0500
TZNAME:CDT
DTSTART:20250309T080000
END:DAYLIGHT
BEGIN:STANDARD
TZOFFSETFROM:-0500
TZOFFSETTO:-0600
TZNAME:CST
DTSTART:20251102T070000
END:STANDARD
END:VTIMEZONE
BEGIN:VEVENT
DTSTART;TZID=America/Chicago:20250604T091500
DTEND;TZID=America/Chicago:20250604T094500
DTSTAMP:20260422T165344
CREATED:20250514T214951Z
LAST-MODIFIED:20250603T233502Z
UID:10000106-1749028500-1749030300@reenaseniorliving.com
SUMMARY:Movement Class
DESCRIPTION:
URL:https://reenaseniorliving.com/event-calendar/movement-class-15/
LOCATION:Activity Room
CATEGORIES:Assisted Living
END:VEVENT
BEGIN:VEVENT
DTSTART;TZID=America/Chicago:20250604T100000
DTEND;TZID=America/Chicago:20250604T101500
DTSTAMP:20260422T165344
CREATED:20250514T214951Z
LAST-MODIFIED:20250603T233502Z
UID:10000108-1749031200-1749032100@reenaseniorliving.com
SUMMARY:Sing along before Catholic Service.
DESCRIPTION:We will assist you to go next door.
URL:https://reenaseniorliving.com/event-calendar/sing-along-before-catholic-service-2/
LOCATION:Legacy Court
CATEGORIES:Assisted Living,Legacy Court
END:VEVENT
BEGIN:VEVENT
DTSTART;TZID=America/Chicago:20250604T101500
DTEND;TZID=America/Chicago:20250604T111500
DTSTAMP:20260422T165344
CREATED:20250514T214951Z
LAST-MODIFIED:20250603T233502Z
UID:10000107-1749032100-1749035700@reenaseniorliving.com
SUMMARY:Catholic Service
DESCRIPTION:
URL:https://reenaseniorliving.com/event-calendar/catholic-service-3/
LOCATION:Legacy Court
CATEGORIES:Assisted Living,Legacy Court
END:VEVENT
BEGIN:VEVENT
DTSTART;TZID=America/Chicago:20250604T121500
DTEND;TZID=America/Chicago:20250604T130000
DTSTAMP:20260422T165344
CREATED:20250514T214951Z
LAST-MODIFIED:20250603T233502Z
UID:10000109-1749039300-1749042000@reenaseniorliving.com
SUMMARY:Resident Council
DESCRIPTION:
URL:https://reenaseniorliving.com/event-calendar/resident-council/
LOCATION:Activity Room
CATEGORIES:Assisted Living
END:VEVENT
BEGIN:VEVENT
DTSTART;TZID=America/Chicago:20250604T130000
DTEND;TZID=America/Chicago:20250604T133000
DTSTAMP:20260422T165344
CREATED:20250514T214951Z
LAST-MODIFIED:20250603T233502Z
UID:10000110-1749042000-1749043800@reenaseniorliving.com
SUMMARY:Lifespark Senior Living SPARKING CHANGE - Lifeguard Deep Dive
DESCRIPTION:
URL:https://reenaseniorliving.com/event-calendar/lifespark-senior-living-sparking-change-lifeguard-deep-dive-3/
LOCATION:Activity Room
CATEGORIES:Assisted Living
END:VEVENT
BEGIN:VEVENT
DTSTART;TZID=America/Chicago:20250604T140000
DTEND;TZID=America/Chicago:20250604T151500
DTSTAMP:20260422T165344
CREATED:20250529T232114Z
LAST-MODIFIED:20250603T233502Z
UID:10000575-1749045600-1749050100@reenaseniorliving.com
SUMMARY:Door 2 Door Visits - Beverage
DESCRIPTION:
URL:https://reenaseniorliving.com/event-calendar/door-2-door-visits-beverage/
CATEGORIES:Assisted Living
END:VEVENT
BEGIN:VEVENT
DTSTART;TZID=America/Chicago:20250604T170000
DTEND;TZID=America/Chicago:20250604T184000
DTSTAMP:20260422T165344
CREATED:20250529T232114Z
LAST-MODIFIED:20250604T233632Z
UID:10000576-1749056400-1749062400@reenaseniorliving.com
SUMMARY:Nails with Laurie - Sign-Up
DESCRIPTION:
URL:https://reenaseniorliving.com/event-calendar/nails-with-laurie-sign-up-2/
LOCATION:Activity Room
CATEGORIES:Assisted Living
END:VEVENT
BEGIN:VEVENT
DTSTART;TZID=America/Chicago:20250604T170000
DTEND;TZID=America/Chicago:20250604T190000
DTSTAMP:20260422T165344
CREATED:20250514T214951Z
LAST-MODIFIED:20250528T230422Z
UID:10000111-1749056400-1749063600@reenaseniorliving.com
SUMMARY:Resident Guided - Social Time
DESCRIPTION:
URL:https://reenaseniorliving.com/event-calendar/resident-guided-social-time-22/
LOCATION:Activity Room
CATEGORIES:Assisted Living
END:VEVENT
BEGIN:VEVENT
DTSTART;TZID=America/Chicago:20250605T091500
DTEND;TZID=America/Chicago:20250605T094500
DTSTAMP:20260422T165344
CREATED:20250514T214951Z
LAST-MODIFIED:20250604T233632Z
UID:10000113-1749114900-1749116700@reenaseniorliving.com
SUMMARY:Movement Class
DESCRIPTION:Gentle Movement\, Strength\, Mobility\, Balance\, & More.
URL:https://reenaseniorliving.com/event-calendar/movement-class-16/
LOCATION:Activity Room
CATEGORIES:Assisted Living
END:VEVENT
BEGIN:VEVENT
DTSTART;TZID=America/Chicago:20250605T094500
DTEND;TZID=America/Chicago:20250605T100000
DTSTAMP:20260422T165344
CREATED:20250514T214951Z
LAST-MODIFIED:20250604T233632Z
UID:10000114-1749116700-1749117600@reenaseniorliving.com
SUMMARY:Strength Class - Intermediate Class
DESCRIPTION:
URL:https://reenaseniorliving.com/event-calendar/strength-class-intermediate-class-7/
LOCATION:Activity Room
CATEGORIES:Assisted Living
END:VEVENT
BEGIN:VEVENT
DTSTART;TZID=America/Chicago:20250605T101500
DTEND;TZID=America/Chicago:20250605T113000
DTSTAMP:20260422T165344
CREATED:20250514T214951Z
LAST-MODIFIED:20250604T233632Z
UID:10000112-1749118500-1749123000@reenaseniorliving.com
SUMMARY:Deliver our entry in contest:  Bessie O. Bovine
DESCRIPTION:
URL:https://reenaseniorliving.com/event-calendar/deliver-our-entry-in-contest-bessie-o-bovine/
LOCATION:Bus Trip
CATEGORIES:Assisted Living
END:VEVENT
BEGIN:VEVENT
DTSTART;TZID=America/Chicago:20250605T101500
DTEND;TZID=America/Chicago:20250605T113000
DTSTAMP:20260422T165344
CREATED:20250514T214951Z
LAST-MODIFIED:20250604T233632Z
UID:10000116-1749118500-1749123000@reenaseniorliving.com
SUMMARY:Dairy Hoard Museum Tour - sign-up
DESCRIPTION:
URL:https://reenaseniorliving.com/event-calendar/dairy-hoard-museum-tour/
LOCATION:Bus Trip in town
CATEGORIES:Assisted Living
END:VEVENT
BEGIN:VEVENT
DTSTART;TZID=America/Chicago:20250605T140000
DTEND;TZID=America/Chicago:20250605T150000
DTSTAMP:20260422T165344
CREATED:20250514T214951Z
LAST-MODIFIED:20250604T233632Z
UID:10000115-1749132000-1749135600@reenaseniorliving.com
SUMMARY:American West Art & Artifacts: Presented by: Booth Museum - Cultures of the American West
DESCRIPTION:Monthly Live Interactive Presentations with Q&A Time
URL:https://reenaseniorliving.com/event-calendar/national-memorials-of-washington-d-c-live-presentation-via-zoom-ask-questions-join-in/
LOCATION:Activity Room
CATEGORIES:Assisted Living
END:VEVENT
BEGIN:VEVENT
DTSTART;TZID=America/Chicago:20250605T170000
DTEND;TZID=America/Chicago:20250605T190000
DTSTAMP:20260422T165344
CREATED:20250514T214951Z
LAST-MODIFIED:20250605T234905Z
UID:10000117-1749142800-1749150000@reenaseniorliving.com
SUMMARY:Resident Guided - Social Time
DESCRIPTION:
URL:https://reenaseniorliving.com/event-calendar/resident-guided-social-time-23/
LOCATION:Activity Room
CATEGORIES:Assisted Living
END:VEVENT
BEGIN:VEVENT
DTSTART;TZID=America/Chicago:20250606T091500
DTEND;TZID=America/Chicago:20250606T094500
DTSTAMP:20260422T165344
CREATED:20250514T214951Z
LAST-MODIFIED:20250605T234905Z
UID:10000118-1749201300-1749203100@reenaseniorliving.com
SUMMARY:Movement Class
DESCRIPTION:
URL:https://reenaseniorliving.com/event-calendar/movement-class-17/
LOCATION:Activity Room
CATEGORIES:Assisted Living
END:VEVENT
BEGIN:VEVENT
DTSTART;TZID=America/Chicago:20250606T095000
DTEND;TZID=America/Chicago:20250606T100500
DTSTAMP:20260422T165344
CREATED:20250519T215024Z
LAST-MODIFIED:20250605T234905Z
UID:10000431-1749203400-1749204300@reenaseniorliving.com
SUMMARY:Green Thumbs and Patio Social Time.
DESCRIPTION:Garden and Social Time.
URL:https://reenaseniorliving.com/event-calendar/green-thumbs-and-patio-social-time/
LOCATION:Activity Room Patio
CATEGORIES:Assisted Living
END:VEVENT
BEGIN:VEVENT
DTSTART;TZID=America/Chicago:20250606T095000
DTEND;TZID=America/Chicago:20250606T101000
DTSTAMP:20260422T165344
CREATED:20250514T214952Z
LAST-MODIFIED:20250528T230423Z
UID:10000119-1749203400-1749204600@reenaseniorliving.com
SUMMARY:Outdoor Stroll
DESCRIPTION:
URL:https://reenaseniorliving.com/event-calendar/outdoor-stroll-6/
LOCATION:Activity Room
CATEGORIES:Assisted Living
END:VEVENT
BEGIN:VEVENT
DTSTART;TZID=America/Chicago:20250606T103000
DTEND;TZID=America/Chicago:20250606T110000
DTSTAMP:20260422T165344
CREATED:20250514T214952Z
LAST-MODIFIED:20250605T234905Z
UID:10000120-1749205800-1749207600@reenaseniorliving.com
SUMMARY:Coffee Social Time with Reminiscing
DESCRIPTION:Social Time with Coffee
URL:https://reenaseniorliving.com/event-calendar/coffee-social-time-with-reminiscing-4/
LOCATION:Activity Room
CATEGORIES:Assisted Living
END:VEVENT
BEGIN:VEVENT
DTSTART;TZID=America/Chicago:20250606T130000
DTEND;TZID=America/Chicago:20250606T140000
DTSTAMP:20260422T165344
CREATED:20250514T214952Z
LAST-MODIFIED:20250605T234905Z
UID:10000122-1749214800-1749218400@reenaseniorliving.com
SUMMARY:The Big Show - Review the week!
DESCRIPTION:
URL:https://reenaseniorliving.com/event-calendar/the-big-show-review-the-week-4/
LOCATION:Activity Room
CATEGORIES:Assisted Living,Legacy Court
END:VEVENT
BEGIN:VEVENT
DTSTART;TZID=America/Chicago:20250606T133000
DTEND;TZID=America/Chicago:20250606T140000
DTSTAMP:20260422T165344
CREATED:20250529T232126Z
LAST-MODIFIED:20250605T234905Z
UID:10000577-1749216600-1749218400@reenaseniorliving.com
SUMMARY:Story of Christ reading with volunteer Dorothy
DESCRIPTION:
URL:https://reenaseniorliving.com/event-calendar/story-of-christ-reading-with-volunteer-dorothy/
LOCATION:Pub
CATEGORIES:Assisted Living
END:VEVENT
BEGIN:VEVENT
DTSTART;TZID=America/Chicago:20250606T141500
DTEND;TZID=America/Chicago:20250606T151500
DTSTAMP:20260422T165344
CREATED:20250514T214952Z
LAST-MODIFIED:20250605T234905Z
UID:10000121-1749219300-1749222900@reenaseniorliving.com
SUMMARY:Let's Play Trivia with guest Paul Cervantes!
DESCRIPTION:
URL:https://reenaseniorliving.com/event-calendar/trivia-with-paul-cervantes/
LOCATION:Activity Room
CATEGORIES:Assisted Living
END:VEVENT
BEGIN:VEVENT
DTSTART;TZID=America/Chicago:20250606T150000
DTEND;TZID=America/Chicago:20250606T151500
DTSTAMP:20260422T165344
CREATED:20250514T214952Z
LAST-MODIFIED:20250605T234905Z
UID:10000123-1749222000-1749222900@reenaseniorliving.com
SUMMARY:Your weekly activity packets will be delivered.
DESCRIPTION:
URL:https://reenaseniorliving.com/event-calendar/your-weekly-activity-packets-will-be-delivered-4/
LOCATION:Activity Room
CATEGORIES:Assisted Living
END:VEVENT
BEGIN:VEVENT
DTSTART;TZID=America/Chicago:20250606T170000
DTEND;TZID=America/Chicago:20250606T190000
DTSTAMP:20260422T165344
CREATED:20250514T214952Z
LAST-MODIFIED:20250518T214904Z
UID:10000124-1749229200-1749236400@reenaseniorliving.com
SUMMARY:Resident Guided - Social Time
DESCRIPTION:
URL:https://reenaseniorliving.com/event-calendar/resident-guided-social-time-24/
LOCATION:Activity Room
CATEGORIES:Assisted Living
END:VEVENT
BEGIN:VEVENT
DTSTART;TZID=America/Chicago:20250606T170000
DTEND;TZID=America/Chicago:20250606T190000
DTSTAMP:20260422T165344
CREATED:20250529T232126Z
LAST-MODIFIED:20250529T233751Z
UID:10000578-1749229200-1749236400@reenaseniorliving.com
SUMMARY:Resident Guided - Social Time
DESCRIPTION:
URL:https://reenaseniorliving.com/event-calendar/resident-guided-social-time-46/
LOCATION:Activity Room
CATEGORIES:Assisted Living
END:VEVENT
BEGIN:VEVENT
DTSTART;TZID=America/Chicago:20250607T101500
DTEND;TZID=America/Chicago:20250607T113000
DTSTAMP:20260422T165344
CREATED:20250515T214937Z
LAST-MODIFIED:20250606T234914Z
UID:10000376-1749291300-1749295800@reenaseniorliving.com
SUMMARY:Nails with Laurie - Sign-Up
DESCRIPTION:
URL:https://reenaseniorliving.com/event-calendar/nails-with-laurie-sign-up/
LOCATION:Activity Room
CATEGORIES:Assisted Living
END:VEVENT
BEGIN:VEVENT
DTSTART;TZID=America/Chicago:20250607T110000
DTEND;TZID=America/Chicago:20250607T113000
DTSTAMP:20260422T165344
CREATED:20250514T214952Z
LAST-MODIFIED:20250528T230423Z
UID:10000125-1749294000-1749295800@reenaseniorliving.com
SUMMARY:Biking Time - Open House
DESCRIPTION:Pop in for a few minutes right before lunch. Start with 2-3 minutes.
URL:https://reenaseniorliving.com/event-calendar/biking-time-open-house-7/
LOCATION:Activity Room
CATEGORIES:Assisted Living
END:VEVENT
BEGIN:VEVENT
DTSTART;TZID=America/Chicago:20250607T170000
DTEND;TZID=America/Chicago:20250607T190000
DTSTAMP:20260422T165344
CREATED:20250514T214952Z
LAST-MODIFIED:20250607T234928Z
UID:10000126-1749315600-1749322800@reenaseniorliving.com
SUMMARY:Resident Guided - Social Time
DESCRIPTION:
URL:https://reenaseniorliving.com/event-calendar/resident-guided-social-time-25/
LOCATION:Activity Room
CATEGORIES:Assisted Living
END:VEVENT
BEGIN:VEVENT
DTSTART;TZID=America/Chicago:20250608T110000
DTEND;TZID=America/Chicago:20250608T113000
DTSTAMP:20260422T165344
CREATED:20250514T214952Z
LAST-MODIFIED:20250608T000459Z
UID:10000127-1749380400-1749382200@reenaseniorliving.com
SUMMARY:Biking Time - Open House
DESCRIPTION:Pop in for a few minutes right before lunch. Start with 2-3 minutes.
URL:https://reenaseniorliving.com/event-calendar/biking-time-open-house-8/
LOCATION:Activity Room
CATEGORIES:Assisted Living
END:VEVENT
BEGIN:VEVENT
DTSTART;TZID=America/Chicago:20250608T130000
DTEND;TZID=America/Chicago:20250608T140000
DTSTAMP:20260422T165344
CREATED:20250514T214953Z
LAST-MODIFIED:20250608T000459Z
UID:10000128-1749387600-1749391200@reenaseniorliving.com
SUMMARY:Communion (Catholic Rounds from Andy or Tom)
DESCRIPTION:Volunteer makes rounds to all those who wish to receive communion.
URL:https://reenaseniorliving.com/event-calendar/communion-catholic-rounds-from-andy-or-tom-4/
LOCATION:Reena
CATEGORIES:Assisted Living,Legacy Court
END:VEVENT
BEGIN:VEVENT
DTSTART;TZID=America/Chicago:20250608T170000
DTEND;TZID=America/Chicago:20250608T190000
DTSTAMP:20260422T165344
CREATED:20250514T214953Z
LAST-MODIFIED:20250608T000459Z
UID:10000129-1749402000-1749409200@reenaseniorliving.com
SUMMARY:Resident Guided - Social Time
DESCRIPTION:
URL:https://reenaseniorliving.com/event-calendar/resident-guided-social-time-26/
LOCATION:Activity Room
CATEGORIES:Assisted Living
END:VEVENT
END:VCALENDAR