BEGIN:VCALENDAR
VERSION:2.0
PRODID:-//Reena Senior Living - ECPv6.11.2.1//NONSGML v1.0//EN
CALSCALE:GREGORIAN
METHOD:PUBLISH
X-ORIGINAL-URL:https://reenaseniorliving.com
X-WR-CALDESC:Events for Reena Senior Living
REFRESH-INTERVAL;VALUE=DURATION:PT1H
X-Robots-Tag:noindex
X-PUBLISHED-TTL:PT1H
BEGIN:VTIMEZONE
TZID:America/Chicago
BEGIN:DAYLIGHT
TZOFFSETFROM:-0600
TZOFFSETTO:-0500
TZNAME:CDT
DTSTART:20260308T080000
END:DAYLIGHT
BEGIN:STANDARD
TZOFFSETFROM:-0500
TZOFFSETTO:-0600
TZNAME:CST
DTSTART:20261101T070000
END:STANDARD
END:VTIMEZONE
BEGIN:VEVENT
DTSTART;TZID=America/Chicago:20260114T100000
DTEND;TZID=America/Chicago:20260114T101500
DTSTAMP:20260421T180124
CREATED:20251216T003421Z
LAST-MODIFIED:20251224T020414Z
UID:10003616-1768384800-1768385700@reenaseniorliving.com
SUMMARY:Sing along before Catholic Service.
DESCRIPTION:We will assist you to go next door.
URL:https://reenaseniorliving.com/event-calendar/sing-along-before-catholic-service-33/
LOCATION:Legacy Court
CATEGORIES:Assisted Living,Legacy Court
END:VEVENT
BEGIN:VEVENT
DTSTART;TZID=America/Chicago:20260114T101500
DTEND;TZID=America/Chicago:20260114T105000
DTSTAMP:20260421T180124
CREATED:20251216T003421Z
LAST-MODIFIED:20251226T010410Z
UID:10003618-1768385700-1768387800@reenaseniorliving.com
SUMMARY:Non-Denominational Service with Chaplain Lee
DESCRIPTION:
URL:https://reenaseniorliving.com/event-calendar/non-denominational-service-with-chaplain-lee-7/
LOCATION:Theatre
CATEGORIES:Assisted Living
END:VEVENT
BEGIN:VEVENT
DTSTART;TZID=America/Chicago:20260114T101500
DTEND;TZID=America/Chicago:20260114T111500
DTSTAMP:20260421T180124
CREATED:20251216T003421Z
LAST-MODIFIED:20260114T033403Z
UID:10003617-1768385700-1768389300@reenaseniorliving.com
SUMMARY:Catholic Service at Legacy Court
DESCRIPTION:
URL:https://reenaseniorliving.com/event-calendar/catholic-service-at-legacy-court-10/
LOCATION:Legacy Court
CATEGORIES:Assisted Living,Legacy Court
END:VEVENT
BEGIN:VEVENT
DTSTART;TZID=America/Chicago:20260114T130000
DTEND;TZID=America/Chicago:20260114T143000
DTSTAMP:20260421T180124
CREATED:20251231T013402Z
LAST-MODIFIED:20260114T020402Z
UID:10003813-1768395600-1768401000@reenaseniorliving.com
SUMMARY:Nails with Kayla - sign-up for trim or polish.
DESCRIPTION:
URL:https://reenaseniorliving.com/event-calendar/nails-with-kayla-sign-up-for-trim-or-polish/
LOCATION:Activity Room
CATEGORIES:Assisted Living
END:VEVENT
BEGIN:VEVENT
DTSTART;TZID=America/Chicago:20260114T153000
DTEND;TZID=America/Chicago:20260114T173000
DTSTAMP:20260421T180124
CREATED:20251216T003421Z
LAST-MODIFIED:20260114T020402Z
UID:10003619-1768404600-1768411800@reenaseniorliving.com
SUMMARY:Koshkonong Mounds - Sunset\, Social\, and Dinner. Sign-up please.
DESCRIPTION:
URL:https://reenaseniorliving.com/event-calendar/koshkonong-mounds-sunset-social-and-dinner-sign-up-please/
LOCATION:Bus
CATEGORIES:Assisted Living
END:VEVENT
BEGIN:VEVENT
DTSTART;TZID=America/Chicago:20260114T173000
DTEND;TZID=America/Chicago:20260114T193000
DTSTAMP:20260421T180124
CREATED:20251216T003422Z
LAST-MODIFIED:20251226T010410Z
UID:10003620-1768411800-1768419000@reenaseniorliving.com
SUMMARY:Resident Run Social Time in any Public Space.
DESCRIPTION:
URL:https://reenaseniorliving.com/event-calendar/resident-run-social-time-in-any-public-space-4/
CATEGORIES:Assisted Living
END:VEVENT
BEGIN:VEVENT
DTSTART;TZID=America/Chicago:20260115T091500
DTEND;TZID=America/Chicago:20260115T094500
DTSTAMP:20260421T180124
CREATED:20251217T003415Z
LAST-MODIFIED:20260115T020405Z
UID:10003630-1768468500-1768470300@reenaseniorliving.com
SUMMARY:Movement Class with Kayla
DESCRIPTION:Gentle Movement\, Strength\, Mobility\, Balance\, & More.
URL:https://reenaseniorliving.com/event-calendar/movement-class-with-kayla-122/
LOCATION:Activity Room
CATEGORIES:Assisted Living
END:VEVENT
BEGIN:VEVENT
DTSTART;TZID=America/Chicago:20260115T095000
DTEND;TZID=America/Chicago:20260115T101000
DTSTAMP:20260421T180124
CREATED:20260108T014931Z
LAST-MODIFIED:20260115T020405Z
UID:10003925-1768470600-1768471800@reenaseniorliving.com
SUMMARY:Green Thumbs Garden Club
DESCRIPTION:
URL:https://reenaseniorliving.com/event-calendar/green-thumbs-garden-club-2/
LOCATION:Activity Room
CATEGORIES:Assisted Living
END:VEVENT
BEGIN:VEVENT
DTSTART;TZID=America/Chicago:20260115T100000
DTEND;TZID=America/Chicago:20260115T110000
DTSTAMP:20260421T180124
CREATED:20251225T010423Z
LAST-MODIFIED:20251226T010410Z
UID:10003719-1768471200-1768474800@reenaseniorliving.com
SUMMARY:Current Trends in the Economy with Coffee - e.g. Food\, Housing\, Auto Care\,Travel\, and Education
DESCRIPTION:
URL:https://reenaseniorliving.com/event-calendar/current-trends-in-the-economy-with-coffee-e-g-food-housing-auto-caretravel-and-education/
LOCATION:Activity Room
CATEGORIES:Assisted Living
END:VEVENT
BEGIN:VEVENT
DTSTART;TZID=America/Chicago:20260115T125000
DTEND;TZID=America/Chicago:20260115T135000
DTSTAMP:20260421T180124
CREATED:20251227T010410Z
LAST-MODIFIED:20260115T033404Z
UID:10003748-1768481400-1768485000@reenaseniorliving.com
SUMMARY:TRYathlon Scrimmage Day! Come See What It's All About. Watch & Cheer Us On or Play.
DESCRIPTION:
URL:https://reenaseniorliving.com/event-calendar/tryathlon-walking-day-let-walk-or-do-seated-marching-as-a-team/
LOCATION:Activity Room
CATEGORIES:Assisted Living,Legacy Court
END:VEVENT
BEGIN:VEVENT
DTSTART;TZID=America/Chicago:20260115T140000
DTEND;TZID=America/Chicago:20260115T141500
DTSTAMP:20260421T180124
CREATED:20251217T003415Z
LAST-MODIFIED:20260115T020405Z
UID:10003631-1768485600-1768486500@reenaseniorliving.com
SUMMARY:Pet Therapy Visit
DESCRIPTION:Therapy Dog and Human will visit Lobby and then Legacy Court.
URL:https://reenaseniorliving.com/event-calendar/pet-therapy-visit-9/
LOCATION:Activity Room
CATEGORIES:Assisted Living
END:VEVENT
BEGIN:VEVENT
DTSTART;TZID=America/Chicago:20260115T171500
DTEND;TZID=America/Chicago:20260115T190000
DTSTAMP:20260421T180124
CREATED:20251217T003415Z
LAST-MODIFIED:20251226T010410Z
UID:10003632-1768497300-1768503600@reenaseniorliving.com
SUMMARY:Hand & Foot or Garbage
DESCRIPTION:
URL:https://reenaseniorliving.com/event-calendar/hand-foot-cards-trouble-the-board-game-9/
LOCATION:Activity Room
CATEGORIES:Assisted Living
END:VEVENT
BEGIN:VEVENT
DTSTART;TZID=America/Chicago:20260115T173000
DTEND;TZID=America/Chicago:20260115T193000
DTSTAMP:20260421T180124
CREATED:20251217T003415Z
LAST-MODIFIED:20260108T014932Z
UID:10003633-1768498200-1768505400@reenaseniorliving.com
SUMMARY:Resident Run Social Time in any Public Space.
DESCRIPTION:
URL:https://reenaseniorliving.com/event-calendar/resident-run-social-time-in-any-public-space-5/
CATEGORIES:Assisted Living
END:VEVENT
BEGIN:VEVENT
DTSTART;TZID=America/Chicago:20260115T174500
DTEND;TZID=America/Chicago:20260115T184500
DTSTAMP:20260421T180124
CREATED:20260109T014904Z
LAST-MODIFIED:20260115T020405Z
UID:10003942-1768499100-1768502700@reenaseniorliving.com
SUMMARY:The Flying Scotsman - Documentary 1 hour - Famous Steam Train Journey - UK\, USA\, Australia & More
DESCRIPTION:
URL:https://reenaseniorliving.com/event-calendar/the-flying-scotsman-documentary-1-hour-famous-steam-train-journey-uk-usa-australia-more/
LOCATION:Activity Room
CATEGORIES:Assisted Living
END:VEVENT
BEGIN:VEVENT
DTSTART;TZID=America/Chicago:20260116T091500
DTEND;TZID=America/Chicago:20260116T094500
DTSTAMP:20260421T180124
CREATED:20251218T003411Z
LAST-MODIFIED:20251226T010410Z
UID:10003642-1768554900-1768556700@reenaseniorliving.com
SUMMARY:Movement Class with Kayla
DESCRIPTION:
URL:https://reenaseniorliving.com/event-calendar/movement-class-with-kayla-123/
LOCATION:Activity Room
CATEGORIES:Assisted Living
END:VEVENT
BEGIN:VEVENT
DTSTART;TZID=America/Chicago:20260116T100000
DTEND;TZID=America/Chicago:20260116T103000
DTSTAMP:20260421T180124
CREATED:20251218T003412Z
LAST-MODIFIED:20251226T010410Z
UID:10003643-1768557600-1768559400@reenaseniorliving.com
SUMMARY:Biking and Balance in the Exercise Room in the Basement
DESCRIPTION:
URL:https://reenaseniorliving.com/event-calendar/biking-and-balance-in-the-exercise-room-in-the-basement-12/
LOCATION:Exercise Room Basement
CATEGORIES:Assisted Living
END:VEVENT
BEGIN:VEVENT
DTSTART;TZID=America/Chicago:20260116T100000
DTEND;TZID=America/Chicago:20260116T110000
DTSTAMP:20260421T180124
CREATED:20251227T010410Z
LAST-MODIFIED:20260116T020402Z
UID:10003749-1768557600-1768561200@reenaseniorliving.com
SUMMARY:Current Trends in the Economy with Coffee - e.g. Food\, Housing\, Auto Care\,Travel\, and Education
DESCRIPTION:
URL:https://reenaseniorliving.com/event-calendar/current-trends-in-the-economy-with-coffee-e-g-food-housing-auto-caretravel-and-education-2/
LOCATION:Activity Room
CATEGORIES:Assisted Living
END:VEVENT
BEGIN:VEVENT
DTSTART;TZID=America/Chicago:20260116T130000
DTEND;TZID=America/Chicago:20260116T140000
DTSTAMP:20260421T180124
CREATED:20251231T013402Z
LAST-MODIFIED:20260116T020402Z
UID:10003814-1768568400-1768572000@reenaseniorliving.com
SUMMARY:The Big Show
DESCRIPTION:
URL:https://reenaseniorliving.com/event-calendar/the-big-show-2/
LOCATION:Activity Room
CATEGORIES:Assisted Living
END:VEVENT
BEGIN:VEVENT
DTSTART;TZID=America/Chicago:20260116T140000
DTEND;TZID=America/Chicago:20260116T143000
DTSTAMP:20260421T180124
CREATED:20251227T010410Z
LAST-MODIFIED:20260116T033403Z
UID:10003750-1768572000-1768573800@reenaseniorliving.com
SUMMARY:Drumming Class with Jen!
DESCRIPTION:
URL:https://reenaseniorliving.com/event-calendar/drumming-class-with-jen/
LOCATION:Activity Room
CATEGORIES:Assisted Living,Legacy Court
END:VEVENT
BEGIN:VEVENT
DTSTART;TZID=America/Chicago:20260116T150000
DTEND;TZID=America/Chicago:20260116T151500
DTSTAMP:20260421T180124
CREATED:20251218T003412Z
LAST-MODIFIED:20260116T020402Z
UID:10003644-1768575600-1768576500@reenaseniorliving.com
SUMMARY:Your weekly activity packets will be delivered.
DESCRIPTION:
URL:https://reenaseniorliving.com/event-calendar/your-weekly-activity-packets-will-be-delivered-36/
LOCATION:Activity Room
CATEGORIES:Assisted Living
END:VEVENT
BEGIN:VEVENT
DTSTART;TZID=America/Chicago:20260116T173000
DTEND;TZID=America/Chicago:20260116T193000
DTSTAMP:20260421T180124
CREATED:20251218T003412Z
LAST-MODIFIED:20251230T011903Z
UID:10003645-1768584600-1768591800@reenaseniorliving.com
SUMMARY:Resident Run Social Time in any Public Space.
DESCRIPTION:
URL:https://reenaseniorliving.com/event-calendar/resident-run-social-time-in-any-public-space-6/
CATEGORIES:Assisted Living
END:VEVENT
BEGIN:VEVENT
DTSTART;TZID=America/Chicago:20260116T173000
DTEND;TZID=America/Chicago:20260116T193000
DTSTAMP:20260421T180124
CREATED:20260109T014905Z
LAST-MODIFIED:20260116T020402Z
UID:10003943-1768584600-1768591800@reenaseniorliving.com
SUMMARY:Resident Run Social Time in any Public Space.
DESCRIPTION:
URL:https://reenaseniorliving.com/event-calendar/resident-run-social-time-in-any-public-space-26/
CATEGORIES:Assisted Living
END:VEVENT
BEGIN:VEVENT
DTSTART;TZID=America/Chicago:20260117T091500
DTEND;TZID=America/Chicago:20260117T094500
DTSTAMP:20260421T180124
CREATED:20251227T010410Z
LAST-MODIFIED:20260117T020421Z
UID:10003751-1768641300-1768643100@reenaseniorliving.com
SUMMARY:Movement Class with Kayla - Yes\, it's the right time.
DESCRIPTION:
URL:https://reenaseniorliving.com/event-calendar/movement-class-with-kayla-128/
LOCATION:Activity Room
CATEGORIES:Assisted Living
END:VEVENT
BEGIN:VEVENT
DTSTART;TZID=America/Chicago:20260117T102000
DTEND;TZID=America/Chicago:20260117T105500
DTSTAMP:20260421T180124
CREATED:20251227T010410Z
LAST-MODIFIED:20251230T011903Z
UID:10003752-1768645200-1768647300@reenaseniorliving.com
SUMMARY:Biking & Balance - A few minutes of each. For strength\, balance\, and fall prevention.
DESCRIPTION:
URL:https://reenaseniorliving.com/event-calendar/biking-balance-a-few-minutes-of-each-for-strength-balance-and-fall-prevention-2/
LOCATION:Exercise Room Basement
CATEGORIES:Assisted Living
END:VEVENT
BEGIN:VEVENT
DTSTART;TZID=America/Chicago:20260117T173000
DTEND;TZID=America/Chicago:20260117T193000
DTSTAMP:20260421T180124
CREATED:20251219T003411Z
LAST-MODIFIED:20260117T020421Z
UID:10003651-1768671000-1768678200@reenaseniorliving.com
SUMMARY:Resident Run Social Time in any Public Space.
DESCRIPTION:
URL:https://reenaseniorliving.com/event-calendar/resident-run-social-time-in-any-public-space-7/
CATEGORIES:Assisted Living
END:VEVENT
BEGIN:VEVENT
DTSTART;TZID=America/Chicago:20260118T100000
DTEND;TZID=America/Chicago:20260118T103500
DTSTAMP:20260421T180124
CREATED:20260116T020401Z
LAST-MODIFIED:20260118T020413Z
UID:10004041-1768730400-1768732500@reenaseniorliving.com
SUMMARY:Biking & Balance - A few minutes of each. For strength\, balance\, and fall prevention.
DESCRIPTION:
URL:https://reenaseniorliving.com/event-calendar/biking-balance-a-few-minutes-of-each-for-strength-balance-and-fall-prevention-10/
LOCATION:Exercise Room Basement
CATEGORIES:Assisted Living
END:VEVENT
BEGIN:VEVENT
DTSTART;TZID=America/Chicago:20260118T130000
DTEND;TZID=America/Chicago:20260118T140000
DTSTAMP:20260421T180124
CREATED:20251227T010410Z
LAST-MODIFIED:20260118T020413Z
UID:10003753-1768741200-1768744800@reenaseniorliving.com
SUMMARY:Bingo with Kayla!
DESCRIPTION:
URL:https://reenaseniorliving.com/event-calendar/bingo-bonanza-with-kayla/
LOCATION:Activity Room
CATEGORIES:Assisted Living
END:VEVENT
BEGIN:VEVENT
DTSTART;TZID=America/Chicago:20260118T130000
DTEND;TZID=America/Chicago:20260118T143000
DTSTAMP:20260421T180124
CREATED:20251231T013403Z
LAST-MODIFIED:20260118T020413Z
UID:10003815-1768741200-1768746600@reenaseniorliving.com
SUMMARY:Catholic Communion Visits with Tom or Andy - Volunteers
DESCRIPTION:
URL:https://reenaseniorliving.com/event-calendar/catholic-communion-visits-with-tom-or-andy-volunteers-3/
CATEGORIES:Assisted Living
END:VEVENT
BEGIN:VEVENT
DTSTART;TZID=America/Chicago:20260118T140000
DTEND;TZID=America/Chicago:20260118T170000
DTSTAMP:20260421T180124
CREATED:20260116T020401Z
LAST-MODIFIED:20260118T034903Z
UID:10004042-1768744800-1768755600@reenaseniorliving.com
SUMMARY:NFL Match Up - Houston Texans vs. New England Patriots
DESCRIPTION:
URL:https://reenaseniorliving.com/event-calendar/nfl-match-up-houston-texans-vs-new-england-patriots/
LOCATION:TV
CATEGORIES:Assisted Living,Legacy Court
END:VEVENT
BEGIN:VEVENT
DTSTART;TZID=America/Chicago:20260118T151500
DTEND;TZID=America/Chicago:20260118T161500
DTSTAMP:20260421T180124
CREATED:20251227T010410Z
LAST-MODIFIED:20260115T020418Z
UID:10003754-1768749300-1768752900@reenaseniorliving.com
SUMMARY:Leg Biking\, Arm Biking &/or Balance Training with Kayla - Open House.
DESCRIPTION:
URL:https://reenaseniorliving.com/event-calendar/biking-and-balance-with-kayla-open-house-come-during-this-time-to-do-what-works-for-you/
LOCATION:Exercise Room Basement
CATEGORIES:Assisted Living
END:VEVENT
END:VCALENDAR